BEGIN:VCALENDAR
VERSION:2.0
PRODID:-//SVACS - ECPv6.15.1.1//NONSGML v1.0//EN
CALSCALE:GREGORIAN
METHOD:PUBLISH
X-ORIGINAL-URL:https://www.siliconvalleyacs.org
X-WR-CALDESC:Events for SVACS
REFRESH-INTERVAL;VALUE=DURATION:PT1H
X-Robots-Tag:noindex
X-PUBLISHED-TTL:PT1H
BEGIN:VTIMEZONE
TZID:America/Los_Angeles
BEGIN:DAYLIGHT
TZOFFSETFROM:-0800
TZOFFSETTO:-0700
TZNAME:PDT
DTSTART:20240310T100000
END:DAYLIGHT
BEGIN:STANDARD
TZOFFSETFROM:-0700
TZOFFSETTO:-0800
TZNAME:PST
DTSTART:20241103T090000
END:STANDARD
END:VTIMEZONE
BEGIN:VEVENT
DTSTART;TZID=America/Los_Angeles:20240210T103000
DTEND;TZID=America/Los_Angeles:20240210T120000
DTSTAMP:20260424T161350
CREATED:20240110T002956Z
LAST-MODIFIED:20240110T002956Z
UID:20613-1707561000-1707566400@www.siliconvalleyacs.org
SUMMARY:Toxic Beauty: The Effects of Phthalates and Bisphenols on Human Stem Cells and Embryo Development
DESCRIPTION:Sonya M. Schuh\, PhD\nSponsored by Women Chemists Committee\, California ACS Section\n10:30-Noon\, Online via Zoom\, Free\, Registration required | View flyer \nAbstract: Dr. Schuh’s research focuses on reproductive and developmental biology and toxicology. Her talk delves into the prevalent challenges of the current plastics and environmental toxin crisis\, and their effects on human health\, fertility\, and congenital defects. Ubiquitous chemicals like bisphenol A (BPA) and phthalates\, present in a wide variety of plastics\, cosmetics\, personal care\, and household products\, disrupt hormones and pathways and act as endocrine-disrupting chemicals (EDCs) in the body. Despite efforts over the last several years to replace BPA with alternatives labeled “BPA-Free\,” Dr. Schuh’s work has revealed that these substitutes actually carry similar\, and in some cases much worse\, toxic risks. She and her all–woman undergraduate research team were recently featured in a docuseries on HBO Max entitled “Not So Pretty\,” which highlights their research on the toxic and teratogenic effects of bisphenols and phthalates on embryo development. Schuh\, a self-proclaimed “Science Queen” and her team of “STEM Chicks\,” also did testing of chemicals in various beauty products featured by the series. The Schuh lab has since filmed for another upcoming documentary and has published several impactful manuscripts\, with this work getting national and global attention. All of Dr. Schuh’s recent findings emphasize the potential implications for human health and fertility\, especially for women\, urging consumer awareness\, policy reform\, sustainable alternatives\, and putting ‘people over profit.’ \nAbout the Speaker: Dr. Sonya Schuh is a passionate mother\, teacher\, scientist\, artist\, athlete\, environmentalist\, and STEMinist. Originally from San Diego and inland Southern California\, she grew up exploring nature\, the ocean\, and enjoying all things outdoors. An inquisitive bold nature\, fascination with life and the natural world\, and being the product of educator parents\, would eventually lead her to a science career. She earned a BS in Marine Biology and Zoology from Humboldt State University\, where she conducted marine research and worked as a Marine Naturalist. She then completed her PhD in Physiology and Biophysics at the University of Washington in Seattle\, focusing on chemical effects on sperm. Later\, at Stanford’s Stem Cell Biology Institute\, she delved into genes and environmental factors affecting human fertility and led the largest study to date on genes linked with ovarian reserve (oocyte number) in women. Joining Saint Mary’s College of California in 2013\, she initiated a research program on the impact of endocrine disruptors on embryos of various species and animal and human stem cells. Dedicated to teaching and diverse collaborations\, her most cherished accomplishment is her three children\, inspiring her ongoing commitment to shaping a better world. Dr. Sonya says\, “Of all my accolades and work\, my three amazing children are hands-down my best and proudest accomplishments\, with my long list of wonderful students coming in second. They all inspire me to continue paving new paths\, breaking barriers\, challenging status quos\, and working towards a better future. We can make a difference by the way we pursue answers and solutions\, communicate our work\, treat other people\, and care for all people and life of this earth. I still have a lot of hope.”
URL:https://www.siliconvalleyacs.org/event/toxic-beauty-the-effects-of-phthalates-and-bisphenols-on-human-stem-cells-and-embryo-development/
LOCATION:Virtual
CATEGORIES:Webinar
ATTACH;FMTTYPE=image/png:https://www.siliconvalleyacs.org/wp-content/uploads/2024/01/Sonya-Schuh-WCC-speaker.png
END:VEVENT
END:VCALENDAR