BEGIN:VCALENDAR
VERSION:2.0
PRODID:-//SVACS - ECPv6.15.1.1//NONSGML v1.0//EN
CALSCALE:GREGORIAN
METHOD:PUBLISH
X-WR-CALNAME:SVACS
X-ORIGINAL-URL:https://www.siliconvalleyacs.org
X-WR-CALDESC:Events for SVACS
REFRESH-INTERVAL;VALUE=DURATION:PT1H
X-Robots-Tag:noindex
X-PUBLISHED-TTL:PT1H
BEGIN:VTIMEZONE
TZID:America/Los_Angeles
BEGIN:DAYLIGHT
TZOFFSETFROM:-0800
TZOFFSETTO:-0700
TZNAME:PDT
DTSTART:20230312T100000
END:DAYLIGHT
BEGIN:STANDARD
TZOFFSETFROM:-0700
TZOFFSETTO:-0800
TZNAME:PST
DTSTART:20231105T090000
END:STANDARD
END:VTIMEZONE
BEGIN:VEVENT
DTSTART;TZID=America/Los_Angeles:20230428T160000
DTEND;TZID=America/Los_Angeles:20230428T170000
DTSTAMP:20260425T131117
CREATED:20230108T145703Z
LAST-MODIFIED:20230108T145703Z
UID:19522-1682697600-1682701200@www.siliconvalleyacs.org
SUMMARY:21st Annual Bunnett Symposium\, UC Santa Cruz Department of Chemistry and Biochemistry
DESCRIPTION:Featured lecturer Dr. John Warner\, co-founder of the field of Green Chemistry\n4pm. Learn more\n\nThis annual event was established in 2001 to honor and celebrate the late Prof. Joseph Bunnett’s seminal contributions: Prof. Bunnett was a pioneer in his sub-discipline of physical organic chemistry and a founding member of our department. The Bunnett Symposium has evolved into an opportunity to connect past and present friends of the Department for discussion\, accompanied by exposure to seminal ideas in chemistry through the distinguished lecture\, and an Awards Ceremony where we honor the academic and research achievements of our current crop of outstanding undergraduates.  \nJohn Warner is a chemistry Inventor and cofounder of the field of Green Chemistry\nIn the early 1990’s John realized that global students in chemistry had little (or no) training in predictive toxicology or understanding of environmental systems. He felt that the consequence of this lack of training was a root cause for why many industrial products and processes have negative impacts on human health and the environment. He realized that an ongoing lack of training would forever inhibit the invention of better\, more sustainable technologies. Together with Paul Anastas\, he defined the field of Green Chemistry and created the 12 Principles of Green Chemistry. He has spent his life working to change the field of chemistry and the education of future chemists to ensure that all practicing chemists will one day have the necessary skills to invent truly sustainable technologies. Together with Dr. Amy Cannon\, he founded the non-profit\, Beyond Benign that offers the “Green Chemistry Commitment” that asks University Chemistry programs to add the principles of green chemistry into their required curriculum. As of 2022 nearly 100 international universities have signed this commitment. John’s career has spanned all aspects of the chemical enterprises\, providing real world examples of green chemistry: \nAs an Industrial Chemist: \n\nWorked for Polaroid Corporation and The Zymergen Corporation.\nReceived the Perkin Medal in 2014. (Highest honor in US Chemical Industry)\nFlied over 330 patents.\nInvented technologies for companies including Nike\, Givaudan\, Covestro\, Lanxess and Entegris.\nServed on advisory boards for companies including Dow\, Nike\, Levis and Apple\n\nAs an Academic Chemist: \n\nFull Professor of Chemistry at University of Massachusetts Boston\nFull Professor of Plastics Engineering at University of Massachusetts Lowell\nDistinguished Professor of Green Chemistry at Monash University\nHonorary Professor of Chemistry at Technical University of Berlin\nVisiting Professor at AgroParis Tech\nGlobal Chair of Sustainability at University of Bath\nCreated world’s first graduate program in Green Chemistry.\nOver 100 publications\nReceived Presidential Award for Excellence in Science Mentoring in 2004\nReceived the August Wilhelm von Hofmann medal in 2022\n\nAs Entrepreneur: \n\nNamed Lemelson Invention Ambassador in 2016\nCreated 6 ongoing companies\n\nWarner Babcock Institute for Green Chemistry\nBeyond Benign\nCollaborative Medicinal Development\nCollaborative Aggregates\nAmbient Photonics\nHairprint\n\n\nTU Berlin named the John Warner Center for Startups in Green Chemistry\n\nAs Chemicals Policy Advisor: \n\nCofounder of US EPA Green Chemistry Challenge Award\nStrategic Advisor Victorian Environmental Protection Agency\nCochair California Green Chemistry Science Advisory Board\nTestified to US Congress on The Sustainable Chemistry Research and Development Act of 2019
URL:https://www.siliconvalleyacs.org/event/21st-annual-bunnett-symposium-uc-santa-cruz-department-of-chemistry-and-biochemistry/
LOCATION:In-Person in Mountain View at Cuesta Park Group BBQ Areas #1-2\, 615 Cuesta Drive\, Mountain View\, CA\, United States
CATEGORIES:Symposium
ATTACH;FMTTYPE=image/jpeg:https://www.siliconvalleyacs.org/wp-content/uploads/2023/01/Bunnett-Symposium.jpg
END:VEVENT
END:VCALENDAR