BEGIN:VCALENDAR
VERSION:2.0
PRODID:-//SVACS - ECPv6.15.1.1//NONSGML v1.0//EN
CALSCALE:GREGORIAN
METHOD:PUBLISH
X-ORIGINAL-URL:https://www.siliconvalleyacs.org
X-WR-CALDESC:Events for SVACS
REFRESH-INTERVAL;VALUE=DURATION:PT1H
X-Robots-Tag:noindex
X-PUBLISHED-TTL:PT1H
BEGIN:VTIMEZONE
TZID:America/Los_Angeles
BEGIN:DAYLIGHT
TZOFFSETFROM:-0800
TZOFFSETTO:-0700
TZNAME:PDT
DTSTART:20260308T100000
END:DAYLIGHT
BEGIN:STANDARD
TZOFFSETFROM:-0700
TZOFFSETTO:-0800
TZNAME:PST
DTSTART:20261101T090000
END:STANDARD
END:VTIMEZONE
BEGIN:VEVENT
DTSTART;TZID=America/Los_Angeles:20260326T190000
DTEND;TZID=America/Los_Angeles:20260326T200000
DTSTAMP:20260423T140747
CREATED:20260301T003747Z
LAST-MODIFIED:20260301T003747Z
UID:22502-1774551600-1774555200@www.siliconvalleyacs.org
SUMMARY:Reinventing the Way We Break Down Plastic Waste (SLAC Public Lecture)
DESCRIPTION:Thursday\, March 26\, 2026\, from 7:00–8:00 p.m. PDT\nSLAC National Accelerator Laboratory\, Kavli Auditorium\nWatch online or register to attend in person. Learn more \nFrom our kitchens to our clothes to the delivery of medicines\, plastics play an indispensable role in our daily lives. But\, the end-life of these plastics is not always taken into account. Few types of plastics can be readily recycled\, and durable plastics take centuries to break down in landfills or in the environment. Here at SLAC\, we are designing chemical processes that can break down plastics under controlled conditions while also making useful products. Using X-ray light\, we observe the details of this breakdown at the atomic level and use this information to design pathways for the degradation of plastics into useful products. We are members of a consortium that aims to make tomorrow’s plastics recyclable and biodegradable by design. In this lecture\, I will describe my work on visualizing and improving our methods for breaking down plastic waste into useful products. \n\n\n\n\nAbout Ozge Bozkurt\nOzge Bozkurt is a chemical and biological engineer\, with bachelor’s of science degrees in molecular biology & genetics\, and chemical engineering from the Istanbul Technical University\, a master’s of science degree from Delft University of Technology and a PhD from Koc University. She has worked in the oil and gas industry as a research and development engineer with a specialization in biofuels. She is currently a research associate at SLAC\, conducting experiments on chemical recycling of plastic waste. Working at the Stanford Synchrotron Radiation Lightsource at SLAC\, she uses powerful X-rays to observe polymer breakdown and catalysts in action. In her free time she enjoys visiting science museums and has volunteered at many STEM outreach activities at SLAC.
URL:https://www.siliconvalleyacs.org/event/reinventing-the-way-we-break-down-plastic-waste-slac-public-lecture/
LOCATION:Hybrid
CATEGORIES:Webinar,Public Lecture
ATTACH;FMTTYPE=image/jpeg:https://www.siliconvalleyacs.org/wp-content/uploads/2026/02/Breaking-down-plastics-e1772325491803.jpg
END:VEVENT
END:VCALENDAR