BEGIN:VCALENDAR
VERSION:2.0
PRODID:-//SVACS - ECPv6.15.1.1//NONSGML v1.0//EN
CALSCALE:GREGORIAN
METHOD:PUBLISH
X-WR-CALNAME:SVACS
X-ORIGINAL-URL:https://www.siliconvalleyacs.org
X-WR-CALDESC:Events for SVACS
REFRESH-INTERVAL;VALUE=DURATION:PT1H
X-Robots-Tag:noindex
X-PUBLISHED-TTL:PT1H
BEGIN:VTIMEZONE
TZID:America/Los_Angeles
BEGIN:DAYLIGHT
TZOFFSETFROM:-0800
TZOFFSETTO:-0700
TZNAME:PDT
DTSTART:20250309T100000
END:DAYLIGHT
BEGIN:STANDARD
TZOFFSETFROM:-0700
TZOFFSETTO:-0800
TZNAME:PST
DTSTART:20251102T090000
END:STANDARD
END:VTIMEZONE
BEGIN:VEVENT
DTSTART;TZID=America/Los_Angeles:20250213T100000
DTEND;TZID=America/Los_Angeles:20250213T111500
DTSTAMP:20260424T055115
CREATED:20250112T235431Z
LAST-MODIFIED:20250112T235431Z
UID:21594-1739440800-1739445300@www.siliconvalleyacs.org
SUMMARY:Plastics Circularity: Origins and New Developments in Recycling
DESCRIPTION:Sponsored by ACS Webinars and Science History Institute\n10:00 am-11:15\, Online\, Free\, Registration required\n\n“Today’s technologies are ready for the recycle and reuse of a variety of post-consumer plastic streams. However\, achieving scale and competitive economics are necessary to create a circular economy for plastics and create a significant impact. Join an expert panel as they contribute their perspectives from various parts of the recycling process and offer a primer in the history of recycling and the contemporary efforts to move from a linear plastics economy to a circular one. \n\n\n\nFirst\, Mimi Joy Cooper and Kaitlyn Zajkowski of the Centre County Recycling and Refuse Authority will discuss how they provide environmentally sound and economically efficient integrated waste management as well as the unique challenges that engenders for their team\, particularly on football Saturdays at Penn State University. Next Jeff Carbeck of Eastman Chemical will provide an overview of chemical recycling as well as the innovative processes their company applies with PET resin. Finally\, Hendrik Dullinger of EFS-plastics Inc. will introduce and explore the state-of-the art mechanical recycling of multiple polymer types. \nThis ACS Webinar is moderated by Bill Tuszynski of the Science History Institute is co-produced with SHI as part of the Joseph Priestley Society (JPS) series that promotes a deeper understanding of science\, technology\, and industry\, with an emphasis on innovation and entrepreneurship. \n\n\n\n\n\n\nWhat You Will Learn\n\nWhat are the critical success factors for collecting and sorting post-consumer recycled plastics\nHow chemical recycling allows for the cost-effective production of virgin resin\nHow mechanical recyclers meet customer performance requirements”\n\n\n\n\n\n\n\nWebinar Details\n\nThursday\, February 13\, 2025 @ 1:00-2:15pm ET\nFree to register with ACS ID\nSlides will be available on day of the Live event\n\n\n\n\n\n\n\nCo-Produced With\nScience History Institute
URL:https://www.siliconvalleyacs.org/event/plastics-circularity-origins-and-new-developments-in-recycling/
LOCATION:Virtual
CATEGORIES:ACS Webinars
ATTACH;FMTTYPE=image/png:https://www.siliconvalleyacs.org/wp-content/uploads/2025/01/Plastics-Circularity.png
END:VEVENT
END:VCALENDAR