BEGIN:VCALENDAR
VERSION:2.0
PRODID:-//SVACS - ECPv6.15.1.1//NONSGML v1.0//EN
CALSCALE:GREGORIAN
METHOD:PUBLISH
X-WR-CALNAME:SVACS
X-ORIGINAL-URL:https://www.siliconvalleyacs.org
X-WR-CALDESC:Events for SVACS
REFRESH-INTERVAL;VALUE=DURATION:PT1H
X-Robots-Tag:noindex
X-PUBLISHED-TTL:PT1H
BEGIN:VTIMEZONE
TZID:America/Los_Angeles
BEGIN:DAYLIGHT
TZOFFSETFROM:-0800
TZOFFSETTO:-0700
TZNAME:PDT
DTSTART:20240310T100000
END:DAYLIGHT
BEGIN:STANDARD
TZOFFSETFROM:-0700
TZOFFSETTO:-0800
TZNAME:PST
DTSTART:20241103T090000
END:STANDARD
END:VTIMEZONE
BEGIN:VEVENT
DTSTART;TZID=America/Los_Angeles:20240125T173000
DTEND;TZID=America/Los_Angeles:20240125T200000
DTSTAMP:20260424T194523
CREATED:20231209T034152Z
LAST-MODIFIED:20240123T210154Z
UID:20564-1706203800-1706212800@www.siliconvalleyacs.org
SUMMARY:Mosher Award Reception and Lecture
DESCRIPTION:The 2023 Mosher Award recipients are Drs. Cynthia Maryanoff and Bruce Maryanoff.   \n\nDate: Thursday\, January 25\, 2024\nTime: Networking Reception 5:30-7pm\, Presentations 7-8pm\nLocation: SAPP Center\, Stanford University. The SAPP Center for Science Teaching and Learning is located in the remodeled “Old Chemistry” building on Stanford Campus. 376 Lomita Dr\, Stanford.  Free parking at Roth Way Garage after 4pm (see map at bottom of this entry).\nCost: $20 per person. To be collected at the door\, cash or checks only.  Registration required\nView flyer\n\nInitiated in 1980\, the Silicon Valley ACS Harry and Carol Mosher Award recognizes individuals who advance the chemistry profession\, make impactful scientific contributions\, and support ACS in their outreach efforts to share chemistry with the general public.  The award includes an ACS engraved plaque\, a $2\,000 honorarium\, and a Mosher Lecture event.  \nAbstracts\nAdventures in Drug Discovery: TOPAMAX® (Topiramate) for Treating Epilepsy and Migraine. Bruce E. Maryanoff\, formerly at Johnson & Johnson Pharmaceutical Research & Development\, Spring House\, PA 19477-0776 \nDuring my 35-year career in the pharmaceutical industry (Johnson & Johnson) as a drug hunter\, I have encountered many therapeutic targets and many clinical candidates. Under the old drug discovery paradigm of phenotypic assessment\, I discovered TOPAMAX (topiramate)\, a billion-dollar drug for treating epilepsy and migraine headache. Its mechanisms of actions are diverse\, but still not fully understood. Phenotypic assessment mainly involves pharmacological and cellular methodology\, an approach which has become disfavored in the 21st century\, given the wealth of receptor and enzyme molecular targets that have emerged\, especially since the sequencing of the human genome. Nevertheless\, phenotypic assessment still can have a valuable role to play for certain unmet medical needs. \nWhy Hawaii? Kona Coffee!  Cyndie Maryanoff.  Co-CEO and CTO at Absolute Palate®\, Holicong\, PA 18928 \nIn 2015\, Bruce and Cyndie Maryanoff established Absolute Palate® LLC (www.absolute- palate.com) as a coffee business on the Big Island of Hawaii. Thus\, their long-standing passion for exceptional coffees and love of Hawaii were merged. A special interest in premium\, single-estate 100% Kona coffee\, led them to purchase two coffee farms in the iconic Kona Coffee Belt\, which provide coffee fruit that is hand-picked\, processed into green beans\, and custom-roasted in small batches with a fluidized-bed air roaster. They assembled a laboratory for on-site decaffeination\, thereby extracting green beans with supercritical carbon dioxide to furnish a flavorful 100% Kona decaf coffee (Absolute Decaf). Cyndie will discuss this coffee project and the organic chemistry that contributes to coffee’s special aroma and flavor. \nBrief Biographical Information\nBruce Maryanoff received a BS and PhD at the Drexel Institute of Technology in Philadelphia and was a postdoctoral fellow at Princeton.  He then embarked on a decades-long career in research and management with Johnson & Johnson.  He is currently a Visiting Investigator at the Scripps Research Institute in La Jolla\, CA.  View biography  \nCynthia Maryanoff received a BS at Drexel University and a PhD at Princeton University.  She performed postdoctoral research at Princeton.  She joined Johnson & Johnson for a long career in research and management.  She is currently a Foundation Distinguished Professor at the Baruch S. Blumberg Institute in Doylestown PA.  View biography  \nBoth Maryanoffs have extensive experience in drug discovery and management in the pharmaceutical industry.  They are long-term active participants and supporters of ACS activities.  They are founders of the Maryanoff Scholars – an annual program to assist undergraduate chemistry students in research in chemistry at Drexel University.  The Maryanoffs also founded Absolute Palate LLC\, a coffee company specializing in single-estate 100% Kona coffee\, with two coffee farms in Hawaii.
URL:https://www.siliconvalleyacs.org/event/mosher-award-reception-and-lecture/
LOCATION:In-person
CATEGORIES:Awards,Lecture
ATTACH;FMTTYPE=image/png:https://www.siliconvalleyacs.org/wp-content/uploads/2023/12/Mosher-Awards-Featured-Image-for-Event.png
END:VEVENT
END:VCALENDAR