BEGIN:VCALENDAR
VERSION:2.0
PRODID:-//SVACS - ECPv6.15.1.1//NONSGML v1.0//EN
CALSCALE:GREGORIAN
METHOD:PUBLISH
X-ORIGINAL-URL:https://www.siliconvalleyacs.org
X-WR-CALDESC:Events for SVACS
REFRESH-INTERVAL;VALUE=DURATION:PT1H
X-Robots-Tag:noindex
X-PUBLISHED-TTL:PT1H
BEGIN:VTIMEZONE
TZID:America/Los_Angeles
BEGIN:DAYLIGHT
TZOFFSETFROM:-0800
TZOFFSETTO:-0700
TZNAME:PDT
DTSTART:20230312T100000
END:DAYLIGHT
BEGIN:STANDARD
TZOFFSETFROM:-0700
TZOFFSETTO:-0800
TZNAME:PST
DTSTART:20231105T090000
END:STANDARD
END:VTIMEZONE
BEGIN:VEVENT
DTSTART;TZID=America/Los_Angeles:20230907T110000
DTEND;TZID=America/Los_Angeles:20230907T120000
DTSTAMP:20260424T205551
CREATED:20230806T214237Z
LAST-MODIFIED:20230806T214330Z
UID:20127-1694084400-1694088000@www.siliconvalleyacs.org
SUMMARY:Transforming Challenges into Opportunities: Mentors\, Imposter Syndrome\, and Diversity
DESCRIPTION:Sponsored by ACS Webinars and ACS Office of Diversity\, Equity\, Inclusion and Respect (DEIR)\n11am-Noon\, Online via Zoom\, Free\, Registration required\n\nHow can you choose a mentor that will support your academic and personal career goals? How do you recognize and overcome imposter syndrome? How can you champion diversity and why is it vital to do so? \nDr. Armando M. Rivera-Figueroa\, Dean of Economic Development and Workforce Education at Los Angeles City College will share the inspirational story of his journey overcoming challenges and embracing opportunities on his way to a successful academic career as a Community College chemistry faculty\, investigator\, and administrator. Learn the importance of choosing and having a mentor at all stages of an academic and professional career\, how imposter syndrome can show up unannounced\, why it is important to recognize it\, and ways to overcome it; and finally\, how to champion diversity\, when and how to speak up\, and why it is important to do it. Register now to learn how to embrace diversity\, take as many opportunities as possible\, and never be ashamed to ask for help! \nThis ACS Webinar is moderated by Rajendrani Mukhopadhyay\, Senior Vice President of the Office of Diversity\, Equity\, Inclusion\, and Respect (DEIR) at the American Chemical Society and is co-produced by the Office of DEIR at ACS. \n\n\n\nWhat You Will Learn\n\nHow to find support and mentorship as student and professional\nHow to overcome imposter syndrome\nExamples of strategies to champion diversity\n\n\n\n\n\n\n\nWebinar Details\n\nThursday\, September 7\, 2023 @ 2-3pm ET\nFree to Register with ACS ID\nThe slides will be available for download on the day of the event\n\n\n\n\nCo-produced With\n\n\n\n\n\n\n\n\n\n\n\nACS Office of Diversity\, Equity\, Inclusion and Respect
URL:https://www.siliconvalleyacs.org/event/transforming-challenges-into-opportunities-mentors-imposter-syndrome-and-diversity/
LOCATION:Virtual
CATEGORIES:ACS Webinars
ATTACH;FMTTYPE=image/jpeg:https://www.siliconvalleyacs.org/wp-content/uploads/2023/08/ACS-webinar-Transforming-challenges-into-opportunities.jpg
END:VEVENT
BEGIN:VEVENT
DTSTART;TZID=America/Los_Angeles:20230914T110000
DTEND;TZID=America/Los_Angeles:20230914T120000
DTSTAMP:20260424T205551
CREATED:20230906T070645Z
LAST-MODIFIED:20230906T070645Z
UID:20223-1694689200-1694692800@www.siliconvalleyacs.org
SUMMARY:Mass Spectrometry Made Simple; or\, How to Weigh a Molecule (Even Though There Isn’t a Way to Weigh a Molecule)
DESCRIPTION:Sponsored by ACS Webinars and ACS Office of Career and Professional Education\nOnline via Zoom\, Free\, Registration required\n\nWhat does an exploding car and a motorboat have in common with mass spectrometry? \n\n\n\nLee Polite of Axion Anyaltical Labs and his entertaining analogies return to ACS Webinars for another journey through the world of mass spectrometry! Mass spectrometry is one of the most important analytical tools available to scientists\, but many chemists feel its complexity is beyond understanding. From the fundamentals to quadrupoles to GCMS to LCMS to triple quadrupoles\, he will explain how these different instruments work\, how best to choose the most appropriate tool for a specific application\, and break down this seemingly complex topic into simple steps appropriate for scientists at all levels of experience! \nThis ACS Webinar is moderated by Bryan Tweedy of the American Chemical Society and co-produced with the Office of Career and Professional Education. \n\n\n\n\n\n\nWhat You Will Learn\n\nThe fundamental operation of a mass spectrometer\, the world’s most powerful identification tool\nWhy GC/MS is the single best approach for identifying most unknowns\, while LC/MS/MS is by far the most sensitive instrument on the market\nHow to differentiate among the various instrument choices\n\n\n\n\n\n\n\nWebinar Details\n\nThursday\, September 14\, 2023 @ 2-3pm ET\nFree to Register with ACS ID\nThe slides will be available for download on the day of the event\n\n\n\n\n\n\n\nCo-produced With\n\n\n\n\n\n\n\n\n\n\n\nACS Office of Career and Professional Education
URL:https://www.siliconvalleyacs.org/event/mass-spectrometry-made-simple-or-how-to-weigh-a-molecule-even-though-there-isnt-a-way-to-weigh-a-molecule/
LOCATION:Virtual
CATEGORIES:ACS Webinars
ATTACH;FMTTYPE=image/jpeg:https://www.siliconvalleyacs.org/wp-content/uploads/2023/09/Mass-spectrometry-made-simple.jpg
END:VEVENT
BEGIN:VEVENT
DTSTART;TZID=America/Los_Angeles:20230920T110000
DTEND;TZID=America/Los_Angeles:20230920T123000
DTSTAMP:20260424T205551
CREATED:20230906T072402Z
LAST-MODIFIED:20230906T072402Z
UID:20230-1695207600-1695213000@www.siliconvalleyacs.org
SUMMARY:The Gut Microbiome-Brain Alliance: The Connection to Health and Disorders
DESCRIPTION:Sponsored by ACS Webinars\nOnline via Zoom\, Free\, Registration required\n\nThe Human microbiota\, often referred to as the “forgotten organ\,” is a large collection of predominantly bacteria\, viruses\, protozoa\, fungi\, and archaea. With around 40 trillion bacterial cells\, its size eclipses the number of cells in your own body. But\, what does the latest research tell us about this hidden ecosystem and the constant communication that exists between the gut and brain? \n\n\n\nJoin an expert panel from Bayer\, the California Institute of Technology\, and CAS as they discuss recent research on the gut microbiome−brain axis\, its complexity\, functionality\, and its effect on health and disorders. Register now for free to discover how gut microbiota in humans has evolved and how it plays a key role in health and disease. \nThis ACS Webinar is a co-produced with CAS\, a division of the American Chemical Society. \n\n\n\n\n\n\nWhat You Will Learn\n\nExamples of how the gut microbiome-brain axis uses constant bidirectional communication in its role in many physiological processes in the human body\nWhat is the correlation between living microorganisms found in the gut and their effect on gastrointestinal and mental disorders\nWhat are some clinical applications of gut-microbiota-related substances and metabolites with their development pipelines\n\n\n\n\n\n\n\nWebinar Details\n\nWednesday\, Sept 20\, 2023 @ 2-3:30pm ET\nFree to Register with ACS ID\nThe slides will be available for download on the day of the event
URL:https://www.siliconvalleyacs.org/event/the-gut-microbiome-brain-alliance-the-connection-to-health-and-disorders/
LOCATION:Virtual
CATEGORIES:ACS Webinars
ATTACH;FMTTYPE=image/jpeg:https://www.siliconvalleyacs.org/wp-content/uploads/2023/09/Gut-Microbiome-Brain-Alliance.jpg
END:VEVENT
BEGIN:VEVENT
DTSTART;TZID=America/Los_Angeles:20230927T110000
DTEND;TZID=America/Los_Angeles:20230927T120000
DTSTAMP:20260424T205551
CREATED:20230907T013734Z
LAST-MODIFIED:20230907T013734Z
UID:20251-1695812400-1695816000@www.siliconvalleyacs.org
SUMMARY:Adapting to AI in Peer Review and the Publishing Process
DESCRIPTION:Cosponsored by ACS Webinars and ACS on Campus\nOnline via Zoom\, Free\, Registration required\n\nArtificial intelligence and other automated tools continue to become more ubiquitous throughout society\, but how will this affect researchers as future applications of AI-powered algorithms impact each stage of the review and publishing process? \n\n\n\nJoin Sonja Krane of ACS Publications and Osvaldo Oliviera of ACS Applied Materials & Interfaces for an interview and audience Q&A session on AI and the impact to the peer review and publishing processes and systems. Be part of the conversation regarding the varied ways that the scientific and academic communities are embracing or resisting AI and get a glimpse into the current and future role of AI in publishing and peer review processes. Register now for a deeper understanding of AI as well as the critical issues to ensure its responsible and effective implementation in the scientific community. \nThis ACS Webinar is co-produced with ACS on Campus. \n\n\n\n\n\n\nWhat You Will Learn\n\nHow AI is positively and negatively impacting the publishing and peer review as well as the author\, reviewer\, and researcher\nHow the scientific and academic communities are reacting to and using AI\nThe present and future state of AI in the publishing and peer review processes\n\n\n\n\n\n\n\nWebinar Details\n\nWednesday\, September 27\, 2023 @ 2-3pm ET\nFree to Register with ACS ID\nThe slides will be available for download on the day of the event\n\n\n\n\n\n\n\nCo-Produced With\n\n\n\n\n\n\n\n\n\n\n\nACS on Campus
URL:https://www.siliconvalleyacs.org/event/adapting-to-ai-in-peer-review-and-the-publishing-process/
LOCATION:Virtual
CATEGORIES:ACS Webinars
ATTACH;FMTTYPE=image/jpeg:https://www.siliconvalleyacs.org/wp-content/uploads/2023/09/Adapting-to-AI-in-Peer-Review.jpg
END:VEVENT
BEGIN:VEVENT
DTSTART;TZID=America/Los_Angeles:20230928T110000
DTEND;TZID=America/Los_Angeles:20230928T120000
DTSTAMP:20260424T205551
CREATED:20230907T014328Z
LAST-MODIFIED:20230907T014328Z
UID:20254-1695898800-1695902400@www.siliconvalleyacs.org
SUMMARY:Who Will Win the #ChemNobel? Predicting the 2023 Nobel Laureate(s) in Chemistry
DESCRIPTION:Sponsored by ACS Webinars and C&EN\nOnline via Zoom\, Free\, Registration required\n\nCan’t wait until Oct. 4 when the Royal Swedish Academy of Sciences announces the winners of the Nobel Prize in Chemistry? Neither can we. \n\n\n\nJoin Laura Howes of Chemical & Engineering News and a panel of special guests as they make their predictions for who will receive this year’s Nobel Prize in Chemistry and why. Enjoy a lively discussion about why prize winners are often polymaths\, whether hot topics in chemistry like Artificial Intelligence\, and the COVID-19 pandemic will impact this year’s decision-making process\, and which fields of science (and scientists) that our panel believes are historically underrepresented and should be considered for future awards. \nDuring this free interactive broadcast cast your virtual vote and ask the panelists questions about Nobel-worthy science! This is ACS Webinar is co-produced by Chemical & Engineering News. \n\n\n\n\n\n\nWhat You Will Learn\n\nWho are our front-runners for this year’s Nobel Prize in Chemistry and why\nWhy Nobel prize winners often don’t just focus on their science\nBig ideas in chemistry that we think should someday win the prize\n\n\n\n\n\n\n\nWebinar Details\n\nThursday\, September 28\, 2023 @ 2-3pm ET\nFree to register with ACS ID\nThe slides will not be shared\, we don’t want to give away the panelists’ votes!\n\n\n\n\n\n\n\nCo-Produced With\nChemical & Engineering News
URL:https://www.siliconvalleyacs.org/event/who-will-win-the-chemnobel-predicting-the-2023-nobel-laureates-in-chemistry/
LOCATION:Virtual
CATEGORIES:ACS Webinars
ATTACH;FMTTYPE=image/jpeg:https://www.siliconvalleyacs.org/wp-content/uploads/2023/09/Who-will-win-Chemistry-Nobel-Prize-in-2023.jpg
END:VEVENT
END:VCALENDAR