BEGIN:VCALENDAR
VERSION:2.0
PRODID:-//SVACS - ECPv6.15.1.1//NONSGML v1.0//EN
CALSCALE:GREGORIAN
METHOD:PUBLISH
X-ORIGINAL-URL:https://www.siliconvalleyacs.org
X-WR-CALDESC:Events for SVACS
REFRESH-INTERVAL;VALUE=DURATION:PT1H
X-Robots-Tag:noindex
X-PUBLISHED-TTL:PT1H
BEGIN:VTIMEZONE
TZID:America/Los_Angeles
BEGIN:DAYLIGHT
TZOFFSETFROM:-0800
TZOFFSETTO:-0700
TZNAME:PDT
DTSTART:20230312T100000
END:DAYLIGHT
BEGIN:STANDARD
TZOFFSETFROM:-0700
TZOFFSETTO:-0800
TZNAME:PST
DTSTART:20231105T090000
END:STANDARD
END:VTIMEZONE
BEGIN:VEVENT
DTSTART;TZID=America/Los_Angeles:20230524T110000
DTEND;TZID=America/Los_Angeles:20230524T120000
DTSTAMP:20260425T082253
CREATED:20230509T002121Z
LAST-MODIFIED:20230509T002208Z
UID:19874-1684926000-1684929600@www.siliconvalleyacs.org
SUMMARY:Think like a CSO: How to Develop a Strategic Mindset
DESCRIPTION:Sponsored by ACS Webinars and ACS Division of Professional Relations\n11am-Noon\, Online via Zoom\, Free\, Registration required\n\nThinking strategically can often help scientists as they advanced professionally throughout their career. But what does this thinking like a Chief Strategy Officer really mean and how can it be developed? \nWelcome back ACS Webinar fan favorite Matt Grandbois\, a Strategic Partnership Manager at DuPont Electronics & Industrial\, as he dives into the mysterious world of strategy and shares some practical actionable tips on how you can improve your strategic mindset. \nThis ACS Webinar is moderated by Annabelle Lolinco\, Chemistry Ph.D. Candidate at Iowa State University and is co-produced with the ACS Division of Professional Relations. \nWhat You Will Learn \n\nHow your actions can have intended and unintended consequences\nWhat are some strategies for prioritizing actions based needs and resourcing\nHow to create a framework for evaluating progress and designing mitigation plans\n\nMEET THE EXPERTS \nMatt Grandbois\, Strategic Partnership Manager\, DuPont Electronics & Industrial \nAnnabelle Lolinco\, Chemistry Ph.D. Candidate\, Iowa State University
URL:https://www.siliconvalleyacs.org/event/think-like-a-cso-how-to-develop-a-strategic-mindset/
LOCATION:Virtual
CATEGORIES:ACS Webinars
ATTACH;FMTTYPE=image/jpeg:https://www.siliconvalleyacs.org/wp-content/uploads/2023/05/ACS-webinar-think-like-a-CSO.jpg
END:VEVENT
END:VCALENDAR