BEGIN:VCALENDAR
VERSION:2.0
PRODID:-//SVACS - ECPv6.15.1.1//NONSGML v1.0//EN
CALSCALE:GREGORIAN
METHOD:PUBLISH
X-ORIGINAL-URL:https://www.siliconvalleyacs.org
X-WR-CALDESC:Events for SVACS
REFRESH-INTERVAL;VALUE=DURATION:PT1H
X-Robots-Tag:noindex
X-PUBLISHED-TTL:PT1H
BEGIN:VTIMEZONE
TZID:America/Los_Angeles
BEGIN:DAYLIGHT
TZOFFSETFROM:-0800
TZOFFSETTO:-0700
TZNAME:PDT
DTSTART:20260308T100000
END:DAYLIGHT
BEGIN:STANDARD
TZOFFSETFROM:-0700
TZOFFSETTO:-0800
TZNAME:PST
DTSTART:20261101T090000
END:STANDARD
END:VTIMEZONE
BEGIN:VEVENT
DTSTART;TZID=America/Los_Angeles:20260304T110000
DTEND;TZID=America/Los_Angeles:20260304T123000
DTSTAMP:20260423T164756
CREATED:20260217T234038Z
LAST-MODIFIED:20260217T234038Z
UID:22431-1772622000-1772627400@www.siliconvalleyacs.org
SUMMARY:How to Build Smarter Polymer Nanocomposites
DESCRIPTION:Co-sponsored by ACS Webinars and ACS Division of Polymer Chemistry\nWednesday\, March 4\, 2026 @ 11:00 am-12:30 pm\,\nFree\, Online\, Registration required\n\n\n\nPolymer nanocomposites offer chemists a powerful platform for designing materials with tunable mechanical\, transport\, optical\, and electronic properties. However\, achieving precise control over nanoparticle dispersion and organization remains a fundamental challenge due to thermodynamic incompatibilities between polymer and inorganic phases. Join us to explore two complementary\, chemistry-driven strategies that overcome these limitations by controlling nanoparticle organization during synthesis rather than relying on post-processing or simple blending. \nRobert Hickey of Penn State University will discuss how dispersing nanoparticles in monomers prior to polymerization enables polymerization-induced nanoparticle ordering\, kinetically trapping particles within the growing polymer matrix. This approach provides new insight into how polymerization chemistry and kinetics govern nanoscale structure evolution\, revealing pathways to nanocomposite architectures inaccessible through traditional melt or solution blending. \nRobert Macfarlane of the Massachusetts Institute of Technology will then present a molecular design strategy in which nanoparticles are grafted with dense polymer brushes\, transforming them into intrinsically composite building blocks. These brush particles remain stable without aggregation and enable precise control over nanoscale ordering\, mesostructure\, and macroscopic properties. Polymer grafting chemistry alters chain–chain interactions and unlocks new routes to functional materials for adhesives\, coatings\, flexible electronics\, and thermal management. \nTogether\, these presentations provide chemists with a unified framework for understanding how synthetic chemistry\, polymerization\, and macromolecular design can be used to program structure and function in next-generation polymer nanocomposites. This ACS Webinar is moderated by Boran Ma of the University of Southern Mississippi and co-produced with the ACS Division of Polymer Chemistry. \n\n\n\n\nWhat You Will Learn\n\nHow polymerization chemistry and kinetics influence nanoparticle dispersion and structural evolution\nStrategies for stabilizing and organizing nanoparticles within polymer matrices\nChemical synthesis methods for creating polymer-brush-grafted nanoparticles\nStructure–property relationships governing nanoscale ordering\, mesostructure\, and bulk performance\nEmerging applications enabled by controlled nanocomposite synthesis beyond conventional mixing approaches\n\n\n\n\n\nEvent Details\n\nWednesday\, March 4\, 2026 @ 2-3:30pm ET\nFree to attend\nSlides will be available on day of the webinar
URL:https://www.siliconvalleyacs.org/event/how-to-build-smarter-polymer-nanocomposites/
LOCATION:Virtual
CATEGORIES:ACS Webinars
ATTACH;FMTTYPE=image/jpeg:https://www.siliconvalleyacs.org/wp-content/uploads/2026/02/Building-Smarter-Polymer-Nanocomposites-e1771371439324.jpg
END:VEVENT
END:VCALENDAR