BEGIN:VCALENDAR
VERSION:2.0
PRODID:-//SVACS - ECPv6.15.1.1//NONSGML v1.0//EN
CALSCALE:GREGORIAN
METHOD:PUBLISH
X-WR-CALNAME:SVACS
X-ORIGINAL-URL:https://www.siliconvalleyacs.org
X-WR-CALDESC:Events for SVACS
REFRESH-INTERVAL;VALUE=DURATION:PT1H
X-Robots-Tag:noindex
X-PUBLISHED-TTL:PT1H
BEGIN:VTIMEZONE
TZID:America/Los_Angeles
BEGIN:DAYLIGHT
TZOFFSETFROM:-0800
TZOFFSETTO:-0700
TZNAME:PDT
DTSTART:20220313T100000
END:DAYLIGHT
BEGIN:STANDARD
TZOFFSETFROM:-0700
TZOFFSETTO:-0800
TZNAME:PST
DTSTART:20221106T090000
END:STANDARD
END:VTIMEZONE
BEGIN:VEVENT
DTSTART;VALUE=DATE:20220918
DTEND;VALUE=DATE:20220922
DTSTAMP:20260425T200140
CREATED:20220908T235152Z
LAST-MODIFIED:20220908T235152Z
UID:19090-1663459200-1663804799@www.siliconvalleyacs.org
SUMMARY:Advances in Polyolefins
DESCRIPTION:3-day workshop held September 18-21\, 2022\nDoubletree by Hilton\, Rohnert Park\, CA\nSponsored by ACS Division of Polymer Chemistry\nRegistration required\n\nAdvances in Polyolefins (APO-22) proudly announces the third Professor James McGrath Memorial Lectureship\nTobin J. Marks\, Northwestern University \n\nTHE MCGRATH MEMORIAL LECTURESHIP\n\n\nIn honor of the many contributions of Prof. James E. McGrath\, including the creation of the “Advances in Polyolefins” workshop series in 1997\, APO 2017 introduced a lectureship in his honor. Prof. McGrath was the University Distinguished Professor and Ethyl Corp. Professor of Chemistry at Virginia Tech. He wrote more than 400 articles and was a co-inventor of 40 patents. Prof. McGrath was the recipient of many awards in recognition of his scientific contributions. \n\n\nPARTIAL LIST OF INVITED SPEAKERS\n\n\n\nRufina Alamo (Florida State University)\nFinizia Auriemma (Università Federico II\, Napoli)\nCristophe Boisson (CNRS\, France)\nEugene Chen (Colorado State University)\nPaul Chirik (Princeton University)\nDongmei Cui (ChangChun Institute of Applied Chemistry)\nPhil Fontaine (Dow)\nLeon Govaert (Eindhoven University of Technology)\nDamien Guironnet (University of Illinois at Urbana-Champaign)\nJulia Ham (U.S. Naval Academy)\nKen Kearns (Dow)\nClark Landis (University of Wisconsin)\nCarlos Lopez-Barron (ExxonMobil)\nAlceo Macchioni (University of Perugia)\nBob Maughon (Sabic)\nScott McIndoe (University of Victoria)\nKalman Migler (NIST)\nAlejandro Mueller\, (University of Basque Country\, Spain)\nAlberto Ortin (Polymer Char)\nChristian Paulik (Johannes Kepler University)\nMarcia Pires (Nova Chemicals)\nKim Ragaert (Maastricht University)\nJay Reimers (ExxonMobil)\nAaron Sadow (Iowa State University)\nRoland Schmidt (Arlanxeo)\nSusannah Scott (University of California\, Santa Barbara)\nKen-ichi Seno (Sumitomo)\nFabio Sofri (Braskem)\nMaria Soliman (Sabic)\nTheo Tervoort (ETH)\n\n\n\nIntroduction\n\n\nThe last “Advances in Polyolefins” Workshop (APO 2019) was held in September 2019\, with 137 in attendance. This Advances in Polyolefins(APO 22)\, will be the 13th in this series held biennially. Topics will include catalysis\, characterization\, physical/mechanical behavior\, structure/property relationships\, thermal analysis\, melt rheology\, processing/fabrication\, applications\, stability/degradation phenomena\, and blends/composites. All invited speakers are experts in their areas from both industries and academia worldwide. This workshop will again bring together researchers from industrial\, academic\, and government laboratories to discuss the state-of-the-art in polyolefin chemistry and technology. The purpose of this workshop is to address key challenges\, opportunities and advances in the area of polyolefin research. We are making changes (more social and meal events) to how this workshop is run to allow maximum interactions among all participants.
URL:https://www.siliconvalleyacs.org/event/advances-in-polyolefins/
LOCATION:In-Person in Mountain View at Cuesta Park Group BBQ Areas #1-2\, 615 Cuesta Drive\, Mountain View\, CA\, United States
CATEGORIES:Workshop
ATTACH;FMTTYPE=image/jpeg:https://www.siliconvalleyacs.org/wp-content/uploads/2022/09/Advances-Polyolefins.jpg
END:VEVENT
END:VCALENDAR