BEGIN:VCALENDAR
VERSION:2.0
PRODID:-//SVACS - ECPv6.15.1.1//NONSGML v1.0//EN
CALSCALE:GREGORIAN
METHOD:PUBLISH
X-ORIGINAL-URL:https://www.siliconvalleyacs.org
X-WR-CALDESC:Events for SVACS
REFRESH-INTERVAL;VALUE=DURATION:PT1H
X-Robots-Tag:noindex
X-PUBLISHED-TTL:PT1H
BEGIN:VTIMEZONE
TZID:America/Los_Angeles
BEGIN:DAYLIGHT
TZOFFSETFROM:-0800
TZOFFSETTO:-0700
TZNAME:PDT
DTSTART:20260308T100000
END:DAYLIGHT
BEGIN:STANDARD
TZOFFSETFROM:-0700
TZOFFSETTO:-0800
TZNAME:PST
DTSTART:20261101T090000
END:STANDARD
END:VTIMEZONE
BEGIN:VEVENT
DTSTART;TZID=America/Los_Angeles:20260219T130000
DTEND;TZID=America/Los_Angeles:20260219T140000
DTSTAMP:20260424T072641
CREATED:20260217T204126Z
LAST-MODIFIED:20260217T204314Z
UID:22415-1771506000-1771509600@www.siliconvalleyacs.org
SUMMARY:Industry Safety Expectations for 2YC Chemistry Grads and Technicians
DESCRIPTION:This free\, interactive discussion will discuss safety expectations and engagement for Two-Year College Chemistry Graduates and Technicians\n\n\n\nThe Division of Chemical Health & Safety (CHAS) Two-Year College (2YC) Community of Practice welcomes individuals who are interested in chemical health and safety in two-year colleges and similar institutions. To support faculty\, staff\, and students at such institutions\, the Community hosts CHAS Chats on a quarterly basis. \nPlease join the 2YC Community for our next CHAS Chat: “Safety Expectations and Engagement for Two-Year College Chemistry Graduates and Chemical Technicians” \nThis interactive discussion\, led by the 2YC Community of Practice chair Dwayne Henry\, will take place from 4:00-5:00 PM EDT on Thursday\, February 19\, 2026. Using the RAMP system (Recognize Hazards\, Assess Risk\, Minimize Risk\, Prepare for Emergencies)\, we will discuss the basic knowledge\, skills and abilities that industrial employers expect from chemical technicians and chemistry graduates from a two-year program. \nYou do not need to officially join the 2YC Community or be affiliated with a two-year college to join the CHAS Chat. We invite you to visit our 2YC Community page to view CHAS Chat schedules\, recordings of past CHAS Chats\, and information regarding how to join the 2YC email list. Contact Dwayne Henry at Dwayne.Henry@montgomerycollege.edu with any questions.
URL:https://www.siliconvalleyacs.org/event/industry-safety-expectations-for-2yc-chemistry-grads-and-technicians/
LOCATION:Virtual
CATEGORIES:Workshop
ATTACH;FMTTYPE=image/jpeg:https://www.siliconvalleyacs.org/wp-content/uploads/2026/02/CHAS-2YC.jpg
END:VEVENT
END:VCALENDAR