BEGIN:VCALENDAR
VERSION:2.0
PRODID:-//SVACS - ECPv6.15.1.1//NONSGML v1.0//EN
CALSCALE:GREGORIAN
METHOD:PUBLISH
X-ORIGINAL-URL:https://www.siliconvalleyacs.org
X-WR-CALDESC:Events for SVACS
REFRESH-INTERVAL;VALUE=DURATION:PT1H
X-Robots-Tag:noindex
X-PUBLISHED-TTL:PT1H
BEGIN:VTIMEZONE
TZID:America/Los_Angeles
BEGIN:DAYLIGHT
TZOFFSETFROM:-0800
TZOFFSETTO:-0700
TZNAME:PDT
DTSTART:20230312T100000
END:DAYLIGHT
BEGIN:STANDARD
TZOFFSETFROM:-0700
TZOFFSETTO:-0800
TZNAME:PST
DTSTART:20231105T090000
END:STANDARD
END:VTIMEZONE
BEGIN:VEVENT
DTSTART;TZID=America/Los_Angeles:20230629T110000
DTEND;TZID=America/Los_Angeles:20230629T120000
DTSTAMP:20260425T112435
CREATED:20230606T050406Z
LAST-MODIFIED:20230606T050406Z
UID:19958-1688036400-1688040000@www.siliconvalleyacs.org
SUMMARY:ERGO: A Potential Answer in Mushrooms to Healthy Aging?
DESCRIPTION:Sponsored by ACS Webinars and ACS Agricultural & Food Chemistry Division\n11am-Noon\, Online via Zoom\, Free\, Registration required\n\nThe accidental discovery of a fungal contaminant in a Petri dish by Sir Alexander Fleming in 1928 led to development of the antibiotic penicillin\, which revolutionized medicine and saved countless lives from deadly bacterial infections. Prior to that discovery in 1909\, another fungal metabolite called Ergothioneine (ERGO)\, a naturally occurring amino acid that contains a sulfur atom on the imidazole ring\, was discovered in Ergot fungus\, but it received little attention. It wasn’t until almost a century later in 2005\, that it was discovered that all mammals\, including humans\, have a highly specific and efficient transporter for ERGO\, which allows it to rapidly move from food into red blood cells and allow for effective distribution among body tissues. \n\n\n\nJoin Robert Beelman\, Professor Emeritus of Food Science and Director of the Center for Plant and Mushroom Foods for Health at Penn State University as he discusses how ERGO is a potent antioxidant and anti-inflammatory agent believed to prevent or mitigate chronic diseases of aging. Register now to discover more about this possible “longevity vitamin” and the current research regarding how ERGO in the diet might improve long-term health outcomes and increase life expectancy. \nThis ACS Webinar is moderated by Brian Guthrie of Cargill and is co-produced with the ACS Division of Agricultural & Food Chemistry. \n\n\n\n\n\n\nWhat You Will Learn\n\nWhat makes Ergothioneine (ERGO) a potent antioxidant and anti-inflammatory compound that may help to mitigate chronic diseases like Alzheimer’s and Parkinson’s Disease\nWhy mushrooms are an excellent source of ERGO and how we can also obtain it from other sources\nHow conventional agricultural practices can compromise ERGO in our food supply and how regenerative practices are necessary.\n\n\n\n\n\n\n\nWebinar Details\n\nThursday\, June 29\, 2023 @ 2-3pm ET\nFree to Register with ACS ID\nThe slides will available for download on the day of the event\n\n\n\n\n\n\n\nCo-produced With\n\n\n\n\n\n\n\n\n\n\n\n\nACS Agricultural & Food Chemistry Division
URL:https://www.siliconvalleyacs.org/event/ergo-a-potential-answer-in-mushrooms-to-healthy-aging/
LOCATION:Virtual
CATEGORIES:ACS Webinars
ATTACH;FMTTYPE=image/jpeg:https://www.siliconvalleyacs.org/wp-content/uploads/2023/06/ACS-Webinar-ERGO.jpg
END:VEVENT
END:VCALENDAR