BEGIN:VCALENDAR
VERSION:2.0
PRODID:-//SVACS - ECPv6.15.1.1//NONSGML v1.0//EN
CALSCALE:GREGORIAN
METHOD:PUBLISH
X-WR-CALNAME:SVACS
X-ORIGINAL-URL:https://www.siliconvalleyacs.org
X-WR-CALDESC:Events for SVACS
REFRESH-INTERVAL;VALUE=DURATION:PT1H
X-Robots-Tag:noindex
X-PUBLISHED-TTL:PT1H
BEGIN:VTIMEZONE
TZID:America/Los_Angeles
BEGIN:DAYLIGHT
TZOFFSETFROM:-0800
TZOFFSETTO:-0700
TZNAME:PDT
DTSTART:20230312T100000
END:DAYLIGHT
BEGIN:STANDARD
TZOFFSETFROM:-0700
TZOFFSETTO:-0800
TZNAME:PST
DTSTART:20231105T090000
END:STANDARD
END:VTIMEZONE
BEGIN:VEVENT
DTSTART;TZID=America/Los_Angeles:20230511T110000
DTEND;TZID=America/Los_Angeles:20230511T120000
DTSTAMP:20260425T051233
CREATED:20230508T224627Z
LAST-MODIFIED:20230508T224627Z
UID:19854-1683802800-1683806400@www.siliconvalleyacs.org
SUMMARY:Green Cards for Scientific Researchers: How to Win Your EB-1/NIW Case
DESCRIPTION:Sponsored by ACS Webinars and ACS Careers\n11am-Noon\, Online via Zoom\, Free\, Registration required\n\nAre you a foreign scientist wanting to maintain your status in the U.S. and eventually qualify for a green card? \nJoin Brian H. Getson\, Esq. of the law firm of Getson & Schatz\, P.C. (www.researchergreencard.com) to learn how to obtain a green card in the U.S. through the employment-based\, first-preference visa (EB-1) and National Interest Waiver (NIW) categories and how to avoid costly immigration mistakes. Register now to get advice from a lawyer specializing in U.S. immigration\, ask him your questions\, and maximize your chances of success! \nThis ACS Webinar is moderated by Tom Halleran of the American Chemical Society and is co-produced with ACS Careers. \nWhat You Will Learn \n\nHow to manage your nonimmigrant status in the United States\nWhat is the appropriate category to apply for a green card and the best time to apply\nWhat evidence is needed to provide the highest possible chance for green card approval\n\nMeet The Experts \nBrian H. Getson\, Esq.\, Getson & Schatz\, P.C. \nTom Halleran\, Manager\, ACS Education\, American Chemical Society
URL:https://www.siliconvalleyacs.org/event/green-cards-for-scientific-researchers-how-to-win-your-eb-1-niw-case/
LOCATION:Virtual
CATEGORIES:ACS Webinars
ATTACH;FMTTYPE=image/jpeg:https://www.siliconvalleyacs.org/wp-content/uploads/2023/05/ACS-webinars-green-cards.jpg
END:VEVENT
END:VCALENDAR