BEGIN:VCALENDAR
VERSION:2.0
PRODID:-//SVACS - ECPv6.15.1.1//NONSGML v1.0//EN
CALSCALE:GREGORIAN
METHOD:PUBLISH
X-ORIGINAL-URL:https://www.siliconvalleyacs.org
X-WR-CALDESC:Events for SVACS
REFRESH-INTERVAL;VALUE=DURATION:PT1H
X-Robots-Tag:noindex
X-PUBLISHED-TTL:PT1H
BEGIN:VTIMEZONE
TZID:America/Los_Angeles
BEGIN:DAYLIGHT
TZOFFSETFROM:-0800
TZOFFSETTO:-0700
TZNAME:PDT
DTSTART:20260308T100000
END:DAYLIGHT
BEGIN:STANDARD
TZOFFSETFROM:-0700
TZOFFSETTO:-0800
TZNAME:PST
DTSTART:20261101T090000
END:STANDARD
END:VTIMEZONE
BEGIN:VEVENT
DTSTART;TZID=America/Los_Angeles:20260509T103000
DTEND;TZID=America/Los_Angeles:20260509T123000
DTSTAMP:20260423T115336
CREATED:20260412T203019Z
LAST-MODIFIED:20260412T203019Z
UID:22647-1778322600-1778329800@www.siliconvalleyacs.org
SUMMARY:Virology and Immunology of Emergent Arboviruses: Learning From the Patients
DESCRIPTION:Sandra Lopez Verges\, PhD\nSponsored by California ACS\, Women Chemists Committee\nMay 9th\, 10:30 am-12:30 pm\, Online\, Free\, Registration required | Download flyer\n\nEmergent viruses are primarily zoonotic viruses\, meaning that they infect both human and non-human animals. They can be transmitted predominantly by aerosols\, direct contact or through vectors. This talk will focus on the latter group of emergent viruses\, which are transmitted by arthropod vectors (arboviruses). The main arboviruses are transmitted by mosquitoes. We will describe their molecular and genetic characterization during outbreaks and surveillance from febrile patients. We will also explore the immune response in these patients\, and what can be learned from survivors and seropositive healthy individuals to create new treatments and define correlates of protection for future vaccine studies. Finally\, we will discuss how these patient-based observations can inform more basic in-vitro studies. \nAbout the Speaker\nSandra did her studies at the Université Paris 7 Denis Diderot\, Paris\, France. She received her BS in Biology-Biochemistry\, her MS (Pasteur Institute) and her PhD in Microbiology with a specialty in Basic Virology. Her doctoral thesis focused on HIV cellular cofactors at the Institut Cochin. She completed post- doctoral training in Immunology and Virology at UCSF. \nSince 2012\, Sandra has worked at the Gorgas Memorial Institute for Health Studies\, Panama\, as a Senior Health Researcher. She created the flow cytometry core there\, participates in arboviruses and emergent viruses and leads projects on viral immunology. She was the Head of the Department of Research in Virology and Biotechnology from January 2020 to January 2025\, leading the laboratory’s national response for the COVID19 pandemic. She has also been teaching graduate classes at the University of Panama since 2018. \nHer research has resulted in one patent and more than 60 scientific publications (ORCID: 0000-0002-1106-8479). She obtained several awards as the Gorgas Memorial Award (ASTMH\, 2013) and the UNESCO-L’OREAL International Fellowship for Young Women in Science in 2014 to work on arboviruses at the University of Texas Medical Branch\, USA (2015-2017). She was selected as a member of the National Research System (SNI\, SENACYT in Panama) in 2014\, of the Global Young Academy (GYA) in 2018. She was part of the Pathogen Bulletin working group on Biosafety and Biosecurity in Virology research (2022 2024)\, the WHO R&D Blueprint Togaviridae working group (2023-2024) and the panel of experts from the International Science Council for the Bioweapons convention (2024-2025). \nBesides her research work\, she has participated in workshops\, courses and projects on Science Diplomacy and Science advice. She continues to be an advocate for women in science and participates in science motivational programs for young people.
URL:https://www.siliconvalleyacs.org/event/virology-and-immunology-of-emergent-arboviruses-learning-from-the-patients/
LOCATION:Virtual
CATEGORIES:Webinar
ATTACH;FMTTYPE=image/png:https://www.siliconvalleyacs.org/wp-content/uploads/2026/04/Sandra-Verges.png
END:VEVENT
END:VCALENDAR