BEGIN:VCALENDAR
VERSION:2.0
PRODID:-//SVACS - ECPv6.15.1.1//NONSGML v1.0//EN
CALSCALE:GREGORIAN
METHOD:PUBLISH
X-WR-CALNAME:SVACS
X-ORIGINAL-URL:https://www.siliconvalleyacs.org
X-WR-CALDESC:Events for SVACS
REFRESH-INTERVAL;VALUE=DURATION:PT1H
X-Robots-Tag:noindex
X-PUBLISHED-TTL:PT1H
BEGIN:VTIMEZONE
TZID:America/Los_Angeles
BEGIN:DAYLIGHT
TZOFFSETFROM:-0800
TZOFFSETTO:-0700
TZNAME:PDT
DTSTART:20260308T100000
END:DAYLIGHT
BEGIN:STANDARD
TZOFFSETFROM:-0700
TZOFFSETTO:-0800
TZNAME:PST
DTSTART:20261101T090000
END:STANDARD
END:VTIMEZONE
BEGIN:VEVENT
DTSTART;TZID=America/Los_Angeles:20260311T160000
DTEND;TZID=America/Los_Angeles:20260311T170000
DTSTAMP:20260423T135127
CREATED:20260228T202751Z
LAST-MODIFIED:20260228T202816Z
UID:22487-1773244800-1773248400@www.siliconvalleyacs.org
SUMMARY:Teaching Forensic Chemistry from a Mastery Perspective (AACT Webinar)
DESCRIPTION:Forensic chemistry has gained a lot of traction over the past years. Students are more engaged in this discipline when instructors use inquiry-based learning and objective-mastery assessments. In this webinar\, we will discuss how a new forensic chemistry class and laboratory course was implemented and how effective it has been to use this model to teach chemical principles. \nIf you are looking to incorporate more forensics-based teaching into your classroom\, take a look at our Forensics Unit Plan. \nPresenters: Carlos Olivo\, Associate Chemistry Professor\, Colorado State University\nDate: Wednesday\, March 11th\, 2026\, at 7:00 PM Eastern time
URL:https://www.siliconvalleyacs.org/event/teaching-forensic-chemistry-from-a-mastery-perspective-aact-webinar/
LOCATION:Virtual
CATEGORIES:Webinar
ATTACH;FMTTYPE=image/png:https://www.siliconvalleyacs.org/wp-content/uploads/2026/02/aact_rgb-e1772310433434.png
END:VEVENT
BEGIN:VEVENT
DTSTART;TZID=America/Los_Angeles:20260318T160000
DTEND;TZID=America/Los_Angeles:20260318T170000
DTSTAMP:20260423T135127
CREATED:20260228T202303Z
LAST-MODIFIED:20260228T202417Z
UID:22482-1773849600-1773853200@www.siliconvalleyacs.org
SUMMARY:Using spreadsheets to explore and make sense of data (AACT Webinar)
DESCRIPTION:College professors are reporting that students are coming to college with a lack of spreadsheet skills and knowledge. In this webinar\, participants will gain techniques in using spreadsheets to take sets of data (whether created in class or found from external sources) and distill results from them. Skills include graphing\, performing calculations\, filtering data\, conditional formatting\, and more. \nSpeaker: Sean Regan\, College Prep Chemistry Teacher \nSean Regan graduated from the University of Pittsburgh with a bachelor’s degree in Chemistry and a master’s degree in Teaching. Sean is currently in his 10th year at Framingham High School in Framingham\, MA after having taught four years at Brashear High School in Pittsburgh\, PA. His passion in teaching is seeing kids understand chemistry through his goofy antics\, approachable demeanor\, and personally-built spreadsheet lessons. Sean also has a love of presenting his spreadsheet work to other teachers and seeing these ideas used in schools inside and outside of Massachusetts.
URL:https://www.siliconvalleyacs.org/event/using-spreadsheets-to-explore-and-make-sense-of-data-aact-webinar/
LOCATION:Virtual
CATEGORIES:Webinar
ATTACH;FMTTYPE=image/png:https://www.siliconvalleyacs.org/wp-content/uploads/2026/02/aact_rgb-e1772310433434.png
END:VEVENT
END:VCALENDAR