BEGIN:VCALENDAR
VERSION:2.0
PRODID:-//SVACS - ECPv6.15.1.1//NONSGML v1.0//EN
CALSCALE:GREGORIAN
METHOD:PUBLISH
X-WR-CALNAME:SVACS
X-ORIGINAL-URL:https://www.siliconvalleyacs.org
X-WR-CALDESC:Events for SVACS
REFRESH-INTERVAL;VALUE=DURATION:PT1H
X-Robots-Tag:noindex
X-PUBLISHED-TTL:PT1H
BEGIN:VTIMEZONE
TZID:America/Los_Angeles
BEGIN:DAYLIGHT
TZOFFSETFROM:-0800
TZOFFSETTO:-0700
TZNAME:PDT
DTSTART:20250309T100000
END:DAYLIGHT
BEGIN:STANDARD
TZOFFSETFROM:-0700
TZOFFSETTO:-0800
TZNAME:PST
DTSTART:20251102T090000
END:STANDARD
END:VTIMEZONE
BEGIN:VEVENT
DTSTART;TZID=America/Los_Angeles:20250602T190000
DTEND;TZID=America/Los_Angeles:20250602T203000
DTSTAMP:20260423T212929
CREATED:20250528T191210Z
LAST-MODIFIED:20250528T191210Z
UID:21794-1748890800-1748896200@www.siliconvalleyacs.org
SUMMARY:Silicon Valley ACS Executive Committee Meeting
DESCRIPTION:Sponsored by the Silicon Valley ACS local section \n7:00-8:30 pm\, Hybrid Event\, Free\, Guests welcome: contact Chair to attend
URL:https://www.siliconvalleyacs.org/event/silicon-valley-acs-executive-committee-meeting-21/
LOCATION:Hybrid
CATEGORIES:Section Business
ATTACH;FMTTYPE=image/jpeg:https://www.siliconvalleyacs.org/wp-content/uploads/2021/09/ExComm-Meeting-event-graphic.jpg
END:VEVENT
BEGIN:VEVENT
DTSTART;TZID=America/Los_Angeles:20250614T140000
DTEND;TZID=America/Los_Angeles:20250614T150000
DTSTAMP:20260423T212929
CREATED:20250529T015247Z
LAST-MODIFIED:20250529T015247Z
UID:21824-1749909600-1749913200@www.siliconvalleyacs.org
SUMMARY:Kid Makers: Pop Up Chemistry
DESCRIPTION:Sponsored by Silicon Valley ACS & Redwood City Public Library (RCPL)\n 2:00-3:00 pm\, In-person for ages 8-12\, RCPL Downtown Location\, 1044 Middlefield\nRoad\, Redwood City\, Free\, Learn more\n\nYoung scientists explore different aspects of chemistry! Once a month\, join members of the ACS and take part in hands on experiments. For ages 8-12. This program will take place in the Makerspace.
URL:https://www.siliconvalleyacs.org/event/kid-makers-pop-up-chemistry-10/
LOCATION:In-person (Redwood City Public Library-Downtown Library)\, 1044 Middlefield Road\, Redwood City\, CA\, 94063\, United States
CATEGORIES:Outreach
ATTACH;FMTTYPE=image/jpeg:https://www.siliconvalleyacs.org/wp-content/uploads/2025/04/PopUp-Chemistry-Graphic-April2025.jpg
ORGANIZER;CN="Redwood City Library":MAILTO:pevans@redwoodcity.org
END:VEVENT
BEGIN:VEVENT
DTSTART;TZID=America/Los_Angeles:20250617T083000
DTEND;TZID=America/Los_Angeles:20250617T180000
DTSTAMP:20260423T212929
CREATED:20250617T060256Z
LAST-MODIFIED:20250617T060256Z
UID:21865-1750149000-1750183200@www.siliconvalleyacs.org
SUMMARY:Silicon Valley Minerals Forum 2025
DESCRIPTION:Sponsored by Stanford Mineral-X \n8:30 am-6:00 pm\, Free\, In-person at Simonyi Conference Center\, CoDa\, 389 Jane Stanford Way\, Stanford\, CA 94305.  Learn more and register \n 
URL:https://www.siliconvalleyacs.org/event/silicon-valley-minerals-forum-2025/
END:VEVENT
BEGIN:VEVENT
DTSTART;TZID=America/Los_Angeles:20250618T090000
DTEND;TZID=America/Los_Angeles:20250618T103000
DTSTAMP:20260423T212929
CREATED:20250617T060823Z
LAST-MODIFIED:20250617T060907Z
UID:21867-1750237200-1750242600@www.siliconvalleyacs.org
SUMMARY:How to Find and Apply for a Position in the Federal Government: ACS Career Pathways Virtual Workshop
DESCRIPTION:Sponsored by ACS Careers \n9:00-10:30 am\, Online\, Free\, Registration required
URL:https://www.siliconvalleyacs.org/event/how-to-find-and-apply-for-a-position-in-the-federal-government-acs-career-pathways-virtual-workshop/
LOCATION:Virtual
CATEGORIES:Careers
ATTACH;FMTTYPE=image/png:https://www.siliconvalleyacs.org/wp-content/uploads/2025/01/ACS-Careers.png
END:VEVENT
BEGIN:VEVENT
DTSTART;TZID=America/Los_Angeles:20250618T110000
DTEND;TZID=America/Los_Angeles:20250618T121500
DTSTAMP:20260423T212929
CREATED:20250617T061456Z
LAST-MODIFIED:20250617T061456Z
UID:21870-1750244400-1750248900@www.siliconvalleyacs.org
SUMMARY:Protecting the Formula: The Role of Trade Secrets in Chemical Research
DESCRIPTION:  \nSponsored by ACS Webinars and ACS Chemistry & the Law Division \n11:00 am-12:15 pm\, Online\, Free\, Registration required
URL:https://www.siliconvalleyacs.org/event/protecting-the-formula-the-role-of-trade-secrets-in-chemical-research/
LOCATION:Virtual
CATEGORIES:ACS Webinars,Webinar
ATTACH;FMTTYPE=image/jpeg:https://www.siliconvalleyacs.org/wp-content/uploads/2023/06/ACS-Webinar-Process-Chemistry.jpg
END:VEVENT
BEGIN:VEVENT
DTSTART;VALUE=DATE:20250625
DTEND;VALUE=DATE:20250627
DTSTAMP:20260423T212929
CREATED:20250617T061951Z
LAST-MODIFIED:20250617T061951Z
UID:21878-1750809600-1750982399@www.siliconvalleyacs.org
SUMMARY:Mastering Materials Durability for Next-Generation Energy Technologies: Workshop
DESCRIPTION:Sponsored by SLAC National Accelerator Laboratory \nFree\, In-person at SLAC\, Kavli Auditorium\, 2575 Sand Hill Road\, Menlo Park\, CA\, Visitor User ID requirements\, Learn more and register by June 19\, 2025
URL:https://www.siliconvalleyacs.org/event/mastering-materials-durability-for-next-generation-energy-technologies-workshop/
LOCATION:In-person
ATTACH;FMTTYPE=image/png:https://www.siliconvalleyacs.org/wp-content/uploads/2024/01/SLAC-National-Accelerator-Laboratory.png
END:VEVENT
BEGIN:VEVENT
DTSTART;TZID=America/Los_Angeles:20250625T110000
DTEND;TZID=America/Los_Angeles:20250625T120000
DTSTAMP:20260423T212929
CREATED:20250617T061719Z
LAST-MODIFIED:20250617T061719Z
UID:21875-1750849200-1750852800@www.siliconvalleyacs.org
SUMMARY:Break Into STEM as a CTP: No Bachelor’s Required
DESCRIPTION:Sponsored by ACS Webinars and ACS Chemical Technical Professionals Committee \n11:00 am-Noon\, Online\, Free\, Registration required
URL:https://www.siliconvalleyacs.org/event/break-into-stem-as-a-ctp-no-bachelors-required/
LOCATION:Virtual
CATEGORIES:Careers,Webinar
END:VEVENT
END:VCALENDAR