BEGIN:VCALENDAR
VERSION:2.0
PRODID:-//SVACS - ECPv6.15.1.1//NONSGML v1.0//EN
CALSCALE:GREGORIAN
METHOD:PUBLISH
X-ORIGINAL-URL:https://www.siliconvalleyacs.org
X-WR-CALDESC:Events for SVACS
REFRESH-INTERVAL;VALUE=DURATION:PT1H
X-Robots-Tag:noindex
X-PUBLISHED-TTL:PT1H
BEGIN:VTIMEZONE
TZID:America/Los_Angeles
BEGIN:DAYLIGHT
TZOFFSETFROM:-0800
TZOFFSETTO:-0700
TZNAME:PDT
DTSTART:20240310T100000
END:DAYLIGHT
BEGIN:STANDARD
TZOFFSETFROM:-0700
TZOFFSETTO:-0800
TZNAME:PST
DTSTART:20241103T090000
END:STANDARD
END:VTIMEZONE
BEGIN:VEVENT
DTSTART;TZID=America/Los_Angeles:20241102T103000
DTEND;TZID=America/Los_Angeles:20241102T120000
DTSTAMP:20260424T043248
CREATED:20241011T201742Z
LAST-MODIFIED:20241011T201752Z
UID:21337-1730543400-1730548800@www.siliconvalleyacs.org
SUMMARY:Reducing Risk & Uncertainty Associated with Nuclear Waste Processing & Disposal: A Hanford Tank Waste Case Study
DESCRIPTION:Carolyn Pearce\, PhD\, Pacific Northwest National Laboratory\nSponsored by ACS California Section\, Women Chemists Committee\nNov. 2nd\, 10:30-Noon\, Online\, Free\, Registration required | Download Flyer\n\nAbstract:\n“The Hanford site in Washington State\, which produced plutonium for the US weapons program\, is the most contaminated nuclear site in the nation and is its largest environmental clean-up activity. During weapons production\, 56 million gallons of liquid radioactive/chemical waste (sludge\, salt cake\, and supernatant)\, with 170 million Curies of radioactivity and 240\,000 tons of complex chemicals\, was generated. This liquid waste is the primary environmental contamination risk\, currently intended to be processed into a glass form for stabilization and to allow its radioactivity to safely dissipate over hundreds to thousands of years. Uncertainty associated with nuclear waste processing and disposal can be mitigated by: (i) characterizing waste chemistry; and (ii) understanding waste form behavior in the environment. A key issue of Hanford tank waste processing and disposal is that\, although radionuclides such as technetium are the risk drivers\, it is the ‘benign’ dominant elements such as aluminum that dictate the processing limits and uncertainties\, given that tank waste is removed on a volume basis. Basic research by the Ion Dynamics in Radioactive Environments and Materials (IDREAM) Energy Frontier Research Center (EFRC) has focused on unravelling complex ion coordination\, solvation\, pairing with other ions\, and cluster formation in these radioactive and highly concentrated chemical environments. The goal of IDREAM is to understand the fundamental mechanisms of aluminum speciation change that underpin solubility\, nucleation and precipitation in Hanford tank waste to accelerate safe\, cost-effective\, and efficient waste processing. Once the waste has been processed\, it must be demonstrated that risk driving radioactive elements will be contained in the wasteform for thousands of years until they become safe. Archeological artifacts\, analogous to wasteform materials\, i.e.\, glass\, that have been left by our ancestors and exposed to the environment for thousands of years can be used to validate and refine predicted wasteform durability. \nAbout the Speaker:\nCarolyn Pearce joined Pacific Northwest National Laboratory (PNNL) in 2016 and is a scientist and team lead in the Subsurface Science Group. She directs the PNNL-led US DOE Office of Science supported Ion Dynamics in Radioactive Environments and Materials Energy Frontier Research Center\, and leads research programs for US DOE Environmental Management\, Office of River Protection\, and Richland Limited. She characterizes solutions and minerals relevant to radioactive waste storage and processing\, determining reaction mechanisms and kinetics that affect radionuclide stability in waste forms and subsurface environments. Dr. Pearce obtained her B.Sc. and PhD from the University of Leeds\, UK\, and is Honorary Professor in the Department of Earth and Environmental Sciences\, University of Manchester\, UK\, and Adjunct Professor in the Department of Crop and Soil Sciences\, Washington State University.”
URL:https://www.siliconvalleyacs.org/event/reducing-risk-uncertainty-associated-with-nuclear-waste-processing-disposal-a-hanford-tank-waste-case-study/
LOCATION:Virtual
CATEGORIES:Webinar
ATTACH;FMTTYPE=image/png:https://www.siliconvalleyacs.org/wp-content/uploads/2024/10/Women-Chemists-Committee-California-ACS.png
END:VEVENT
BEGIN:VEVENT
DTSTART;TZID=America/Los_Angeles:20241106T183000
DTEND;TZID=America/Los_Angeles:20241106T203000
DTSTAMP:20260424T043248
CREATED:20240114T035115Z
LAST-MODIFIED:20241004T205956Z
UID:20703-1730917800-1730925000@www.siliconvalleyacs.org
SUMMARY:Silicon Valley ACS Executive Committee Meeting
DESCRIPTION:6:30-8:30 pm\, Hybrid Meeting (in person and online via Zoom)\, Free. To attend as a guest\, please contact the Chair.
URL:https://www.siliconvalleyacs.org/event/silicon-valley-acs-executive-committee-meeting-15/
LOCATION:Hybrid
CATEGORIES:Section Business
ATTACH;FMTTYPE=image/jpeg:https://www.siliconvalleyacs.org/wp-content/uploads/2021/09/ExComm-Meeting-event-graphic.jpg
END:VEVENT
BEGIN:VEVENT
DTSTART;TZID=America/Los_Angeles:20241107T090000
DTEND;TZID=America/Los_Angeles:20241107T103000
DTSTAMP:20260424T043248
CREATED:20241011T202320Z
LAST-MODIFIED:20241011T202320Z
UID:21341-1730970000-1730975400@www.siliconvalleyacs.org
SUMMARY:ACS Virtual Office Hours: Finding and Securing an Internship
DESCRIPTION:Sponsored by ACS Careers Office \nNov. 7th\, 9:00-10:30 am\, Online\, Free\, Registration required \n“During this 90-minute live\, virtual session\, ACS Career Consultant Adam Myers will help participants jumpstart their career journey by providing a career toolkit to equip internship seekers with the proper knowledge to be successful in their efforts. After the conclusion of the session\, participants will be able to: \n\nPrepare a toolkit comprised of your résumé\, an elevator pitch\, and online presence.\nMarket yourself through networking\, content generation\, and “showing up”.\nFind the job\, both the typical and the hidden / unconventional.\n\nThe presentation will be followed by the opportunity for attendees to network in small groups led by ACS Career Consultants and received personalized career advice. \nAbout ACS Virtual Office Hours:\n“Virtual Office Hours is a free program open to both ACS members and non-members. The first half of this 1 ½ hour workshop features a career-related presentation. For the second half of Virtual Office Hours\, we will break into small networking sessions led by ACS Career Consultants. In your breakout session you will have the opportunity to: \n\nAsk questions regarding the VOH topic\nNetwork with fellow event attendees\nLearn about additional ACS career resources”
URL:https://www.siliconvalleyacs.org/event/acs-virtual-office-hours-finding-and-securing-an-internship/
LOCATION:Virtual
CATEGORIES:Careers,Webinar
ATTACH;FMTTYPE=image/png:https://www.siliconvalleyacs.org/wp-content/uploads/2024/10/ACS-Virtual-Career-Workshop.png
END:VEVENT
BEGIN:VEVENT
DTSTART;TZID=America/Los_Angeles:20241109T140000
DTEND;TZID=America/Los_Angeles:20241109T150000
DTSTAMP:20260424T043248
CREATED:20241011T030821Z
LAST-MODIFIED:20241011T030821Z
UID:21311-1731160800-1731164400@www.siliconvalleyacs.org
SUMMARY:Kid Makers: Pop Up Chemistry
DESCRIPTION:Sponsored by Silicon Valley ACS & Redwood City Public Library (RCPL)\nNov. 9th\, 2:00-3:00 pm\, In person for ages 9-12\, RCPL Downtown Location\, 1044 Middlefield\nRoad\, Redwood City\, Free\, Learn more\n\nYoung scientists explore different aspects of chemistry! Once a month\, join members of the ACS and take part in hands on experiments. For ages 9-12. This program will take place in the Makerspace.
URL:https://www.siliconvalleyacs.org/event/kid-makers-pop-up-chemistry-5/
LOCATION:In-person (Redwood City Public Library-Downtown Library)\, 1044 Middlefield Road\, Redwood City\, CA\, 94063\, United States
CATEGORIES:Outreach
ATTACH;FMTTYPE=image/jpeg:https://www.siliconvalleyacs.org/wp-content/uploads/2022/11/PopUpChemistrySVACS-RWCLibrary_19Nov2022-small-400-1.jpg
ORGANIZER;CN="Redwood City Library":MAILTO:pevans@redwoodcity.org
END:VEVENT
BEGIN:VEVENT
DTSTART;TZID=America/Los_Angeles:20241115T170000
DTEND;TZID=America/Los_Angeles:20241115T183000
DTSTAMP:20260424T043248
CREATED:20241011T203907Z
LAST-MODIFIED:20241011T203907Z
UID:21346-1731690000-1731695400@www.siliconvalleyacs.org
SUMMARY:Celebration of Life: Professor John I. Brauman
DESCRIPTION:Sponsored by Stanford Chemistry Department\nNov. 15th\, 5:00-6:30 pm\, Online & in person at Sapp Center for Teaching and Learning\, Sapp Auditorium (STLC 111)\, 376 Lomita Drive\, Stanford.\nLearn more and RSVP\n\n \nPlease join us in celebrating the life and scientific contributions of Stanford Chemist John I. Brauman\, the J.G. Jackson and C.J. Wood Professor of Chemistry. \nDuring his 55-year career at Stanford\, he served as a mentor to many and held several key positions\, including Department Chair\, Associate Dean for Natural Sciences\, and Associate Dean of Research. \nJohn Brauman’s research on chemical structure and reactivity changed the way people thought about chemistry\, clarifying how solvents affect chemical stability and reactivity. John was a skilled and motivating teacher and mentor who had a profound impact on the lives and careers of generations of graduate students and chemists. \nAmongst the many honors that he received over his lifetime was the National Medal of Science in 2002\, membership in the National Academy of Sciences in 1976\, the National Academy of Sciences Award in Chemical Science\, and many awards from the American Chemical Society including the Linus Pauling Medal\, Willard Gibbs Award\, Harrison Howe Award\, James Flack Norris Award in Physical Organic Chemistry\, and the Award in Pure Chemistry. \n\nCelebration of Life: 5:00-6:00 PM\nLight Reception: 6:00-7:00 PM\n\nKindly RSVP via this form and contact chemistry-externalrelations@stanford.edu with all questions. \nVisit this website for more information.
URL:https://www.siliconvalleyacs.org/event/celebration-of-life-professor-john-i-brauman/
LOCATION:Hybrid
CATEGORIES:Celebration of Life
ATTACH;FMTTYPE=image/png:https://www.siliconvalleyacs.org/wp-content/uploads/2024/10/Professor-John-Brauman-Celebration-of-Life.png
END:VEVENT
BEGIN:VEVENT
DTSTART;VALUE=DATE:20241116
DTEND;VALUE=DATE:20241118
DTSTAMP:20260424T043248
CREATED:20241011T204438Z
LAST-MODIFIED:20241011T204438Z
UID:21353-1731715200-1731887999@www.siliconvalleyacs.org
SUMMARY:Stanford Splash - Fall 2024
DESCRIPTION:Sponsored by Stanford University \nNov. 16-17th. For students in grades 8-12.  In person at Main Quad\, Stanford University.  Cost $50 but free for students where this imposes a financial burden.  Learn more \n“Splash is a program that brings students in grades 8-12 from everywhere to Stanford’s campus for a two-day learning extravaganza. Our goal is to create unique and fun learning experiences for students in the greater Bay Area\, especially students from underrepresented and disadvantaged backgrounds. Splash also provides valuable teaching and outreach opportunities for Stanford affiliates.”
URL:https://www.siliconvalleyacs.org/event/stanford-splash-fall-2024/
LOCATION:In-person
CATEGORIES:Outreach
ATTACH;FMTTYPE=image/png:https://www.siliconvalleyacs.org/wp-content/uploads/2024/10/Stanford-Splash-Fall2024.png
END:VEVENT
END:VCALENDAR