BEGIN:VCALENDAR
VERSION:2.0
PRODID:-//SVACS - ECPv6.15.1.1//NONSGML v1.0//EN
CALSCALE:GREGORIAN
METHOD:PUBLISH
X-WR-CALNAME:SVACS
X-ORIGINAL-URL:https://www.siliconvalleyacs.org
X-WR-CALDESC:Events for SVACS
REFRESH-INTERVAL;VALUE=DURATION:PT1H
X-Robots-Tag:noindex
X-PUBLISHED-TTL:PT1H
BEGIN:VTIMEZONE
TZID:America/Los_Angeles
BEGIN:DAYLIGHT
TZOFFSETFROM:-0800
TZOFFSETTO:-0700
TZNAME:PDT
DTSTART:20240310T100000
END:DAYLIGHT
BEGIN:STANDARD
TZOFFSETFROM:-0700
TZOFFSETTO:-0800
TZNAME:PST
DTSTART:20241103T090000
END:STANDARD
END:VTIMEZONE
BEGIN:VEVENT
DTSTART;VALUE=DATE:20240603
DTEND;VALUE=DATE:20240606
DTSTAMP:20260424T095348
CREATED:20240110T072607Z
LAST-MODIFIED:20240110T072607Z
UID:20666-1717372800-1717631999@www.siliconvalleyacs.org
SUMMARY:28th Annual Green Chemistry and Engineering Conference
DESCRIPTION:Theme: AI-Enabled Green Chemistry.  Atlanta\, Georgia.\nKey Dates:\n\nFebruary 12: Abstract Submission Closes\,\nFebruary 14: Registration and Housing Opens\,\nApril 30: Early Registration Closes.\n\n\nBrowse Technical Program Symposia\nLearn more\n\nThe 2024 GC&E is a limited hybrid conference\, meaning not all sessions will be available for virtual presentation. Only those sessions categorized as GC&E Fridays (fully virtual) or labeled hybrid will offer a virtual component; all other sessions will be exclusively in-person\, without a virtual option. Please keep this in mind while submitting your abstract.
URL:https://www.siliconvalleyacs.org/event/28th-annual-green-chemistry-and-engineering-conference/
LOCATION:Hybrid
CATEGORIES:Conference
ATTACH;FMTTYPE=image/png:https://www.siliconvalleyacs.org/wp-content/uploads/2024/01/28th-Green-Chemistry-and-Engineering-Conference-2024.png
END:VEVENT
BEGIN:VEVENT
DTSTART;TZID=America/Los_Angeles:20240606T190000
DTEND;TZID=America/Los_Angeles:20240606T210000
DTSTAMP:20260424T095348
CREATED:20240114T033806Z
LAST-MODIFIED:20240114T033806Z
UID:20690-1717700400-1717707600@www.siliconvalleyacs.org
SUMMARY:Silicon Valley ACS Executive Committee Meeting
DESCRIPTION:7:00-9:00 pm\, Online via Zoom\, Free. To attend as a guest\, please contact the Chair.
URL:https://www.siliconvalleyacs.org/event/silicon-valley-acs-executive-committee-meeting-10/
LOCATION:Hybrid
CATEGORIES:Section Business
ATTACH;FMTTYPE=image/jpeg:https://www.siliconvalleyacs.org/wp-content/uploads/2021/09/ExComm-Meeting-event-graphic.jpg
END:VEVENT
BEGIN:VEVENT
DTSTART;TZID=America/Los_Angeles:20240624T170000
DTEND;TZID=America/Los_Angeles:20240624T190000
DTSTAMP:20260424T095348
CREATED:20240605T230629Z
LAST-MODIFIED:20240606T054131Z
UID:20864-1719248400-1719255600@www.siliconvalleyacs.org
SUMMARY:Innovations in Materials Design for Kidney Dialysis\, from Lab Bench to Patient: A GGPF & Silicon Valley ACS Joint Seminar
DESCRIPTION:Innovations in Materials Design for Kidney Dialysis\, from Lab Bench to Patient \nProf. Buddy Ratner\, University of Washington \nSponsored by the Golden Gate Polymer Forum and Silicon Valley ACS \nJune 24\, 2024 \n\n5:00-6:00 pm In-person networking with refreshments @ Stanford Chemistry Department before Zoom Watch Party\n6:00-7:00 pm Zoom presentation\, virtual or in-person at Stanford Watch Party\n\nFree/$5 Donation to GGPF\, Register for Zoom link or for in-person Watch Party location by June 23rd at 1:00 pm | Download flyer \nAbstract:\nIn 1962 in Seattle\, chronic hemodialysis on humans was first used successfully to address end stage kidney disease (ESKD). Since that time\, we now have 4.5 million people worldwide receiving life-prolonging dialysis treatments three times a week – the therapy sustains their lives. However\, the pain and complications of kidney dialysis are tragic for ESKD patients and the costs to society are huge (>$130B/yr). Our research program at the University of Washington is focused on rethinking dialysis that has not changed significantly since 1962. We aim to develop an ambulatory dialysis system\, the AKTIV (Ambulatory Kidney to Improve Vitality). To retool dialysis\, we will need improved blood waste cleansing\, painless blood access\, new blood compatible materials\, skin healing and prevention of biofilm formation. Enhancements that can revolutionize how dialysis is performed will be discussed in this talk along with efforts to take innovation from the lab bench to the patient.  Polymers feature significantly in this development effort and are used to improve blood compatibility\, reduce biofilm formation and improve skin healing. \nBio:\n \nBuddy Ratner\, PhD\, University of Washington\, Director of the UW Engineered Biomaterials Engineering Research Center (UWEB)\, Michael L. and Myrna Darland Endowed Chair in Technology Commercialization\, and Professor in Bioengineering and Chemical Engineering at the University of Washington. He received his PhD in Polymer Chemistry from the Polytechnic Institute of Brooklyn. His specialization is biomaterials used in medical devices and implants\, and his lab is working on multiple bioengineering projects for tissues\, organs and medical devices. Dr. Ratner is a member of the US National Academy of Engineering\, fellow and past president of the American Institute of Medical and Biological Engineering (AIMBE)\, a fellow and past president of the Society For Biomaterials\, a fellow of AVS (formerly the American Vacuum Society)\, a fellow of the American Association for the Advancement of Science\, and a fellow of the Tissue Engineering and Regenerative Medicine International Society. He has participated in the launch of numerous companies including Healionics\, Inc.\, Asemblon\, Inc. and Kuleana Technology\, Inc. (focused on innovative dialysis devices). Dr. Ratner has authored more than 500 scholarly works and has more than 30 issued patents. His numerous awards include the Lifetime Inventor and Innovator Award from the University of Washington\, the Acta Biomaterialia Gold Medal\, the Distinguished Service Award from the ACS Division of Polymer Chemistry\, the Langmuir Lecture Award from the American Chemical Society\, the Most Cited Paper Award (2015) from the Annals of Biomedical Engineering\, George Winter Award of the European Society for Biomaterials\, and the Pierre Galletti Award of AIMBE.
URL:https://www.siliconvalleyacs.org/event/innovations-in-materials-design-for-kidney-dialysis-from-lab-bench-to-patient-a-ggpf-silicon-valley-acs-joint-seminar/
LOCATION:Hybrid
CATEGORIES:Webinar
ATTACH;FMTTYPE=image/jpeg:https://www.siliconvalleyacs.org/wp-content/uploads/2021/09/Golden-Gate-Polymer-Forum.jpg
END:VEVENT
BEGIN:VEVENT
DTSTART;TZID=America/Los_Angeles:20240626T120000
DTEND;TZID=America/Los_Angeles:20240626T140000
DTSTAMP:20260424T095348
CREATED:20240605T232259Z
LAST-MODIFIED:20240605T232259Z
UID:20867-1719403200-1719410400@www.siliconvalleyacs.org
SUMMARY:The State of the Science: Inaugural Address
DESCRIPTION:Speaker: Marcia McNutt\, NAS President\nSponsored by the National Academy of Sciences\, Engineering\, and Medicine (NAS)\nJune 26\, 2024\, Noon-2:00 PM (Pacific Time)\, Online and In person\, Free\, Learn more and Register\n\n“The first State of the Science address will explore how U.S. science and innovation are positioned to respond to rising global competition and shifting priorities for the nation’s economy\, security\, public health\, and well-being.  The event is intended to bring together leaders in science and research\, technology and innovation\, policymaking\, government\, industry\, and philanthropy to explore what actions may be needed to chart a course toward a more nimble\, more robust U.S. science and technology enterprise that is ready to meet the nation’s current challenges and make vital advances in the future.” \nThe State of the Science address will be followed by a panel discussion\, featuring: \nHarvey V. Fineberg\, MD\, PhD (Moderator):  President\, Gordon and Betty Moore Foundation \nChristie Aschwanden: Author\, Good to Go: What the Athlete in All of Us Can Learn from the Strange Science of Recovery and Producer/Host\, Uncertain \nStephanie Diem\, PhD: Assistant Professor\, Nuclear Engineering and Physics\, University of Wisconsin-Madison \nJames Manyika\, PhD: SVP of Research\, Technology & Society\, Google and Alphabet \nAlbert Reece\, MD\, PhD\, MBA\, FACOG: Former Dean and University Executive Vice President; Endowed Professor and Director\, Center for Advanced Research Training and Innovation (CARTI); Senior Scientist\, Center for Birth Defects Research University of Maryland School of Medicine \nJames Marshall Shepherd\, PhD: Associate Dean for Research\, Scholarship\, and Partnerships\, Franklin College of Arts and Sciences\, University of Georgia (UGA); Professor of Geography and Atmospheric Sciences; Director\, UGA Atmospheric Sciences Program; Associate Director for Climate and Outreach\, Institute for Resilient Infrastructure Systems\, University of Georgia \nGrace Wang\, PhD: 17th President\, Worcester Polytechnic Institute
URL:https://www.siliconvalleyacs.org/event/the-state-of-the-science-inaugural-address/
LOCATION:Hybrid
CATEGORIES:Webinar
ATTACH;FMTTYPE=image/png:https://www.siliconvalleyacs.org/wp-content/uploads/2024/06/Marcia-McNutt-Headshot-by-Christopher-Michel.png
END:VEVENT
END:VCALENDAR