BEGIN:VCALENDAR
VERSION:2.0
PRODID:-//SVACS - ECPv6.15.1.1//NONSGML v1.0//EN
CALSCALE:GREGORIAN
METHOD:PUBLISH
X-ORIGINAL-URL:https://www.siliconvalleyacs.org
X-WR-CALDESC:Events for SVACS
REFRESH-INTERVAL;VALUE=DURATION:PT1H
X-Robots-Tag:noindex
X-PUBLISHED-TTL:PT1H
BEGIN:VTIMEZONE
TZID:America/Los_Angeles
BEGIN:DAYLIGHT
TZOFFSETFROM:-0800
TZOFFSETTO:-0700
TZNAME:PDT
DTSTART:20230312T100000
END:DAYLIGHT
BEGIN:STANDARD
TZOFFSETFROM:-0700
TZOFFSETTO:-0800
TZNAME:PST
DTSTART:20231105T090000
END:STANDARD
END:VTIMEZONE
BEGIN:VEVENT
DTSTART;TZID=America/Los_Angeles:20231102T190000
DTEND;TZID=America/Los_Angeles:20231102T210000
DTSTAMP:20260425T083132
CREATED:20231103T212701Z
LAST-MODIFIED:20231103T212701Z
UID:20357-1698951600-1698958800@www.siliconvalleyacs.org
SUMMARY:Silicon Valley ACS Executive Committee Meeting
DESCRIPTION:7:00-9:00pm\, Online via Zoom\, Free. To attend as a guest\, please contact the Chair.
URL:https://www.siliconvalleyacs.org/event/silicon-valley-acs-executive-committee-meeting-3/
LOCATION:Hybrid
CATEGORIES:Section Business
ATTACH;FMTTYPE=image/jpeg:https://www.siliconvalleyacs.org/wp-content/uploads/2021/09/ExComm-Meeting-event-graphic.jpg
END:VEVENT
BEGIN:VEVENT
DTSTART;VALUE=DATE:20231103
DTEND;VALUE=DATE:20231104
DTSTAMP:20260425T083132
CREATED:20230906T074440Z
LAST-MODIFIED:20230906T074705Z
UID:20236-1698969600-1699055999@www.siliconvalleyacs.org
SUMMARY:4th Annual Bay Area Chemistry Symposium (BACS) 2023
DESCRIPTION:Robertson Auditorium\, UCSF Mission Bay\nFor more information on sponsorship & registration: bayareachemistrysymposium.com\nView and share flyer\n\nJoin Us for the 4th Annual Bay Area Chemistry Symposium (BACS)\nThe Bay Area Chemistry Symposium provides a unique opportunity to connect local students and academics with scientists from the pharmaceutical and biotechnology industries\, covering themes of synthesis and design in medicinal\, process\, biological\, and computational chemistry. The one-day symposium will feature keynote addresses given by leading professors and industrial chemists from the Bay Area and showcase research talks from graduate students\, post-doctoral fellows\, and industry researchers. A poster session will also take place with presentations representing research conducted in both academic and industry laboratories. This symposium\, co-chaired by Professor Ian Seiple of UCSF and Caleb Karmel of Maze Therapeutics\, promises to be an exciting and influential community building event for synthetic\, medicinal\, and computational chemists across the Bay Area.
URL:https://www.siliconvalleyacs.org/event/4th-annual-bay-area-chemistry-symposium-bacs-2023/
LOCATION:In-person
CATEGORIES:Symposium
ATTACH;FMTTYPE=image/jpeg:https://www.siliconvalleyacs.org/wp-content/uploads/2023/09/BACS-2023.jpg
END:VEVENT
BEGIN:VEVENT
DTSTART;TZID=America/Los_Angeles:20231104T103000
DTEND;TZID=America/Los_Angeles:20231104T120000
DTSTAMP:20260425T083132
CREATED:20231103T214144Z
LAST-MODIFIED:20231103T214144Z
UID:20361-1699093800-1699099200@www.siliconvalleyacs.org
SUMMARY:Shining Light on Solar Cells and Their Material Impacts
DESCRIPTION:Rachel Woods-Robinson\, PhD\, University of Washington Clean Energy Institute\nSponsored by California ACS\n10:30am-Noon\, Online via Zoom\, Free\, Registration required\n\nAbstract: Addressing climate change requires transitioning to renewables such as photovoltaic solar panels\, but one key barrier to this transition is that we need better materials. In this talk\, we’ll start at the sun and then zoom into a solar panel all the way down to the nanoscale\, highlighting materials challenges that scientists face at each length scale to make solar more efficient\, reliable\, and sustainable. We’ll meet the different material components\, such as absorbers and transparent conductors (TCs)\, and I’ll share some of my research into designing new TCs for solar. Next\, we’ll zoom back out to discuss challenges we face beyond the lab in bringing solar to society\, including critical raw materials\, environmental impacts\, and “green sacrifice zones.” Lastly\, I’ll share some insights from my outreach project Cycle for Science and college course Cycle the Rockies. \nAbout the speaker: Rachel Woods-Robinson (she/her) received a B.S. in Physics from UCLA\, and a Ph.D. at U.C. Berkeley and Berkeley Lab designing new crystals for solar energy by combining computational chemistry\, thin film growth\, and device fabrication. Rachel recently started as a Postdoctoral Fellow at University of Washington’s Clean Energy Institute to study environmental and human impacts of such new solar materials. In addition to research goals to curtail climate change\, Rachel aims to support scientists in sharing our work accessibly and engaging collaboratively with our communities\, and loves outdoor adventuring. She co-founded “Cycle for Science\,” in which scientists go on bicycle tours and visit K-12 classes to teach hands-on lessons about sustainability\, and she instructs “Cycle the Rockies” (Wild Rockies Field Institute)\, an immersive month-long course in which undergrads ride bicycles across Montana to learn about local energy and climate impacts.
URL:https://www.siliconvalleyacs.org/event/shining-light-on-solar-cells-and-their-material-impacts/
LOCATION:Virtual
CATEGORIES:Webinar
ATTACH;FMTTYPE=image/png:https://www.siliconvalleyacs.org/wp-content/uploads/2023/11/Rachel-Woods-Robinson.png
END:VEVENT
BEGIN:VEVENT
DTSTART;TZID=America/Los_Angeles:20231108T110000
DTEND;TZID=America/Los_Angeles:20231108T120000
DTSTAMP:20260425T083132
CREATED:20231103T215057Z
LAST-MODIFIED:20231103T215804Z
UID:20364-1699441200-1699444800@www.siliconvalleyacs.org
SUMMARY:The James Webb Space Telescope: Astrochemistry's Exciting New Window
DESCRIPTION:The James Webb Space Telescope: Astrochemistry’s Exciting New Window\nSponsored by ACS Webinars and the ACS PHYS Astrochemistry Subdivision\n11:00am-Noon\, Online via Zoom\, Free\, Registration required\n\nThe James Webb Space Telescope (“Webb”)\, the new flagship space mission from NASA\, can operate with exquisite sensitivity at infrared wavelengths and with two spectrometers on board covering the 1-28 micron wavelength range at medium spectral resolution (R~3000)\, it is also a fantastic new astrochemistry machine! \n\n\n\nJoin Ewine van Dishoeck\, Professor of Molecular Astrophysics at Leiden University as she presents the fascinating initial results of mid-infrared spectra of gases and ices in various environments\, ranging from cold dark clouds to warm protostars and planet-forming disks. During this interactive webinar you will explore the intricate chemistry behind the fascinating ice spectra found in the outer envelopes of protostars\, revealing complex molecular evidence. Then delve into the chemical makeup of young and mature disks\, unveiling a diverse array of gaseous compounds such as CO\, OH\, H2O\, CO2\, C2H2\, and HCN\, while uncovering exciting discoveries of novel molecules. Don’t miss this opportunity to witness the synergetic interplay of astronomy and chemical physics of our forming solar systems! \nThis ACS Webinar is moderated by David Woon of the University of Illinois Urbana-Champaign and is co-produced with the ACS PHYS Astrochemistry Subdivision. \n\n\n\n\n\n\nWhat You Will Learn\n\nA large variation in H2O vs CO2 is found in astronomical sources\nA rich hydrocarbon chemistry–from methane to benzene–is associated with very low-mass stars\nComplex organic molecules are formed in ices\n\n\n\n\n\n\n\nWebinar Details\n\nWednesday\, November 8\, 2023 @ 2-3pm ET\nFree to register with ACS ID\nSlides will be available on the day of the Live event
URL:https://www.siliconvalleyacs.org/event/the-james-webb-space-telescope-astrochemistrys-exciting-new-window/
LOCATION:Virtual
CATEGORIES:ACS Webinars
ATTACH;FMTTYPE=image/png:https://www.siliconvalleyacs.org/wp-content/uploads/2023/11/James-Webb-Telescope.png
END:VEVENT
BEGIN:VEVENT
DTSTART;TZID=America/Los_Angeles:20231109T110000
DTEND;TZID=America/Los_Angeles:20231109T120000
DTSTAMP:20260425T083132
CREATED:20231103T215736Z
LAST-MODIFIED:20231103T215736Z
UID:20367-1699527600-1699531200@www.siliconvalleyacs.org
SUMMARY:Psychological Safety is Lab Safety: Using RAMP to Assess DEIR Hazards
DESCRIPTION:Sponsored by ACS Webinars\, ACS Committee on Chemical Safety\, and ACS Chemical Health & Safety Division\n11:00am-Noon\, Online via Zoom\, Free\, Registration required\n\nThink back to a time when you tried to go to work or class tired\, stressed out\, or upset. You likely had difficulty focusing which lead to more mistakes\, poor collaboration\, and results that were not at your usual level. Now imagine that you feel this way every day at work\, and the stakes are higher because those mistakes can lead to dangerous lab incidents. Challenges around Diversity\, Equity\, Inclusion and Respect are often thought of as HR issues\, but poor mental health stemming from a toxic lab culture will inevitably lead to scientists engaging in risky lab behavior to protect their psychological safety at the detriment of their physical safety. Students bullied by their peers or supervisors begin to work at night\, alone\, to avoid those individuals. Professionals who do not hold a Ph.D. are told directly that their opinions on the safety of laboratory procedures do not matter and stop bringing up potential issues. Stress or pressure to produce results quickly (in both academia and industry) lead to improper risk assessment and unsafe practices. \n\n\n\nDiversity of thought creates a culture to avert disaster and a workspace where safety can be proactive rather than reactive. In a recently published JACS article\, anecdotes from academia and industry describe positive situations where a bench scientist who disclosed their pregnancy led to in-depth conversations around reproductive health and best safety practices in their lab. Individuals who came from different countries\, universities\, or companies were empowered to bring new perspectives to improve safety and challenge unsafe practices by suggesting alternative syntheses or chemical reagents. Individuals who felt psychologically safe enough to share their cultures with others had increased engagement. \nJoin authors of “Reducing Risk: Strategies to Advance Laboratory Safety through Diversity\, Equity\, Inclusion\, and Respect\,” Debbie Decker of ACS CHAS\, Anna Dunn of Merck\, and Daniel Jacques of SUNY Brockport\, as they discuss the latest research regarding the intersection of Safety and DEIR with innovative ideas on how to mitigate this hazard. Register now to discover how addressing DEIR hazards or issues by using the RAMP risk assessment framework will advance safety for all laboratory personnel. \nThis ACS Webinar is co-produced with the ACS Committee on Chemical Safety and the ACS Division of Chemical Health and Safety. \n\n\n\n\n\n\nWhat You Will Learn\n\nWhat is a DEIR hazard and what are some ideas on how to mitigate these risks\nHow one might apply the RAMP assessment concept to DEIR hazards\nAnecdotes from academia and industry regarding how marginalization\, stereotyping\, unconscious or conscious bias\, or other forms of exclusion have directly or indirectly led to increased safety incidents in the lab\n\n\n\n\n\n\n\nWebinar Details\n\nThursday\, November 9\, 2023 @ 2-3pm ET\nFree to register with ACS ID\nSlides will be available on the day of the Live event
URL:https://www.siliconvalleyacs.org/event/psychological-safety-is-lab-safety-using-ramp-to-assess-deir-hazards/
LOCATION:Virtual
CATEGORIES:ACS Webinars
ATTACH;FMTTYPE=image/png:https://www.siliconvalleyacs.org/wp-content/uploads/2023/11/Psychological-Safety-is-Lab-Safety.png
END:VEVENT
BEGIN:VEVENT
DTSTART;TZID=America/Los_Angeles:20231111T060000
DTEND;TZID=America/Los_Angeles:20231111T130000
DTSTAMP:20260425T083132
CREATED:20231103T221405Z
LAST-MODIFIED:20231103T221405Z
UID:20370-1699682400-1699707600@www.siliconvalleyacs.org
SUMMARY:Teaching Chemistry to Students with Disabilities Symposium (Hybrid Event)
DESCRIPTION:Sponsored by ACS New York Local Section\, ACS Committee on Chemists with Disabilities\, ACS Committee on Chemical Safety\, and the Graduate Center of the City University of New York\n6:00am-1:00pm\, Online via Zoom\, Free\, Registration required\n\nThe National Science Foundation estimates ~10% of undergraduates have at least one disability. The New York Local Section and the Committee on Chemists with Disabilities and the Committee on Chemical Safety of the American Chemical Society and the Graduate Center of the City University of New York are proud to co-sponsor a day-long symposia entitled ‘Teaching Chemistry to Students with Disabilities’.  Aimed at high school and college science faculty\, graduate teaching assistants\, and disability service administrators\, this free hybrid program will explore issues including safety considerations in the lab environment\, adapted lab equipment and procedures\, electronic data collection in the laboratory\, adaptations for written handouts\, computer resources\, and evaluative materials\, American Chemical Society materials and programs\, and service dogs in the laboratory environment.  This event is free\, but please register. \nE-Book: Teaching Chemistry to Students with Disabilities: Published by the ACS Committee on Chemists with Disabilities\, the 5th edition is now available in PDF format. This informative tool helps students and educators understand how to identify and address the needs of students with disabilities to ensure an inclusive and accessible chemistry education experience.  Download the 5th edition \nIf you have any need for accommodations\, please contact the symposium organizer\, Dr. Patricia Redden\, at predden@saintpeters.edu. \nIf you have questions or want to ensure you are on the mailing list\, please contact the symposium organizer\, Dr. Patricia Redden\, at predden@saintpeters.edu.  If you have expertise in any of the topics\, please contact Dr. Redden to be included in the program.
URL:https://www.siliconvalleyacs.org/event/teaching-chemistry-to-students-with-disabilities-symposium-hybrid-event/
LOCATION:Hybrid
CATEGORIES:Symposium
ATTACH;FMTTYPE=image/png:https://www.siliconvalleyacs.org/wp-content/uploads/2023/11/Teaching-Chemistry-to-Students-with-Disabilities.png
END:VEVENT
BEGIN:VEVENT
DTSTART;TZID=America/Los_Angeles:20231113T130000
DTEND;TZID=America/Los_Angeles:20231113T143000
DTSTAMP:20260425T083132
CREATED:20231103T223118Z
LAST-MODIFIED:20231103T223118Z
UID:20373-1699880400-1699885800@www.siliconvalleyacs.org
SUMMARY:Tour of the Shoreway Environmental Center\, the South Bay’s Waste Management Center
DESCRIPTION:Sponsored by the Society of Plastic Engineers\, Golden Gate Section\n1:00-2:30pm\, In-person in San Carlos\, Free\, Registration required\n\nTour of the Shoreway Environmental Center\, which is South Bay’s waste management center. The tour includes the Transfer Station and the Materials Recovery Facility (MRF).  Permission slip must be signed to attend \nLearn more about Rethink Waste
URL:https://www.siliconvalleyacs.org/event/tour-of-the-shoreway-environmental-center-the-south-bays-waste-management-center/
LOCATION:In-person
CATEGORIES:Tour
ATTACH;FMTTYPE=image/png:https://www.siliconvalleyacs.org/wp-content/uploads/2023/11/Rethink-Waste-SPE-GGS-Tour-.png
END:VEVENT
BEGIN:VEVENT
DTSTART;TZID=America/Los_Angeles:20231115T180000
DTEND;TZID=America/Los_Angeles:20231115T190000
DTSTAMP:20260425T083132
CREATED:20231103T223909Z
LAST-MODIFIED:20231103T223946Z
UID:20378-1700071200-1700074800@www.siliconvalleyacs.org
SUMMARY:Programmable Shape Morphing & Responsiveness of Composite Hydrogels
DESCRIPTION:Prof. Jinhye Bae\, UC San Diego\nDepartment of NanoEngineering & Materials Science and Engineering\nSponsored by the Golden Gate Polymer Forum (GGPF)\n6:00-7:00pm\, Online via Zoom\, Free/$5 Donation\, Registration required\n\nAbstract: The design and fabrication of stimuli-responsive hydrogels and hybrids with reversible shape morphing and tunable actuation speed have been of great interest. In this talk\, I will discuss our recent progress in approaches to integrate functional materials (e.g. graphene oxide\, nanoclay\, etc.) into stimuli-responsive hydrogels (e.g. poly(N-isopropylacrylamide)). These approaches provide insights into how the presence of functional additives and physical interactions between the additives and hydrogel networks can lead to different internal structures\, and thus mechanical properties. Next\, I will describe how we have leveraged these insights to precisely program the 3D shapes and control the swelling-deswelling kinetics by external stimuli\, and tune the mechanical properties. Lastly\, I will also demonstrate how different manufacturing processes can affect the microstructures and properties of hydrogels and their hybrids. Such a systemic approach to stimuli-responsive shape morphing systems of hydrogels and hybrids will allow us to understand their structure-property relationships and utilize these systems for applications ranging from soft robotics to biomedical devices. \nSpeaker background: Jinhye Bae is an Assistant Professor in the Department of NanoEngineering at the University of California\, San Diego. She received her Ph.D. in Polymer Science and Engineering at the University of Massachusetts\, Amherst\, then worked in the School of Engineering and Applied Sciences at Harvard University as a Postdoctoral Fellow. Her research focuses on understanding the structure-property relationship of polymeric materials to program their shape reconfiguration and responsiveness. Her research interests also include the integration of material characteristics into new structural design and fabrication approaches for applications in biomedical devices\, soft robotics\, actuators\, and sensors. She has received several awards including the ACS PMSE Young Investigator Award (2023)\, the AIChE President Young Investigator Award (2021)\, and the ACS PRF Doctoral New Investigator Award (2021)\, She also has been selected as the Emerging Investigator in Nanoscale (2023)\, Soft Matter (2022)\, and Polymer Chemistry (2020).
URL:https://www.siliconvalleyacs.org/event/programmable-shape-morphing-responsiveness-of-composite-hydrogels/
LOCATION:Virtual
CATEGORIES:Webinar
ATTACH;FMTTYPE=image/png:https://www.siliconvalleyacs.org/wp-content/uploads/2023/11/Jinhye-Bae.png
END:VEVENT
BEGIN:VEVENT
DTSTART;TZID=America/Los_Angeles:20231116T100000
DTEND;TZID=America/Los_Angeles:20231116T110000
DTSTAMP:20260425T083132
CREATED:20231103T224535Z
LAST-MODIFIED:20231103T224755Z
UID:20382-1700128800-1700132400@www.siliconvalleyacs.org
SUMMARY:Antibody-drug conjugates: Using IP and R&D Trends to Inform Innovation
DESCRIPTION:Sponsored by CAS (Chemical Abstracts Service)\n10:00-11:00am\, Online via Zoom\, Free\, Registration required\n\nAntibody-drug conjugates (ADCs) are among the most promising drug classes in oncology. The ADC research landscape is rapidly evolving\, driven by advancements in antibody engineering\, linker technology\, payload development and diversification\, and more. These new innovations are reshaping the promise of ADCs.. However\, they also present challenges for innovators and drug developers seeking to understand the complex and competitive intellectual property (IP) landscape. \nIn this webinar\, experts will explore the latest trends in ADC innovation and the complications of understanding the IP landscape in this area. They will highlight the critical importance of staying up to date with evolving R&D trends and patent filings to determine freedom to operate\, protect complex innovations\, and maximize ROI. \nWhat you will learn\n\n\nThe evolving global research and IP landscape of antibody-drug conjugates.\nUnique challenges of developing ADC therapeutics.\nThe competitive landscape and complex patent claims for related technologies.\nStrategies for a comprehensive IP search to inform investment and protect your innovations.\nInsights into how CAS content and solutions can enable innovators and IP professionals.
URL:https://www.siliconvalleyacs.org/event/antibody-drug-conjugates-using-ip-and-rd-trends-to-inform-innovation/
LOCATION:Virtual
CATEGORIES:CAS Webinar
ATTACH;FMTTYPE=image/png:https://www.siliconvalleyacs.org/wp-content/uploads/2023/11/Antibody-Drug-Conjugates.png
END:VEVENT
BEGIN:VEVENT
DTSTART;TZID=America/Los_Angeles:20231116T110000
DTEND;TZID=America/Los_Angeles:20231116T123000
DTSTAMP:20260425T083132
CREATED:20231103T231010Z
LAST-MODIFIED:20231103T231010Z
UID:20388-1700132400-1700137800@www.siliconvalleyacs.org
SUMMARY:Unbreakable Design: The Polymer Mechanochemistry of Self-Healing Materials
DESCRIPTION:Sponsored by ACS Webinars and ACS Polymer Chemistry Division\n11:00am-12:30pm\, Online via Zoom\, Free\, Registration required\n\nWhat if we could invent materials that can repair themselves when damaged? Polymer molecules in various states – solid\, melt\, solution – are susceptible to covalent bond changes in response to mechanical fields. For example\, traditional materials under load stress experience deformation which leads to deterioration. However\, the “mechanophore hypothesis” proposes that new materials can be created that utilize selective bond activation where force drives a chemical change in selective and productive ways\, leading to safer and longer lasting materials that are not susceptible to this cycle of deterioration. \n\n\n\nJeff Moore of the University of Illinois Urbana-Champaign will introduce you to the mechanophore hypothesis\, including the history of polymer mechanochemistry over the past two decades. Then\, Steve Craig of Duke University will share several examples of materials-chemistry interplay in polymer mechanochemistry. These case studies will highlight how scientists can harness the intrinsic strength of polymers to delve into\, shape\, and potentially redefine the underlying principles of reactivity\, and use embedded mechanochemical reactions to probe\, influence\, and even rewrite the performance rules of polymeric materials. Following these examples\, Jeff Moore will conclude the webinar by sharing a recently developed tool/framework that can help scientists approach designing mechanophores that are thermally stable but mechanochemically active\, paving the way for mechanoresponsive functions in polymeric materials. Discover how polymers have transitioned from a history of degradation to a future where mechanical adaptability is opening avenues for materials that heal themselves\, warn of high stress or can even repair electrical circuits. \nThis ACS Webinar is moderated by Junpeng Wang of the University of Akron and is co-produced with the ACS Division of Polymer Chemistry. \n\n\n\n\n\n\nWhat You Will Learn\n\nHistorical perspectives on polymer mechanochemistry\nHow the mechanophore hypothesis impacts selective and beneficial mechanochemistry in polymers\nWhy polymer mechanochemistry has a solid and quantitative foundation very much aligned with familiar reactivity principles\nHow the presence of mechanochemical reactions can have a profound and productive impact on polymer performance\nWhy embedding reactions in stretched polymeric materials can change the outcome of those reactions\nThe restoring force triangle as a mnemonic tool for mechanophore design\n\n\n\n\n\n\n\nWebinar Details\n\nThursday\, November 16\, 2023 @ 2-3:30pm ET\nFree to register with ACS ID\nSlides will be available on the day of the Live event
URL:https://www.siliconvalleyacs.org/event/unbreakable-design-the-polymer-mechanochemistry-of-self-healing-materials/
LOCATION:Virtual
CATEGORIES:ACS Webinars
ATTACH;FMTTYPE=image/png:https://www.siliconvalleyacs.org/wp-content/uploads/2023/11/Unbreakable-design-webinar.png
END:VEVENT
BEGIN:VEVENT
DTSTART;TZID=America/Los_Angeles:20231129T070000
DTEND;TZID=America/Los_Angeles:20231129T080000
DTSTAMP:20260425T083132
CREATED:20231103T225950Z
LAST-MODIFIED:20231103T225950Z
UID:20385-1701241200-1701244800@www.siliconvalleyacs.org
SUMMARY:Making dark formulations data work for you
DESCRIPTION:Sponsored by CAS (Chemical Abstracts Service)\n7:00-8:00am\, Online via Zoom\, Free\, Registration required\n\nJoin us for a discussion on formulations data with panelists from CAS\, Dow\, and Procter & Gamble. Learn about the challenges and opportunities of digitizing and leveraging formulations data to uncover valuable insights and enhance your company’s formulation innovation. \n\n\n\nWhat you will learn\n\n\nThe pitfalls of digitization and how to overcome them\nBest practices to search\, retrieve\, analyze\, and connect your data\nStrategies for getting the most from your existing data\, adding value and enhancing innovation
URL:https://www.siliconvalleyacs.org/event/making-dark-formulations-data-work-for-you/
LOCATION:Virtual
CATEGORIES:CAS Webinar
ATTACH;FMTTYPE=image/png:https://www.siliconvalleyacs.org/wp-content/uploads/2023/11/Making-Dark-Formulations-Data-Work-for-You.png
END:VEVENT
BEGIN:VEVENT
DTSTART;TZID=America/Los_Angeles:20231130T190000
DTEND;TZID=America/Los_Angeles:20231130T200000
DTSTAMP:20260425T083132
CREATED:20231103T232245Z
LAST-MODIFIED:20231105T183923Z
UID:20391-1701370800-1701374400@www.siliconvalleyacs.org
SUMMARY:SLAC Public Lecture: Faster! Catching up to Electrons on the Move (Hybrid Event)
DESCRIPTION:Sponsored by SLAC National Accelerator Laboratory7:00-8:00pm\, Free\, Registration required to attend in-person (SLAC National Accelerator Laboratory\, Kavli Auditorium\, 2575 Sand Hill Rd\, Menlo Park\, CA 94025) or Watch Live on SLAC National Accelerator Laboratory’s YouTube Channel | Learn more  \nAbstract: Electrons are tiny particles that hold together the atoms in molecules. When sunlight interacts with a molecule\, it first transfers its energy to the electrons.  Then\, as the electrons move\, the molecule changes form\, reshaping itself or even breaking apart.  We do not fully understand how electrons affect the molecules to which they belong because it is very hard to catch them in action.  Electrons move incredibly quickly\, and they behave according to the peculiar laws of quantum mechanics.  But now\, we can follow the motion of electrons using SLAC’s Linac Coherent Light Source\, an accelerator that can make pulses of X-rays that are shorter than one millionth of a billionth of a second.  In this lecture\, I will explain how this one-of-a-kind tool allows us to watch speedy electrons as they move. \n \nAbout the Speaker: Taran Driver is an Associate Staff Scientist at the Linac Coherent Light Source (LCLS) and the Stanford PULSE Institute. He grew up in the United Kingdom\, where he obtained his B.Sc. in physics and philosophy from the University of Nottingham in 2014\, and his Ph.D. in biomolecular structure analysis from Imperial College London in 2019. He came to SLAC in 2019 as a postdoctoral scholar at the Stanford PULSE Institute. His research at SLAC focuses on using the unique ultrashort X-ray pulses made by the LCLS to understand how electrons move within molecules. In his spare time\, he enjoys cycling and playing soccer in the California sunshine. \nSee also: Taran Driver wins 2023 LCLS Young Investigator Award for work on capturing ultrafast electron movements (SLAC News\, October 20\, 2023)
URL:https://www.siliconvalleyacs.org/event/slac-public-lecture-faster-catching-up-to-electrons-on-the-move-hybrid-event/
LOCATION:Hybrid event – SLAC\, 2575 Sand Hill Road\, Menlo Park\, 94025\, United States
CATEGORIES:Webinar,Public Lecture
ATTACH;FMTTYPE=image/png:https://www.siliconvalleyacs.org/wp-content/uploads/2023/11/SLAC-Public-Lecture.png
END:VEVENT
END:VCALENDAR