BEGIN:VCALENDAR
VERSION:2.0
PRODID:-//SVACS - ECPv6.15.1.1//NONSGML v1.0//EN
CALSCALE:GREGORIAN
METHOD:PUBLISH
X-WR-CALNAME:SVACS
X-ORIGINAL-URL:https://www.siliconvalleyacs.org
X-WR-CALDESC:Events for SVACS
REFRESH-INTERVAL;VALUE=DURATION:PT1H
X-Robots-Tag:noindex
X-PUBLISHED-TTL:PT1H
BEGIN:VTIMEZONE
TZID:America/Los_Angeles
BEGIN:DAYLIGHT
TZOFFSETFROM:-0800
TZOFFSETTO:-0700
TZNAME:PDT
DTSTART:20230312T100000
END:DAYLIGHT
BEGIN:STANDARD
TZOFFSETFROM:-0700
TZOFFSETTO:-0800
TZNAME:PST
DTSTART:20231105T090000
END:STANDARD
END:VTIMEZONE
BEGIN:VEVENT
DTSTART;TZID=America/Los_Angeles:20231005T110000
DTEND;TZID=America/Los_Angeles:20231005T120000
DTSTAMP:20260425T095025
CREATED:20230906T075452Z
LAST-MODIFIED:20230906T075553Z
UID:20241-1696503600-1696507200@www.siliconvalleyacs.org
SUMMARY:The “Ins and Outs” of Networking
DESCRIPTION:Sponsored by ACS Webinars\, ACS Professional Relations Division\, and ACS Industry Member Programs\nOnline via Zoom\, Free\, Registration required\n\nYour professional network is critical for your development and success as it creates future opportunities and strengthens your influence within your organization. Sounds like a great idea in theory\, but how do you make it a reality at your current workplace? \n\n\n\nJoin frequent ACS Webinar contributor\, Matt Grandbois of DuPont Electronics & Industrial\, as he shares more of his actionable tips and tricks for growing your network especially among the colleagues you interact with most…your coworkers inside the workplace! Register now to discover how to have fun while building a network that opens doors and increases your influence as you grow your career. \nThis ACS Webinar is moderated by Katherine Johnson of the ACS Younger Chemists Committee and ACS Division of Professional Relations and co-produced with ACS Industry Member Programs. \n\n\n\n\n\n\nWhat You Will Learn\n\nWhat is the difference between internal networking and external networking\nWhat are the benefits of growing your internal network and its impact on your career\nStrategies for increasing your influence and impact through internal networking\n\n\n\n\n\n\n\nWebinar Details\n\nThursday\, October 5\, 2023 @ 2-3pm ET\nFree to register with ACS ID\nThe slides will be available for download on the day of the event\n\n\n\n\n\n\n\nCo-Produced With\n\n\n\n\n\n\n\n\n\n\n\nACS Industry Member Programs and ACS Division of Professional Relations
URL:https://www.siliconvalleyacs.org/event/the-ins-and-outs-of-networking/
LOCATION:Virtual
CATEGORIES:ACS Webinars
ATTACH;FMTTYPE=image/jpeg:https://www.siliconvalleyacs.org/wp-content/uploads/2023/09/Ins-and-outs-of-networking.jpg
END:VEVENT
BEGIN:VEVENT
DTSTART;TZID=America/Los_Angeles:20231005T190000
DTEND;TZID=America/Los_Angeles:20231005T203000
DTSTAMP:20260425T095025
CREATED:20230906T074945Z
LAST-MODIFIED:20230906T074945Z
UID:20239-1696532400-1696537800@www.siliconvalleyacs.org
SUMMARY:Silicon Valley ACS Executive Committee Meeting
DESCRIPTION:7:30-9:00pm\, Online via Zoom\, Free. To attend as a guest\, please contact the Chair.
URL:https://www.siliconvalleyacs.org/event/silicon-valley-acs-executive-committee-meeting-2/
LOCATION:Virtual
CATEGORIES:Section Business
ATTACH;FMTTYPE=image/jpeg:https://www.siliconvalleyacs.org/wp-content/uploads/2021/09/ExComm-Meeting-event-graphic.jpg
END:VEVENT
BEGIN:VEVENT
DTSTART;TZID=America/Los_Angeles:20231007T123000
DTEND;TZID=America/Los_Angeles:20231007T150000
DTSTAMP:20260425T095025
CREATED:20230902T065711Z
LAST-MODIFIED:20230909T234635Z
UID:20179-1696681800-1696690800@www.siliconvalleyacs.org
SUMMARY:The Silicon Valley ACS invites you to the UC Santa Cruz Arboretum for wine-tasting & networking\, a discussion of winemaking\, and garden strolls
DESCRIPTION:Saturday\, October 7\, 2023\, 12:30-3pm at the UC Santa Cruz Arboretum & Botanic Garden\, Horticulture Room 2.   Cheese\, fruit\, and veggies will be served.  All attendees 21 years+ will receive a glass of wine during the reception (12:30pm-1pm) and will taste four different wines during Phil Crews’ presentation (1pm-3pm).  View flyer. \nReservations required by September 29th: $15 regular\, $10 students\, Free for under 21.  Pay at the door with cash or check.  Includes access to the UC Santa Cruz Arboretum all day\, 9am-5pm. \n\nUC Santa Cruz Arboretum & Botanic Garden | Visitor Guide & Updated Trail Map (PDF) | Directions\nWatch a video narrated by Frans Lanting\, noted wildlife photographer\, explaining the unique value of Arboretum & Botanic Garden.\n\nWines from great vintages to wildfire catastrophes: Merging natural products chemistry fundamentals with sensory evaluations.  A workshop to gain a 21st Century perspective.\nProf. Phil Crews\, Department of Chemistry & Biochemistry\, UC Santa Cruz\n \nAbstract: Wine is a complex liquid comprised of many bioorganic compounds in a 12.5% alcoholic solution with a pH range of 3-4. Wine quality assessment and winemaking methods have been in place for many centuries. Nowadays\, contemporary approaches to winemaking are quite scientific as many aspects of this complex drink appear to be understood. For example\, there is an excellent contemporary book\, “Understanding Wine Chemistry” (Waterhouse et al.\, 2017).  Decades ago\, Wired Magazine reported on the Grapes of Math (GoM) in a comprehensive article to underscore that consulting companies exist to help winemakers craft award winning wines. The GoM approach uses databases created via metabolomics approaches. On the other hand\, many subscribe to the idea that successful winemaking and wine quality evaluations can be achieved by just using a “right-brained” approach. In this wine-centric event we will explore principles of wines and winemaking through natural products & sensory evaluations. Different flavor outcomes achieved in winemaking as a function of grape variety and the terroir differences of vineyards in California will be illustrated. The approaches to wine creation will be explored using case examples.  Everyone at the workshop will have a chance to dissect the major and minor complex flavors and aromas associated with wines and to correlate them with a few key biomolecules. Answers to vexing questions will be sought by examining outcomes derived from tasting and talking about three different Burgundy style California wines.  Also discussed with be recent advances obtained by the Santa Cruz campaign (UCSC & SC Labs) using small molecule natural product wine chemo-markers to forecast wine quality damage caused by wildfire smoke. \nRecommended reading before the workshop:  https://doi.org/10.1021/acs.jnatprod.2c00028 (open access) \n \nBiography: Phil Crews is a California native and has spent most of his academic career in the state. He received his B.S. from the University of California at Los Angeles and his Ph.D. from UC Santa Barbara working with Domenick Bertelli. After becoming a postdoc at Princeton University\, in 1970\, he started as an Assistant Professor and is currently an Emeritus Professor for the Chemistry and Biochemistry Department at UC Santa Cruz. The primary goals of his research group were to understand the chemistry of tropical marine sponges and marine-derived fungi. Bioassay-guided isolation assisted in the discovery of natural products potent against human diseases such as cancer and neglected tropical diseases. The search for novel active compounds incorporated elements of structure elucidation\, employing state-of-the-art nuclear magnetic resonance (NMR) techniques. Crews Lab site \nA passionate home-winemaker and wine educator\, he took his “hobby” public. Specializing in Burgundian and Rhone style wines from select coastal vineyards\, the Pelican Ranch Winery is a family owned and operated winery in the heart of Capitola. Established in 1997\, the winery is just a few blocks from Monterey Bay\, which provides a constant\, cool\, coastal influence that allows for the making of fine elegant wines.
URL:https://www.siliconvalleyacs.org/event/the-silicon-valley-acs-invites-you-to-the-uc-santa-cruz-arboretum-for-wine-tasting-networking-a-discussion-of-winemaking-and-garden-strolls/
LOCATION:In-person UC Santa Cruz Arboretum & Botanic Garden\, Santa Cruz\, United States
CATEGORIES:Networking,Workshop
ATTACH;FMTTYPE=image/png:https://www.siliconvalleyacs.org/wp-content/uploads/2023/09/Grapes-in-hands.png
END:VEVENT
BEGIN:VEVENT
DTSTART;TZID=America/Los_Angeles:20231011T170000
DTEND;TZID=America/Los_Angeles:20231011T193000
DTSTAMP:20260425T095025
CREATED:20230907T013235Z
LAST-MODIFIED:20230907T013235Z
UID:20247-1697043600-1697052600@www.siliconvalleyacs.org
SUMMARY:Exploring Health And Environment: Navigating Chemicals In Our Everyday Lives
DESCRIPTION:A Joint Event Between California Section of American Chemical Society & Association of Women in Science\, East Bay Chapter. \nSchedule:\n5:00 – 5:30 PM: Sign-Up and Networking\n5:30 – 6:30 PM: Talk and Q&A\n6:30 – 7:30 PM: Networking W/ Light Bites \nLocation: 4D Molecular Therapeutics\, 5959 Horton St.\, #200 conference room\, Emeryville\, CA 94608.  Free\, registration required. \nAbstract: The presentation delves into the prevalent challenges of human infertility and congenital defects exacerbated by environmental toxins. Chemicals like bisphenol A (BPA) and phthalates\, present in plastics\, cosmetics\, and personal care items\, disrupt hormones and pathways as endocrine-disrupting compounds (EDCs). Despite efforts to replace BPA with alternatives labeled “BPA-Free\,” these substitutes carry similar risks. These findings emphasize the potential health risks\, urging consumer awareness\, policy reform\, and sustainable alternatives. \nAbout the speaker: Prof. Sonya Schuh\, originally from Southern California\, developed a passion for nature and water activities. Her curiosity and upbringing by educator parents led her to a science career. She earned a B.S. in Marine Biology and Zoology from Humboldt State University and conducted marine research. Later\, she completed her Ph.D. in Physiology and Biophysics at the University of Washington\, focusing on chemical effects on sperm. At Stanford’s Stem Cell Biology Institute\, she delved into genes and environmental factors affecting human reproduction. Joining Saint Mary’s College of California\, she initiated a research program on endocrine disruptors’ impact on stem cells and embryos. Dedicated to teaching and diverse collaborations\, her most cherished accomplishment is her three children\, inspiring her ongoing commitment to shaping a better future.
URL:https://www.siliconvalleyacs.org/event/exploring-health-and-environment-navigating-chemicals-in-our-everyday-lives/
LOCATION:In-person
CATEGORIES:Networking,Oral Presentation
ATTACH;FMTTYPE=image/jpeg:https://www.siliconvalleyacs.org/wp-content/uploads/2023/09/Exploring-Health-and-Environment.jpg
END:VEVENT
BEGIN:VEVENT
DTSTART;VALUE=DATE:20231020
DTEND;VALUE=DATE:20231021
DTSTAMP:20260425T095025
CREATED:20230907T021001Z
LAST-MODIFIED:20230907T021503Z
UID:20259-1697760000-1697846399@www.siliconvalleyacs.org
SUMMARY:National Chemistry Week\, Ronald McDonald House
DESCRIPTION:Sponsored by Silicon Valley ACS\nVolunteers needed.  Please contact us.\n\n  \nNational Chemistry Week (NCW) is a public awareness campaign that promotes the value of chemistry in everyday life. ACS members and chemistry enthusiasts celebrate NCW by coordinating events and communicating the importance of chemistry. Read more about NCW. \nNational Chemistry Week (#ACS_NCW) is celebrated this year during the week of October 15-21\, with the theme “The Healing Power of Chemistry.” Chemistry plays a crucial role in formulating the medicines we take when we get sick\, developing the vaccinations we roll our sleeves up for\, and testing the blood samples that we provide at our doctors’ offices. \nThe theme recognizes the tremendous advances made by medical professionals and scientists with inspiration from ancient peoples’ habits\, from plants and animals in the wild\, and from our own bodies’ mechanisms to prevent\, fight\, heal\, and restore us to health. Did you know\, currently about 11 percent of all medicines considered “essential” by the World Health Organization (WHO) are derived from flowering plants?
URL:https://www.siliconvalleyacs.org/event/national-chemistry-week-ronald-mcdonald-house/
LOCATION:In-person
CATEGORIES:Outreach,National Chemistry Week
ATTACH;FMTTYPE=image/jpeg:https://www.siliconvalleyacs.org/wp-content/uploads/2023/09/NCW-2023-e1694052647945.jpg
END:VEVENT
BEGIN:VEVENT
DTSTART;TZID=America/Los_Angeles:20231021T110000
DTEND;TZID=America/Los_Angeles:20231021T113000
DTSTAMP:20260425T095025
CREATED:20230907T015206Z
LAST-MODIFIED:20230910T033753Z
UID:20257-1697886000-1697887800@www.siliconvalleyacs.org
SUMMARY:Kid Makers: Pop Up Chemistry for Middle School Scientists
DESCRIPTION:Sponsored by ACS Silicon Valley and Redwood City Public Library (RCPL)\n11:00-11:30AM\, RCPL Downtown Location\, 1044 Middlefield Road\, Redwood City\, Free\, Learn more\n\nYoung scientists explore different aspects of chemistry! Celebrate National Chemistry with with a special Pop Up Chemistry. Join members of the ACS in the Makerspace and take part in hands on experiments. For ages 9-12.
URL:https://www.siliconvalleyacs.org/event/kid-makers-pop-up-chemistry-for-middle-school-scientists-4/
LOCATION:In-person (Redwood City Public Library-Downtown Library)\, 1044 Middlefield Road\, Redwood City\, CA\, 94063\, United States
CATEGORIES:Outreach
ATTACH;FMTTYPE=image/jpeg:https://www.siliconvalleyacs.org/wp-content/uploads/2022/11/PopUpChemistrySVACS-RWCLibrary_19Nov2022-small-400-1.jpg
ORGANIZER;CN="Redwood City Library":MAILTO:pevans@redwoodcity.org
END:VEVENT
BEGIN:VEVENT
DTSTART;TZID=America/Los_Angeles:20231025T110000
DTEND;TZID=America/Los_Angeles:20231025T120000
DTSTAMP:20260425T095025
CREATED:20230907T022025Z
LAST-MODIFIED:20230907T023555Z
UID:20264-1698231600-1698235200@www.siliconvalleyacs.org
SUMMARY:CAS SciFinderⁿ Live: What's New and Upcoming
DESCRIPTION:Sponsored by CAS (Chemical Abstracts Service)\n11am-Noon\, Online via Zoom\, Free\, Registration required\n\nJoin us as CAS SciFinderⁿ experts walk you through recent solution enhancements. We will go in-depth\, helping you understand how to take advantage of newly released features and the overall impact on researching in CAS SciFinderⁿ. Stick around until the end for a preview of some additional enhancements you can expect in the coming months. \nWhat You Will Learn\n\n\nStay current on the latest enhancements in CAS SciFindern.\nSee how these enhancements improve existing workflows and ask questions specific to your own research.\nGet a sneak peek at some of the upcoming enhancements in CAS SciFindern.\n\nPresenter(s): TBD
URL:https://www.siliconvalleyacs.org/event/cas-scifinder%e2%81%bf-live-whats-new-and-upcoming/
LOCATION:Virtual
CATEGORIES:CAS Webinar
ATTACH;FMTTYPE=image/jpeg:https://www.siliconvalleyacs.org/wp-content/uploads/2022/11/CAS-logo.jpg
END:VEVENT
END:VCALENDAR