BEGIN:VCALENDAR
VERSION:2.0
PRODID:-//SVACS - ECPv6.15.1.1//NONSGML v1.0//EN
CALSCALE:GREGORIAN
METHOD:PUBLISH
X-ORIGINAL-URL:https://www.siliconvalleyacs.org
X-WR-CALDESC:Events for SVACS
REFRESH-INTERVAL;VALUE=DURATION:PT1H
X-Robots-Tag:noindex
X-PUBLISHED-TTL:PT1H
BEGIN:VTIMEZONE
TZID:America/Los_Angeles
BEGIN:DAYLIGHT
TZOFFSETFROM:-0800
TZOFFSETTO:-0700
TZNAME:PDT
DTSTART:20230312T100000
END:DAYLIGHT
BEGIN:STANDARD
TZOFFSETFROM:-0700
TZOFFSETTO:-0800
TZNAME:PST
DTSTART:20231105T090000
END:STANDARD
END:VTIMEZONE
BEGIN:VEVENT
DTSTART;TZID=America/Los_Angeles:20230802T110000
DTEND;TZID=America/Los_Angeles:20230802T120000
DTSTAMP:20260425T122709
CREATED:20230708T032718Z
LAST-MODIFIED:20230708T032718Z
UID:20023-1690974000-1690977600@www.siliconvalleyacs.org
SUMMARY:How the Chemical Complexity of Aerosols Impacts Climate and Disease
DESCRIPTION:Aerosols are small particles (less than 100 micron in diameter) that contain a myriad of organic molecules\, including water\, salts\, lipids\, and even viruses and bacteria. \nJoin Rommie E. Amaro of the Airborne Institute and the University of California\, San Diego as she discusses how computational simulation is providing never-before-seen views into the structure and dynamics of fine aerosols. Register now to learn how state-of-the-art simulation is allowing scientists to understand the mechanisms by which aerosols play critical roles in climate and disease. \nThis ACS Webinar is moderated by Kenneth M. Merz Jr. of Michigan State University and the Journal of Chemical Information and Modeling and co-produced by ACS Committee on Science. \n\n\n\nWhat You Will Learn\n\nWhat are aerosols\, how are they made\, and where are they found\nHow aerosols impact climate\nHow aerosols play a role in disease transmission\n\n\n\n\n\n\n\nWebinar Details\n\nWednesday\, August 2\, 2023 @ 2-3pm ET\nFree to Register with ACS ID\nThe slides will available for download on the day of the event
URL:https://www.siliconvalleyacs.org/event/how-the-chemical-complexity-of-aerosols-impacts-climate-and-disease/
LOCATION:Virtual
CATEGORIES:ACS Webinars
ATTACH;FMTTYPE=image/jpeg:https://www.siliconvalleyacs.org/wp-content/uploads/2023/07/ACS-Webinar-How-Chemistry-Aerosols-Affects-Climate-Change-and-Disease.jpg
END:VEVENT
BEGIN:VEVENT
DTSTART;TZID=America/Los_Angeles:20230803T110000
DTEND;TZID=America/Los_Angeles:20230803T120000
DTSTAMP:20260425T122709
CREATED:20230708T054920Z
LAST-MODIFIED:20230708T054920Z
UID:20026-1691060400-1691064000@www.siliconvalleyacs.org
SUMMARY:Revising Technical Manuscripts: Improving Coherence\, Clarity & Conciseness
DESCRIPTION:“Perfection is achieved\, not when there is nothing left to add\, but when there is nothing left to take away” – Antoine-Marie-Roger de Saint-Exupery \nChemistry is complicated. Cleary and concisely communicating that complexity to your intended audience while also ensuring it has the intended impact isn’t easy\, nor does it happen on the first draft. Join Celia Elliott\, the Director of External Affairs and Special Projects in the Department of Physics at the University of Illinois Urbana-Champaign as she shares tips and strategies to help you focus your ideas\, decide what to cut during the editing process\, and present a professional looking document. \nThis ACS Webinar is moderated by Annabelle Lolinco\, Chemistry Ph.D. Candidate at Iowa State University and is co-produced with the ACS Division of Professional Relations. \n\n\n\nWhat You Will Learn\n\nA three-step revising process that can help you present your information clearly and concisely\nHow much time should be allocated for revisions\nHow to avoid “abstractitis”\n\n\n\n\n\n\n\nWebinar Details\n\nThursday\, August 3\, 2023 @ 2-3pm ET\nFree to Register with ACS ID\nThe slides will available for download on the day of the event
URL:https://www.siliconvalleyacs.org/event/revising-technical-manuscripts-improving-coherence-clarity-conciseness/
LOCATION:Virtual
CATEGORIES:ACS Webinars
ATTACH;FMTTYPE=image/jpeg:https://www.siliconvalleyacs.org/wp-content/uploads/2023/07/ACS-Webinar-Revising-Technical-Manuscripts.jpg
END:VEVENT
BEGIN:VEVENT
DTSTART;TZID=America/Los_Angeles:20230803T190000
DTEND;TZID=America/Los_Angeles:20230803T203000
DTSTAMP:20260425T122709
CREATED:20230708T023621Z
LAST-MODIFIED:20230708T023621Z
UID:19996-1691089200-1691094600@www.siliconvalleyacs.org
SUMMARY:Silicon Valley Executive Committee Meeting
DESCRIPTION:7:00-8:30pm\, Online via Zoom\, Free. To attend as a guest\, please contact the Chair.
URL:https://www.siliconvalleyacs.org/event/silicon-valley-executive-committee-meeting-8/
LOCATION:Virtual
CATEGORIES:Section Business
ATTACH;FMTTYPE=image/jpeg:https://www.siliconvalleyacs.org/wp-content/uploads/2021/09/ExComm-Meeting-event-graphic.jpg
END:VEVENT
BEGIN:VEVENT
DTSTART;TZID=America/Los_Angeles:20230805T160000
DTEND;TZID=America/Los_Angeles:20230805T193000
DTSTAMP:20260425T122709
CREATED:20230708T031218Z
LAST-MODIFIED:20230708T031218Z
UID:20015-1691251200-1691263800@www.siliconvalleyacs.org
SUMMARY:CALACS Day at the Oakland Coliseum – Oakland A’s Vs SF Giants
DESCRIPTION:Sponsored by the ACS California Section\n4pm\, Oakland Coliseum\, 7000 Joe Morgan Way\, Oakland\, CA 94621\, $26.95\, Registration required (Registration deadline: no later than Noon on August 3rd).\n\nGet ready for an epic showdown between the Oakland A’s and the SF Giants at the Oakland Coliseum on Sat Aug 05\, 2023\, at 4:00 PM (PDT). But this isn’t just any regular game – it’s CALACS DAY @ THE OAKLAND COLISEUM! Bring your friends\, family\, and colleagues to join us for an unforgettable afternoon of baseball. \nCost: $26.95 (25.00 ticket +1.95 EventBrite fee) = per person (NO REFUNDS)\nLocation: 7000 Joe Morgan Way\, Oakland\, CA 94621\, the Oakland Coliseum. \nReservations: Please visit calacs.org no later than Thursday\, August 3rd at noon.\nOr Eventbrite https://www.eventbrite.com/e/calacs-day-the-oakland-coliseum-oakland-as-vs-sf-giants-tickets-643203778817\nFor questions\, please contact Vanessa Marx at vanessa.marx@novartis.com
URL:https://www.siliconvalleyacs.org/event/calacs-day-at-the-oakland-coliseum-oakland-as-vs-sf-giants/
LOCATION:In-person
CATEGORIES:Sports Event
ATTACH;FMTTYPE=image/jpeg:https://www.siliconvalleyacs.org/wp-content/uploads/2023/07/Oakland-As-Baseball-Game.jpg
END:VEVENT
BEGIN:VEVENT
DTSTART;TZID=America/Los_Angeles:20230810T110000
DTEND;TZID=America/Los_Angeles:20230810T120000
DTSTAMP:20260425T122709
CREATED:20230708T055431Z
LAST-MODIFIED:20230708T055431Z
UID:20029-1691665200-1691668800@www.siliconvalleyacs.org
SUMMARY:AI for Learning\, Teaching\, and Writing
DESCRIPTION:How can using artificial intelligence tools like ChatGPT improve how you learn\, teach\, and write about chemistry? \nThe sudden popularity of natural language processing applications like ChatGPT with the general public mirrors the rapid adoption of artificial intelligence (AI) tools by students\, educators\, and researchers recently in academia. Join Amy Fuller of the University of Hawaii−Manoa\, André Silva Pimentel of the Pontifícia Universidade Católica do Rio de Janeiro\, and Kirk Schanze\, Editor-in-Chief of ACS Applied Materials & Interfaces for a discussion of available AI tools useful for chemistry education and technical writing and learn about the risks and limitations inherent in these applications. Register now to ask your questions about this emerging hot topic in education and get tips for how to responsibly use these tools to your advantage. \nThis ACS Webinar is moderated by Student Liaisons Damien Cooper and Alivia Ishee of the ACS Undergraduate Student Advisory Board and is co-produced by ACS Education and ACS Student Communities. \n\n\n\nWhat You Will Learn\n\nCreative uses of ChatGPT to support students\, educators\, and writers\nLimitations of current AI tools in understanding chemistry\nRequirements for use of AI in publishing\n\n\n\n\n\n\n\nWebinar Details\n\nThursday\, August 10\, 2023 @ 2-3pm ET\nFree to Register with ACS ID\nThe slides will available for download on the day of the event
URL:https://www.siliconvalleyacs.org/event/ai-for-learning-teaching-and-writing/
LOCATION:Virtual
CATEGORIES:ACS Webinars
ATTACH;FMTTYPE=image/jpeg:https://www.siliconvalleyacs.org/wp-content/uploads/2023/07/ACS-Webinar-AI-for-Learning-Teaching-Writing.jpg
END:VEVENT
BEGIN:VEVENT
DTSTART;TZID=America/Los_Angeles:20230812T100000
DTEND;TZID=America/Los_Angeles:20230812T130000
DTSTAMP:20260425T122709
CREATED:20230708T032033Z
LAST-MODIFIED:20230806T213229Z
UID:20020-1691834400-1691845200@www.siliconvalleyacs.org
SUMMARY:Kids Zone:  Hands on Chemistry for Kids
DESCRIPTION:Hosted by ACS President Judith C. Giordan\n10am-1pm\, Children’s Creativity Museum\, 221 4th St.\, San Francisco\, Free\nLearn more and register\n\nACS Kids Zones are free public events featuring facilitator-supported activities based on the theme for children and their families. ACS members\, including local chemists\, chemistry students\, and volunteer chemists of the ACS Committee on Community Activities support interactive investigations\, so children can learn with actual chemists. \nACS Fall 2023 Kids Zone\nOn Saturday\, August 12th\, ACS President Judith C. Giordan will host a free public event at San Francisco’s Children’s Creativity Museum. Participants will enjoy performing hands-on science activities\, the opportunity to meet chemists\, and take-home educational giveaways! \nFor this event\, we will present the following activities: \n\nCloudy with a Chance of Clear Color (PDF): Add an acid-base indicator to milk of magnesia. Then add citric acid for dramatic color changes that cycle through a few times until the cloudiness disappears!\nMake-and-Take Lotion (PDF): It’s a mixture; it’s a suspension\, it’s an emulsion; it’s lotion! Science has the solution to DIY lotion.\nConnect with Slime (PDF): Your body makes a viscous liquid like slime to get the germs out of your nose. Make a model of slime to take home!\nFruit Juice Sleuth (PDF): Add drops of juice to a solution of starch and iodine to find out which beverage contains more vitamin C.\nSecret Science of Self-Inflating Balloon (PDF): Self-inflating balloons contain the same ingredients that make fizzy medicines fizz. Feel and hear this cool chemical reaction!\n\nIf you are a chemist and will be in the San Francisco area on August 12\, we invite you to join us as a volunteer demonstrator for hands-on activities.
URL:https://www.siliconvalleyacs.org/event/kids-zone-hands-on-chemistry-for-kids/
LOCATION:In-person
CATEGORIES:Outreach,ACS National Meeting
ATTACH;FMTTYPE=image/jpeg:https://www.siliconvalleyacs.org/wp-content/uploads/2023/07/Kids-Zone-ACS-Fall-2023-e1691357607583.jpg
END:VEVENT
BEGIN:VEVENT
DTSTART;VALUE=DATE:20230813
DTEND;VALUE=DATE:20230818
DTSTAMP:20260425T122709
CREATED:20220909T174825Z
LAST-MODIFIED:20230606T054812Z
UID:19115-1691884800-1692316799@www.siliconvalleyacs.org
SUMMARY:ACS Fall 2023 National Meeting (In-Person and Virtual)
DESCRIPTION:Theme: Harnessing the Power of Data\nMoscone Center\, San Francisco\, CA\, Registration and Housing are now open\nACS Fall 2023 website\n\nWhere thousands of chemistry professionals meet to share ideas and advance scientific and technical knowledge.
URL:https://www.siliconvalleyacs.org/event/acs-fall-2023-national-meeting/
LOCATION:Hybrid
CATEGORIES:ACS National Meeting
ATTACH;FMTTYPE=image/jpeg:https://www.siliconvalleyacs.org/wp-content/uploads/2022/09/ACS-SanFrancisco.jpg
END:VEVENT
BEGIN:VEVENT
DTSTART;TZID=America/Los_Angeles:20230814T180000
DTEND;TZID=America/Los_Angeles:20230814T210000
DTSTAMP:20260425T122709
CREATED:20230806T215914Z
LAST-MODIFIED:20230806T220036Z
UID:20132-1692036000-1692046800@www.siliconvalleyacs.org
SUMMARY:CACS 2023 Fall Banquet/Keynote at the ACS 2023 Fall National Meeting
DESCRIPTION:Sponsored by Chinese American Chemical Society (CACS)\n6-9pm\, R&G Lounge in San Francisco Chinatown\, 631 Kearny Street\, San Francisco\, $70/person\n10-Course Banquet\, Open to All\, View Event Flyer & Ticket Info\, View Program Details\n\nSchedul \n6:00 – 6:45 pm      Registration and Social Hour \n6:45 – 7:05 pm      Welcome and Introductory Remarks by Dr. Marinda Li Wu\, CACS\, Chair of the Board of Directors;                                                   Past ACS President 2023 CACS Awards Ceremony by Dr. J. Louise Liu\, CACS 2023 President \n7:05 – 8:00 pm     10-Course Dinner Banquet\n8:00 – 9:00 pm     Introduction of Keynote Speakers by Drs. Marinda Li Wu and J. Louise Liu \n#1: Prof. Reuben Jih-Ru Hwu\, “Green Chemical Methods in Organic\nSynthesis Involving New Domino Reactions” (Click Here for Abstract)\n#2: Prof. L.-S. Fan\, “Multiscale Approach for Redox Chemical Looping –\na technology for clean energy future” (Click Here for Abstract) \n9:00 – 9:05 pm   Concluding Remarks by Dr. Marinda Li Wu
URL:https://www.siliconvalleyacs.org/event/cacs-2023-fall-banquet-keynote-at-the-acs-2023-fall-national-meeting/
LOCATION:In-person
CATEGORIES:Dinner Meeting
ATTACH;FMTTYPE=image/jpeg:https://www.siliconvalleyacs.org/wp-content/uploads/2022/11/Chinese-American-Chemical-Society-Northern-California-Chapter.jpg
END:VEVENT
BEGIN:VEVENT
DTSTART;TZID=America/Los_Angeles:20230830T100000
DTEND;TZID=America/Los_Angeles:20230830T110000
DTSTAMP:20260425T122709
CREATED:20230806T222802Z
LAST-MODIFIED:20230806T222802Z
UID:20140-1693389600-1693393200@www.siliconvalleyacs.org
SUMMARY:ORCID Workshop for Researchers
DESCRIPTION:Sponsored by ORCID Lyrasis US Community\n10-11am\, Online via Zoom\, Free\, Registration required\n\nGetting and using your free ORCID iD and ORCID record can help you save time and get credit for your work in funding\, publishing\, and research reporting workflows. Funding organizations\, publishers\, and research institutions are increasingly requiring or asking for ORCID iDs from researchers\, so this workshop will help you make sure you are ahead of the game. \nIn this workshop\, we will cover: \n\nAn overview of the benefits of ORCID for researchers\nHow ORCID can help you save time throughout the research landscape\nTips and tricks for keeping your ORCID record up-to-date\n\nNo prior experience with ORCID necessary. The session recording will be sent to all who register. See you there! \nTo view tutorials and learn more about ORCID\, also see: The Stanford Libraries LibGuide about ORCID
URL:https://www.siliconvalleyacs.org/event/orcid-workshop-for-researchers-2/
LOCATION:Virtual
CATEGORIES:Webinar
ATTACH;FMTTYPE=image/jpeg:https://www.siliconvalleyacs.org/wp-content/uploads/2023/08/ORCID-US-Community.jpg
END:VEVENT
BEGIN:VEVENT
DTSTART;TZID=America/Los_Angeles:20230830T110000
DTEND;TZID=America/Los_Angeles:20230830T114500
DTSTAMP:20260425T122709
CREATED:20230806T220951Z
LAST-MODIFIED:20230806T221101Z
UID:20134-1693393200-1693395900@www.siliconvalleyacs.org
SUMMARY:CAS SciFinder-n Live: What's New and Upcoming
DESCRIPTION:Sponsored by CAS (Chemical Abstracts Service)\n11:00-11:45 am\, Online via Zoom\, Free\, Registration required\n\n\nJoin us as CAS SciFindern experts walk you through recent solution enhancements. We will go in-depth\, helping you understand how to take advantage of newly released features and the overall impact on researching in CAS SciFindern. Stick around until the end for a preview of some additional enhancements you can expect in the coming months. \n\n\n\nWhat You Will Learn\n\n\nStay current on the latest enhancements in CAS SciFindern.\nSee how these enhancements improve existing workflows and ask questions specific to your own research.\nGet a sneak peek at some of the upcoming enhancements in CAS SciFindern.
URL:https://www.siliconvalleyacs.org/event/cas-scifinder-n-live-whats-new-and-upcoming-2/
LOCATION:Virtual
CATEGORIES:CAS Webinar
ATTACH;FMTTYPE=image/jpeg:https://www.siliconvalleyacs.org/wp-content/uploads/2022/11/CAS-logo.jpg
END:VEVENT
END:VCALENDAR