BEGIN:VCALENDAR
VERSION:2.0
PRODID:-//SVACS - ECPv6.15.1.1//NONSGML v1.0//EN
CALSCALE:GREGORIAN
METHOD:PUBLISH
X-WR-CALNAME:SVACS
X-ORIGINAL-URL:https://www.siliconvalleyacs.org
X-WR-CALDESC:Events for SVACS
REFRESH-INTERVAL;VALUE=DURATION:PT1H
X-Robots-Tag:noindex
X-PUBLISHED-TTL:PT1H
BEGIN:VTIMEZONE
TZID:America/Los_Angeles
BEGIN:DAYLIGHT
TZOFFSETFROM:-0800
TZOFFSETTO:-0700
TZNAME:PDT
DTSTART:20230312T100000
END:DAYLIGHT
BEGIN:STANDARD
TZOFFSETFROM:-0700
TZOFFSETTO:-0800
TZNAME:PST
DTSTART:20231105T090000
END:STANDARD
END:VTIMEZONE
BEGIN:VEVENT
DTSTART;TZID=America/Los_Angeles:20230706T190000
DTEND;TZID=America/Los_Angeles:20230706T210000
DTSTAMP:20260425T134326
CREATED:20230121T031924Z
LAST-MODIFIED:20230706T071728Z
UID:19586-1688670000-1688677200@www.siliconvalleyacs.org
SUMMARY:Silicon Valley Executive Committee Meeting
DESCRIPTION:7:30-9:00pm\, Online via Zoom\, Free. To attend as a guest\, please contact the Chair.
URL:https://www.siliconvalleyacs.org/event/silicon-valley-executive-committee-meeting-7/
LOCATION:Virtual
CATEGORIES:Section Business
ATTACH;FMTTYPE=image/jpeg:https://www.siliconvalleyacs.org/wp-content/uploads/2021/09/ExComm-Meeting-event-graphic.jpg
END:VEVENT
BEGIN:VEVENT
DTSTART;TZID=America/Los_Angeles:20230708T160000
DTEND;TZID=America/Los_Angeles:20230708T190000
DTSTAMP:20260425T134326
CREATED:20230505T053428Z
LAST-MODIFIED:20230628T034338Z
UID:19833-1688832000-1688842800@www.siliconvalleyacs.org
SUMMARY:Annual BBQ Picnic and Awards Ceremony
DESCRIPTION:A family-friendly event\, please join us for our annual picnic and awards ceremony!  Download flyer \n\nDate and Time: July 8\, 2023\,  4-7pm\n\n4:00-5:00 pm: Wine and Beer Tasting with hors d’oevres\n5:00-6:00 pm: Dinner catered by Armadillo Willy’s\n6:00-7:00 pm: Awards and Recognitions – SVACS Ottenberg Award\, SVACS Community College Teacher-Scholar Awards\, and celebrating 50-\, 60- and 70-year ACS members\n\n\nLocation: Cuesta Park Group BBQ Areas #1-2\, Mountain View\, California (view map\, get directions)\nRegistration: Advanced registration required. Registration deadline is July 5\, 2023 (to make sure there is plenty of food).\nCost: Adult: $20.00 Student: $10.00 Children under age 12: $5.00.  Payment by cash or check at the door.  If paying by check\, please make it out to “Silicon Valley ACS.”\n\nWe look forward to seeing you\, your friends and your families!
URL:https://www.siliconvalleyacs.org/event/annual-picnic-and-awards-ceremony/
LOCATION:In-Person in Mountain View at Cuesta Park Group BBQ Areas #1-2\, 615 Cuesta Drive\, Mountain View\, CA\, United States
CATEGORIES:Awards,Annual Picnic
ATTACH;FMTTYPE=image/jpeg:https://www.siliconvalleyacs.org/wp-content/uploads/2023/05/Picnic_SVACS-8July2023_Flyer-scaled.jpg
END:VEVENT
BEGIN:VEVENT
DTSTART;TZID=America/Los_Angeles:20230712T110000
DTEND;TZID=America/Los_Angeles:20230712T120000
DTSTAMP:20260425T134326
CREATED:20230708T024312Z
LAST-MODIFIED:20230708T024312Z
UID:19998-1689159600-1689163200@www.siliconvalleyacs.org
SUMMARY:Chemistry and the Economy: 2023 Mid-Year Review
DESCRIPTION:Are we charging ahead into a brick wall? The U.S. chemical industry is at a critical juncture where decisions must be made on overcapacity and growing political concerns\, including risks to major recent China oriented investments that need to be repurposed to support long-term growth in plastic recycling and growing concerns over PFAs from regulators and the legal system. \nJoin Paul Hodges of New Normal Consulting and Bill Carroll of Carroll Applied Science as they share data and their observations on what is affecting the chemical economy\, what tough decisions lie ahead\, and predict the factors that will shape industry in the near future. \nThis ACS Webinar is co-produced with ACS Industry Member Programs and ACS Division of Business Development and Management. \n\n\n\nWhat You Will Learn\n\nHow chemical plant closures and repurposing these facilities to process recycled materials could be the perfect response to overcapacity issues\nHow will recent political sanctions on slave labor in China and Russian oil importation affect global supply and demand\nWhat will be the chemical industry’s response to the clash between manufacturers regulators\, and the legal system concerning per- and polyfluoroalkyl substances (PFAs)\n\n\n\n\n\n\n\nWebinar Details\n\nWednesday\, July 12\, 2023 @ 2-3pm ET\nFree to Register with ACS ID\nThe slides will available for download on the day of the event
URL:https://www.siliconvalleyacs.org/event/chemistry-and-the-economy-2023-mid-year-review/
LOCATION:Virtual
CATEGORIES:ACS Webinars
ATTACH;FMTTYPE=image/jpeg:https://www.siliconvalleyacs.org/wp-content/uploads/2023/07/ACS-Webinar-Chemistry-Economy-MidYear-Review-2023.jpg
END:VEVENT
BEGIN:VEVENT
DTSTART;TZID=America/Los_Angeles:20230713T110000
DTEND;TZID=America/Los_Angeles:20230713T120000
DTSTAMP:20260425T134326
CREATED:20230708T024858Z
LAST-MODIFIED:20230708T024858Z
UID:20002-1689246000-1689249600@www.siliconvalleyacs.org
SUMMARY:How Student Feedback Can Help Us Teach Better
DESCRIPTION:Focusing on student-centered instruction fosters a more effective and inclusive learning environment. Students possess unique perspectives and insights that can greatly enhance instruction and curricula when educators move past traditional ratings and evaluations from students to capture feedback that is timely\, accurate\, and actionable. \nJoin Valerie Wright\, Director of Diversity\, Equity\, and Inclusion at the American Sociological Association\, Emily Miller\, Deputy Vice President for Institutional Policy at the Association of American Universities\, and Kevin Gable\, Professor Emeritus at Oregon State University\, as they discuss the current state of teaching evaluations and what opportunities exist to offer educational experiences that improve student outcomes. Register now to learn how we can reframe student evaluations of teaching and move beyond student ratings. \nThis ACS Webinar is co-produced with ACS Education and the Society Committee on Education. \n\n\n\nWhat You Will Learn\n\nWhat are the risks associated with student ratings and evaluations of teaching\nHow can we obtain student feedback effectively\nWhat are the steps for implementing student feedback mechanisms\n\n\n\n\n\n\n\nWebinar Details\n\nThursday\, July 13\, 2023 @ 2-3pm ET\nFree to Register with ACS ID\nThe slides will available for download on the day of the event
URL:https://www.siliconvalleyacs.org/event/how-student-feedback-can-help-us-teach-better/
LOCATION:Virtual
CATEGORIES:ACS Webinars
ATTACH;FMTTYPE=image/jpeg:https://www.siliconvalleyacs.org/wp-content/uploads/2023/07/ACS-Webinar-How-Student-Feedback-can-Help.jpg
END:VEVENT
BEGIN:VEVENT
DTSTART;TZID=America/Los_Angeles:20230715T140000
DTEND;TZID=America/Los_Angeles:20230715T150000
DTSTAMP:20260425T134326
CREATED:20230708T025342Z
LAST-MODIFIED:20230708T025342Z
UID:20006-1689429600-1689433200@www.siliconvalleyacs.org
SUMMARY:Kid Makers: Pop Up Chemistry for Middle School Scientists
DESCRIPTION:Sponsored by Silicon Valley ACS and Redwood City Public Library\nLocation: Redwood City Downtown Library\, 1044 Middlefield Rd\, Free\, Learn more\n\nYoung scientists explore different aspects of chemistry! Once a month\, join members of the ACS and take part in hands on experiments. For ages 9-12. This program will take place in the Makerspace.
URL:https://www.siliconvalleyacs.org/event/kid-makers-pop-up-chemistry-for-middle-school-scientists-3/
LOCATION:In-person (Redwood City Public Library-Downtown Library)\, 1044 Middlefield Road\, Redwood City\, CA\, 94063\, United States
CATEGORIES:Outreach
ATTACH;FMTTYPE=image/jpeg:https://www.siliconvalleyacs.org/wp-content/uploads/2022/05/Redwood-City-Public-Library.jpg
ORGANIZER;CN="Redwood City Library":MAILTO:pevans@redwoodcity.org
END:VEVENT
BEGIN:VEVENT
DTSTART;TZID=America/Los_Angeles:20230719T110000
DTEND;TZID=America/Los_Angeles:20230719T120000
DTSTAMP:20260425T134326
CREATED:20230708T030553Z
LAST-MODIFIED:20230708T030553Z
UID:20012-1689764400-1689768000@www.siliconvalleyacs.org
SUMMARY:Fundamentals of Intellectual Property for Scientists
DESCRIPTION:Intellectual Property (IP) rights receive significant attention in the public discourse when movie studios\, musicians\, and major silicon valley companies challenge the unauthorized exploitation of their creations\, but IP is just as vital to protecting scientists as they work to invent formulas\, processes\, and software programs to solve the world’s most complex technological challenges. Whether you are at the early stages of research or preparing to commercialize your big discovery\, scientists at all stages of their careers can benefit from a fundamental understanding of IP rights and protections. \nJoin Katherine Rubino\, Partner and Chair of Life Sciences Practice Group at Caldwell and Edgardo Mantilla\, Intellectual Property Counsel at Thermo Fisher Scientific as they discuss the key fundamental concepts of IP that will include an introduction to patents\, trade secrets\, copyrights and trademarks. Register now to learn the value of securing an IP portfolio to assist in your potential business transactions. This ACS Webinar is co-produced with the ACS Division of Chemistry and the Law. \n\n\n\nWhat You Will Learn\n\nWhat are the different types of intellectual properties\nHow to select the appropriate form of IP protection\nWhat are some potential ways of thinking about the value of your IP\n\n\n\n\n\n\n\nWebinar Details\n\nWednesday\, July 19\, 2023 @ 2-3pm ET\nFree to Register with ACS ID\nThe slides will available for download on the day of the event
URL:https://www.siliconvalleyacs.org/event/fundamentals-of-intellectual-property-for-scientists/
LOCATION:Virtual
CATEGORIES:ACS Webinars
ATTACH;FMTTYPE=image/jpeg:https://www.siliconvalleyacs.org/wp-content/uploads/2023/07/ACS-Webinar-Fundamentals-of-IP-Rights.jpg
END:VEVENT
BEGIN:VEVENT
DTSTART;TZID=America/Los_Angeles:20230727T110000
DTEND;TZID=America/Los_Angeles:20230727T120000
DTSTAMP:20260425T134326
CREATED:20230708T030115Z
LAST-MODIFIED:20230708T030115Z
UID:20009-1690455600-1690459200@www.siliconvalleyacs.org
SUMMARY:The Art of Securing Research Funding: Crafting Effective Grant Proposals
DESCRIPTION:In the competitive landscape of grant applications\, it’s not just about having a brilliant idea. The art of crafting and writing the proposal itself is equally vital. \nJoin Program Manager and Assistant Director Nancy Jensen of the Office of Research Grants at ACS as she provides practical tips for identifying funding sources\, suggests effective approaches for presenting research plans\, and identifies some common pitfalls in preparing proposals. In addition\, hear firsthand from accomplished grant recipients\, Associate Dean of the College and Associate Professor of Chemistry Emily McLaughlin of Bard College and Stevenson Professor of Chemistry Stephen Townsend of Vanderbilt\, as they share perspectives born from their experiences navigating the critical factors that led to successful research grant funding. Register now to discover the secrets to crafting a compelling proposal that captures attention and secures valuable research grant funding! \nThis ACS Webinar is moderated by Director of the Office of Research Grants Joerg Schlatterer at ACS and co-produced with ACS Office of Research Grants and the ACS Petroleum Research Fund. \n\n\n\nWhat You Will Learn\n\nEssential techniques for developing a competitive grant proposal and strategies to avoid common errors in proposal writing\nInvaluable knowledge on where to locate potential funding sources\nHow to realistically handle rejection and turn it into a constructive opportunity for growth\n\n\n\n\n\n\n\nWebinar Details\n\nThursday\, July 27 @ 2-3pm ET\nFree to Register with ACS ID\nThe slides will available for download on the day of the event
URL:https://www.siliconvalleyacs.org/event/the-art-of-securing-research-funding-crafting-effective-grant-proposals/
LOCATION:Virtual
CATEGORIES:ACS Webinars
ATTACH;FMTTYPE=image/jpeg:https://www.siliconvalleyacs.org/wp-content/uploads/2023/07/ACS-Webinar-Art-of-Securing-Research-Funding.jpg
END:VEVENT
BEGIN:VEVENT
DTSTART;VALUE=DATE:20230728
DTEND;VALUE=DATE:20230731
DTSTAMP:20260425T134326
CREATED:20230215T001038Z
LAST-MODIFIED:20230215T001038Z
UID:19690-1690502400-1690761599@www.siliconvalleyacs.org
SUMMARY:Postdoc to Faculty Workshop: A Workshop for Prospective Chemical Sciences Faculty
DESCRIPTION:Sponsored by ACS\nHeld in Chicago\, Illinois (Learn more and register)\nSee also: Graduate Students and Postdoctoral Scholars (resources on the ACS website)\n\n\n\n\n\n\nIf you are a postdoctoral fellow interested in a faculty position in the chemical sciences at a college or university\, this workshop can help you prepare for a rewarding career. \n\n\n\n\n\n\nThe Postdoc to Faculty (P2F) Workshop: \n\n\n\n\n\n\n\ncompares positions and respective expectations in undergraduate and graduate chemistry departments\nprovides assistance with and feedback on faculty application materials\npresents strategies for balancing scholarship\, teaching\, and service expectations with life outside academia\ncreates a network of early-career faculty along with mentors\, who can help guide newly-appointed professors\nintroduces interactive teaching models and provides resources to facilitate their incorporation\n\n\n\n\n\n\nWhen and Where\n\n\n\n\n\nThe 2023 Postdoc to Faculty Workshop will be held on July 28 – July 30\, 2023 in Chicago\, IL. \nSafety is a core value of the American Chemical Society\, and as such the health and well-being of our members\, community\, and staff are paramount. Currently\, the 2023 Postdoc to Faculty Workshop is currently scheduled to be held in person. However\, we will continue to monitor the latest updates regarding the current pandemic and will update workshop participants and facilitators if a virtual space is necessary. \n\n\n\n\n\nHow to Apply\n\n\n\n\n\nThe 2023 Postdoc to Faculty Workshop application will open January 10\, 2023 at 8:00 AM ET. \nTips for Securing a Faculty Position\nThis booklet is based on advice from a group of faculty members who facilitated two ACS “Postdoc to Faculty” workshops\, 2018 P2F in Boston\, MA and 2019 P2F in Atlanta\, GA. \n\n\nContact Us\n\n\n\n\n\nIf you have any questions\, please email us at Postdoc@acs.org
URL:https://www.siliconvalleyacs.org/event/postdoc-to-faculty-workshop-a-workshop-for-prospective-chemical-sciences-faculty/
LOCATION:In-Person in Mountain View at Cuesta Park Group BBQ Areas #1-2\, 615 Cuesta Drive\, Mountain View\, CA\, United States
CATEGORIES:Careers,Workshop
ATTACH;FMTTYPE=image/jpeg:https://www.siliconvalleyacs.org/wp-content/uploads/2023/02/Tips-for-Securing-a-Faculty-Position.jpg
END:VEVENT
END:VCALENDAR