BEGIN:VCALENDAR
VERSION:2.0
PRODID:-//SVACS - ECPv6.15.1.1//NONSGML v1.0//EN
CALSCALE:GREGORIAN
METHOD:PUBLISH
X-ORIGINAL-URL:https://www.siliconvalleyacs.org
X-WR-CALDESC:Events for SVACS
REFRESH-INTERVAL;VALUE=DURATION:PT1H
X-Robots-Tag:noindex
X-PUBLISHED-TTL:PT1H
BEGIN:VTIMEZONE
TZID:America/Los_Angeles
BEGIN:DAYLIGHT
TZOFFSETFROM:-0800
TZOFFSETTO:-0700
TZNAME:PDT
DTSTART:20230312T100000
END:DAYLIGHT
BEGIN:STANDARD
TZOFFSETFROM:-0700
TZOFFSETTO:-0800
TZNAME:PST
DTSTART:20231105T090000
END:STANDARD
END:VTIMEZONE
BEGIN:VEVENT
DTSTART;TZID=America/Los_Angeles:20230202T183000
DTEND;TZID=America/Los_Angeles:20230202T200000
DTSTAMP:20260425T195944
CREATED:20230121T030318Z
LAST-MODIFIED:20230121T030318Z
UID:19576-1675362600-1675368000@www.siliconvalleyacs.org
SUMMARY:Silicon Valley Executive Committee Meeting
DESCRIPTION:7:30-9:00pm\, Online via Zoom\, Free. To attend as a guest\, please contact the Chair.
URL:https://www.siliconvalleyacs.org/event/silicon-valley-executive-committee-meeting-2/
LOCATION:Virtual
CATEGORIES:Section Business
ATTACH;FMTTYPE=image/jpeg:https://www.siliconvalleyacs.org/wp-content/uploads/2021/09/ExComm-Meeting-event-graphic.jpg
END:VEVENT
BEGIN:VEVENT
DTSTART;TZID=America/Los_Angeles:20230214T070000
DTEND;TZID=America/Los_Angeles:20230214T110000
DTSTAMP:20260425T195944
CREATED:20230108T144904Z
LAST-MODIFIED:20230108T144904Z
UID:19520-1676358000-1676372400@www.siliconvalleyacs.org
SUMMARY:Breaking Barriers in Science - IUPAC Global Women’s Breakfast (#GWB2023)
DESCRIPTION:Sponsored by the International Union of Pure and Applied Chemistry\nLearn more\n\nJoin us on February 14\, 2023 for the IUPAC Global Women’s Breakfast (#GWB2023). Held in conjunction with the U.N. Day of Women and Girls in Science\, The goal of the GWB series is to establish an active network of people of all genders to overcome the barriers to gender equality in science. \nThe theme of #GWB2023 is “Breaking Barriers in Science”. Groups from all types of science organizations from high schools\, to science societies\, universities\, companies\, governments and non-governmental organizations are invited to host events. GWB is also a flagship event of the International Year of Basic Sciences for Sustainable Development bringing together people from all science disciplines. \nBecome and Event Organizer\, login to your account\, and register your event today. Check out our new Organizers Guide. Don’t miss this opportunity to expand your professional network across disciplines and across the world. \nSubscribe now to the GWB2023 newsletter to be kept updated on the latest events and news!
URL:https://www.siliconvalleyacs.org/event/breaking-barriers-in-science-iupac-global-womens-breakfast-gwb2023/
LOCATION:Virtual
CATEGORIES:Outreach,Networking
ATTACH;FMTTYPE=image/jpeg:https://www.siliconvalleyacs.org/wp-content/uploads/2022/02/Global-Womens-Breakfast-e1644312000760.jpg
END:VEVENT
BEGIN:VEVENT
DTSTART;TZID=America/Los_Angeles:20230215T100000
DTEND;TZID=America/Los_Angeles:20230215T110000
DTSTAMP:20260425T195944
CREATED:20230214T221522Z
LAST-MODIFIED:20230214T223018Z
UID:19651-1676455200-1676458800@www.siliconvalleyacs.org
SUMMARY:No More Hidden Figures: Being Seen\, Heard\, and Influencing Chemistry as Black Women
DESCRIPTION:Sponsored by ACS Webinars and ACS Office of Diversity\, Equity\, Inclusion & Respect\n11am-Noon\, Online via Zoom\, Free\, Registration required\n\nJoin us for a free interactive broadcast during Black History Month\, featuring Chief Operating Officer Teri Quinn Gray of Provivi\, Inc.\, Associate Dean of the Graduate School in Arts and Sciences Malika Jeffries-EL of Boston University\, and Director of PMTA Submissions Kimberly Agnew-Heard of Altria Client Services. \nThese accomplished leaders will share their personal experiences breaking barriers and paving the way for future generations in the fields of science\, technology\, engineering\, and mathematics. Register now to gain inspiration to pursue your STEM dreams and discover the professional opportunities available today. \nThis ACS Webinar is co-produced with the ACS Office of Diversity\, Equity\, Inclusion & Respect and moderated by President Manny Guzman of CAS\, a division of the American Chemical Society. \n\n\n\n\nWhat You Will Learn\n\nPersonal stories about blazing trails\, opening doors\, and inspiring future generations of black women to pursue careers in STEM\nHow consistency\, persistency\, and community are keys for success\nThe importance of representation in influencing your personal and professional trajectory\n\n\n\n\n\n\n\nWebinar Details\n\nWednesday\, February 15\, 2022 @ 2-3pm ET\nFree to Register with ACS ID\nThe slides will available for download on the day of the event\n\n\n\n\n\n\n\nCo-Producer\n\n\n\n\n\n\n\n\n\n\n\nACS Office of Diversity\, Equity\, Inclusion & Respect
URL:https://www.siliconvalleyacs.org/event/no-more-hidden-figures-being-seen-heard-and-influencing-chemistry-as-black-women/
LOCATION:Virtual
CATEGORIES:ACS Webinars
ATTACH;FMTTYPE=image/jpeg:https://www.siliconvalleyacs.org/wp-content/uploads/2023/02/ACS-Webinar-No-more-hidden-figures.jpg
END:VEVENT
BEGIN:VEVENT
DTSTART;TZID=America/Los_Angeles:20230215T100000
DTEND;TZID=America/Los_Angeles:20230215T110000
DTSTAMP:20260425T195944
CREATED:20230214T224954Z
LAST-MODIFIED:20230214T224954Z
UID:19669-1676455200-1676458800@www.siliconvalleyacs.org
SUMMARY:CAS SciFinder-n Live: What's New and Upcoming
DESCRIPTION:11am-Noon\, Online via Zoom\, Free\, Registration required\n\nJoin us as CAS SciFindern experts walk you through recent solution enhancements. We will go in-depth\, so you will understand why the changes were made and the positive impact on your research efforts. Stick around until the end for a preview of some additional enhancements you can expect in the coming months. \nWhat you will learn:   \n\nStay current on the latest enhancements in CAS SciFindern.\nSee how these enhancements improve existing workflows and ask questions specific to your own research.\nGet a sneak peek at some of the upcoming enhancements in CAS SciFindern.\n\nPresenter(s): John Kratunis\, Jan Baur
URL:https://www.siliconvalleyacs.org/event/cas-scifinder-n-live-whats-new-and-upcoming/
LOCATION:Virtual
CATEGORIES:CAS Webinar
ATTACH;FMTTYPE=image/jpeg:https://www.siliconvalleyacs.org/wp-content/uploads/2022/11/CAS-logo.jpg
END:VEVENT
BEGIN:VEVENT
DTSTART;TZID=America/Los_Angeles:20230216T100000
DTEND;TZID=America/Los_Angeles:20230216T110000
DTSTAMP:20260425T195944
CREATED:20230214T222104Z
LAST-MODIFIED:20230214T223046Z
UID:19655-1676541600-1676545200@www.siliconvalleyacs.org
SUMMARY:Crossroads of Chemistry: Decisions\, Opportunities and Finding your Path
DESCRIPTION:Sponsored by ACS Webinars and ACS Committee on Science\n11am-Noon\, Online via Zoom\, Free\, Registration required\n\nWhether you are a student seeking a career in a chemistry-related science or someone already employed seeking new directions\, opportunities are plentiful if you know where to look and if you make the right connections. ACS National Meetings offer the chance to learn about the latest research and meet practitioners from every field of the discipline. \n\n\n\nJoin Jayshree Seth\, Corporate Scientist & Chief Science Advocate at 3M and Christina Bodurow\, Deputy Director and Chief Operating Officer of AViDD at Stanford University School of Medicine as they discuss the small and large decisions that can shape a career in chemical sciences as well as the fertile environment for networking found at ACS National Meetings and how to discover employment opportunities once you are there. \nThis ACS Webinar is co-produced with the ACS Committee on Science. \n\n\n\n\n\n\nWhat You Will Learn\n\nHow to increase your technical competency as a early\, mid\, and long-term career chemist\nHow to gain business experience in innovation and product development and how to build a scientific network to gain knowledge in your specific field\nThe important role that ACS Meetings (especially National Meetings) play\, and the value they can add to your career development\n\n\n\n\n\n\n\nWebinar Details\n\nThursday\, February 16\, 2022 @ 2-3pm ET\nFree to Register with ACS ID\nThe slides will available for download on the day of the event\n\n\n\n\n\n\n\nCo-Producer\n\n\n\n\n\n\n\n\n\n\n\n\nACS Committee on Science
URL:https://www.siliconvalleyacs.org/event/crossroads-of-chemistry-decisions-opportunities-and-finding-your-path/
LOCATION:Virtual
CATEGORIES:ACS Webinars
ATTACH;FMTTYPE=image/jpeg:https://www.siliconvalleyacs.org/wp-content/uploads/2023/02/ACS-Webinar-Crossroads-of-Chemistry.jpg
END:VEVENT
BEGIN:VEVENT
DTSTART;TZID=America/Los_Angeles:20230216T160000
DTEND;TZID=America/Los_Angeles:20230216T173000
DTSTAMP:20260425T195944
CREATED:20230214T230224Z
LAST-MODIFIED:20230214T230224Z
UID:19671-1676563200-1676568600@www.siliconvalleyacs.org
SUMMARY:Bacteriophages in Human Health and Disease
DESCRIPTION:Paul Bollyky\, MD\, PhD\nSponsored by Café Scientifique Silicon Valley\n5:00-6:30pm\, Online via Zoom\, Free\, Registration required\n\nDescription of the talk\nBacteriophages\, viruses that infect bacteria\, are a frontier in human health. Phages are some of the best studied organisms on earth with critical roles in biotechnology. They are also highly abundant in our bodies\, outnumbering both our own cells and the bacteria that produce them. However\, we are just beginning to understand the roles that phages play in our own biology. Here\, we will explore the fascinating biology of bacteriophages and their interactions with both their human and bacterial hosts. We will highlight recent data from our lab and others implicating bacteriophages in human disease. We will also discuss efforts to use bacteriophages to promote human health. \nAbout the speaker\nPaul Bollyky is an Associate Professor and infectious disease physician at Stanford University. He received his D.Phil at the University of Oxford\, and his MD at Harvard Medical School. He then completed his residency training at Brigham and Women’s Hospital followed by his fellowship training in Infectious Diseases and Immunology at the University of Washington in Seattle. His lab studies trans-kingdom interactions between bacteriophages\, bacteria\, and their human hosts\, and is interested in understanding how these interactions contribute to health and disease and in using bacteriophages to treat chronic infections.
URL:https://www.siliconvalleyacs.org/event/bacteriophages-in-human-health-and-disease/
LOCATION:Virtual
CATEGORIES:Webinar
ATTACH;FMTTYPE=image/jpeg:https://www.siliconvalleyacs.org/wp-content/uploads/2023/02/Cafe-Scientifique-Paul-Bollyky.jpg
END:VEVENT
BEGIN:VEVENT
DTSTART;TZID=America/Los_Angeles:20230216T173000
DTEND;TZID=America/Los_Angeles:20230216T183000
DTSTAMP:20260425T195944
CREATED:20230108T142821Z
LAST-MODIFIED:20230214T230618Z
UID:19510-1676568600-1676572200@www.siliconvalleyacs.org
SUMMARY:Persistent Micelle Templates for Single-Variable Series of Porous Nanomaterials
DESCRIPTION:Prof. Morgan Stefic\, Chemistry and Biochemistry Dept.\, Univ. of South Carolina\nSponsored by the Golden Gate Polymer Forum (GGPF)\n6:30 PM Online via Zoom\, Registration required (Registration deadline: Feb. 15 at 1pm)\n\nAbstract\nBlock polymer structure‐directing agents (SDA) enable the production of porous nanoscale materials by controlling the arrangement of material precursors. The subsequent removal of the polymer thus yields porous nanomaterials that are useful for a wide range of applications including energy storage and catalysis. The iteration of most such strategies however leads to complex sequences of nanomaterials that change multiple spatial variables at a time\, including morphology\, pore size\, and wall thickness. In contrast\, persistent micelle templates (PMT) are based upon the kinetic entrapment of polymer chains to enable sample adjustments with constant morphology (isomorphic) and constant pore size (ref.1). Such series of nanomaterials with a single spatial variable are well poised to clarify cause-and-effect for nanoscale phenomena. The PMT approach has enabled wide spanning feature sizes over two orders of magnitude with 2 Å precision adjustments between samples. The PMT method is simple to validate with diffraction models and is feasible in any laboratory with minimal equipment. Finally\, recent energy device research enabled by PMT is noted where tailored nanomaterials provided a unique perspective to unravel complex battery behaviors (ref. 2). \nReferences \n1)    Stefik\, M.\, Single-Variable Porous Nanomaterial Series from Polymer Structure Directing Agents. Journal of Materials Research 2022\, 37\, 25-42.  Open Access: https://dx.doi.org/10.1557/s43578-021-00421-0 \n2)    van den Bergh\, W.; Stefik\, M.\, Understanding Rapid Intercalation Materials One Parameter at a Time. Advanced Functional Materials 2022\, 32\, 2204126.  Open Access: https://dx.doi.org/10.1002/adfm.202204126 \nSpeaker Background & Research Interests:\n\nMorgan Stefik is an Associate Professor of Chemistry and Biochemistry at the University of South Carolina and is the founding director of the South Carolina SAXS Collaborative. He obtained a BE degree in Materials Engineering from California Polytechnic State University in 2005 and a PhD degree in Materials Science from Cornell University in 2010. He then completed postdoctoral research at École Polytechnique Fédérale de Lausanne. His accolades include a National Science Foundation CAREER Award in 2018\, recognition as an Emerging Investigator by the Journal of Materials Chemistry A in 2017\, a Breakthrough Star Award from the University of South Carolina in 2018\, election to the council of the International Mesostructured Materials Association in 2018\, selection as an ACS PMSE division Young Investigator in 2020\, recognition as an Early Career Scholar by the Journal of Materials Research in 2022\, a Garnet Apple Award for Teaching Innovation from the University of South Carolina in 2022\, and a Hanse-Wissenschaftskolleg Fellowship in 2022. \n\n 
URL:https://www.siliconvalleyacs.org/event/persistent-micelle-templates-for-single-variable-series-of-porous-nanomaterials-2/
LOCATION:Virtual
CATEGORIES:Webinar
ATTACH;FMTTYPE=image/jpeg:https://www.siliconvalleyacs.org/wp-content/uploads/2021/09/Golden-Gate-Polymer-Forum.jpg
END:VEVENT
BEGIN:VEVENT
DTSTART;TZID=America/Los_Angeles:20230217T070000
DTEND;TZID=America/Los_Angeles:20230217T083000
DTSTAMP:20260425T195944
CREATED:20230214T233003Z
LAST-MODIFIED:20230214T233155Z
UID:19678-1676617200-1676622600@www.siliconvalleyacs.org
SUMMARY:What is a Chemical? Innovation in Chemical Descriptions
DESCRIPTION:Sponsored by International Union of Pure and Applied Chemistry (IUPAC)\n8:00am-9:30am\, Online via Zoom\, Free\, Registration required (Learn more)\n\nThe IUPAC WorldFAIR Chemistry project is pleased to invite you to attend the fourth webinar of our series titled “What is a Chemical? : Innovation in Chemical descriptions. We are focusing on innovations and creative approaches to chemical description\, particularly those that address chemicals in complex systems: such as reactions\, multiple-component systems/mixtures\, complexes\, composites\, formulations\, and using these in different computational settings\, representation services\, tools\, and mechanisms. \nThe webinar series highlights the current status of working with descriptions of chemical substances\, development of digital tools to transform chemical data notation into digital entities\, and ways to implement FAIR (Findable\, Accessible\, Interoperable\, Reusable) data principles across the chemical enterprise. \nThis webinar will last for 90 min\, and we have invited 5 guest speakers to present their perspectives on the use of chemical substance notation” in their field within a 5 min flash presentation for each speaker. This will be followed by a panel discussion.
URL:https://www.siliconvalleyacs.org/event/what-is-a-chemical-innovation-in-chemical-descriptions/
LOCATION:Virtual
CATEGORIES:Webinar
ATTACH;FMTTYPE=image/jpeg:https://www.siliconvalleyacs.org/wp-content/uploads/2023/02/IUPAC-WorldFAIR-Chemistry.jpg
END:VEVENT
BEGIN:VEVENT
DTSTART;TZID=America/Los_Angeles:20230224T163000
DTEND;TZID=America/Los_Angeles:20230224T190000
DTSTAMP:20260425T195944
CREATED:20221202T212350Z
LAST-MODIFIED:20230217T213126Z
UID:19401-1677256200-1677265200@www.siliconvalleyacs.org
SUMMARY:Mosher Award Reception and Lecture for Professor Richard Zare
DESCRIPTION:Please join us for this event to help celebrate Dick Zare! \n\nDate: February 24 \nTime: 5:30-7:00pm Wine tasting\, heavy hors d’oeuvres\, wine\, and networking reception; 7:00-8:00pm Mosher lecture and award presentation\nLocation: Stanford University\, Sapp Center for Science Teaching and Learning\, 376 Lomita Dr\, Stanford\, CA 94305 (free parking after 4pm).  View on Stanford map (shows visitor parking). View on Google Maps\nCost: $20 regular/$10 students (cash-only\, pay at the door).  Show photo ID if you want to drink wine.\nRegistration required. (Registration deadline: February 18 at Midnight)\nPlease see accompanying article\nDownload flyer\n\nTitle: Recalling Adventures in the Stanford Chemistry Department\nAbstract:\nI have been a member of the Stanford Chemistry Department for over 40 years\, serving six years as its chair (2006 -2011). During this time\, I have witnessed some amazing changes\, and I want to take this opportunity to tell you some stories about what it has been like\, stories about teaching\, stories about research\, and stories of what it was like to be chair. I am reminded of the opening sentence of Charles Dickens’ A Tale of Two Cities: “It was the best of times\, it was the worst of times\, it was the age of wisdom\, it was the age of foolishness\, it was the epoch of belief\, it was the epoch of incredulity\, it was the season of Light\, it was the season of Darkness\, it was the spring of hope\, it was the winter of despair\, we had everything before us\, we had nothing before us\, we were all going direct to Heaven\, we were all going direct the other way—in short\, the period was so far like the present period\, that some of its noisiest authorities insisted on its being received\, for good or for evil\, in the superlative degree of comparison only.” Hopefully\, my presentation will not emulate this sentence in length or in extremes\, but I do hope to provide some insight to what it was like to be here at Stanford during this period that saw the Stanford Chemistry Department grow so much in strength. \nBio:\n“A pioneer in the use of lasers to study chemical reactions at the molecular level\, Marguerite Blake Wilbur Professor Richard N. Zare pursues diverse theoretical and experimental interests in physical chemistry and nanoscale chemical analysis. The Zarelab has made a broad impact in analytic chemistry with development of laser-induced fluorescence to study reaction dynamics\, and seminal contributions to understanding of molecular collision processes. The group continues to invent tools and measurement techniques to study phenomena from reaction in microdroplets to drug delivery. \nBorn in 1939 in Cleveland\, Ohio\, Professor Zare trained in physical and analytical chemistry at Harvard University (B.A. 1961\, Ph.D. 1964). His doctoral study under Professor Dudley Herschbach explored photodissociation dynamics. After faculty positions spanning chemistry at the Massachusetts Institute of Technology\, chemistry\, physics and astrophysics at the University of Colorado\, and chemistry at Columbia University\, he joined the Stanford chemistry faculty in 1977. He has taught an introductory chemistry class every year since. As a Howard Hughes Medical Institute Professor since 2006\, Professor Zare has also developed a course introducing undergraduates to hands-on interdisciplinary research\, combining physics\, and biology to explore how living systems use molecular interactions with light for vision\, photosynthesis and more. Professor Zare served as chair of the Department of Chemistry from 2005 to 2011\, and has helped to guide scientific policy as chairman of several national and international science boards. His dedication to research and teaching has been recognized in many awards\, including the National Medal of Science\, the Wolf Prize in Chemistry\, and the Presidential Award for Excellence in Science\, Mathematics\, and Engineering Mentoring. Among other honors\, Professor Zare is a member of the National Academy of Sciences\, the American Academy of Arts and Sciences\, and the American Philosophical Society. He has also received 11 honorary doctorates. \nCurrent research in the Zarelab explores wide-ranging questions in physical and analytical chemistry\, from the study of elementary chemical reactions to chemical analysis of extraterrestrial materials. The major focus of these efforts is chemical analysis on the nanoscale. The team has devised tools and techniques to examine molecules in extremely tiny volumes – the volumes characteristic of what is found in heterogeneous structures in mineral samples or in the contents of cells and subcellular compartments. Group members have also made contributions to the chemical analysis of liquid samples separated using a capillary format by electrophoresis or electrochromatography. Some “firsts” include the use of cavity ring-down spectroscopy to analyze trace species in solution\, development of detectors for capillary electrophoresis based on the techniques of laser-induced fluorescence\, and CCD imaging\, and the use of mass spectrometric imaging of tissue samples by means of desorption electrospray ionization.” \nPlease visit the Zarelab website to learn more: https://web.stanford.edu/group/Zarelab/ \nSource for biographical information: The text above was copied from Professor Zare’s entry in Stanford Profiles.
URL:https://www.siliconvalleyacs.org/event/mosher-award-reception-and-lecture-for-richard-zare/
LOCATION:In-Person in Mountain View at Cuesta Park Group BBQ Areas #1-2\, 615 Cuesta Drive\, Mountain View\, CA\, United States
CATEGORIES:Awards,Networking
ATTACH;FMTTYPE=image/jpeg:https://www.siliconvalleyacs.org/wp-content/uploads/2022/12/zare-May-2022-e1670012532411.jpg
END:VEVENT
BEGIN:VEVENT
DTSTART;TZID=America/Los_Angeles:20230225T093000
DTEND;TZID=America/Los_Angeles:20230225T110000
DTSTAMP:20260425T195944
CREATED:20230214T234123Z
LAST-MODIFIED:20230214T234123Z
UID:19684-1677317400-1677322800@www.siliconvalleyacs.org
SUMMARY:Nonlinear Career Path: A New Normal and a Fun One
DESCRIPTION:Atefeh Taheri\, Chevron and 2023 Chair for Cal ACS\nSponsored by California ACS Section Women Chemists Committee\n10:30am-noon\, Online via Zoom\, Free\, Registration required\n\nAbstract\nPeople ask children what they want to be when they grow up. It took Atefeh some years to realize that she had a broad interest in many topics and wanted to try various roles and responsibilities. Atefeh has embraced what Sheryl Sandberg\, former COO of Meta\, has said\, “Careers are not ladders\, those days are long gone\, but jungle gyms. Jungle gyms offer more creative exploration”. In this talk\, Atefeh will share her story and career journey and discuss how nonlinear career paths can be challenging but very rewarding at the same time. \nAbout the Speaker\nAtefeh Taheri received her B.Sc. and M.Sc. in Analytical Chemistry from the Sharif University of Technology in Tehran\, Iran. She earned her Ph.D. in Chemistry from Johns Hopkins University with Prof. Jerry Meyer and then worked as a postdoctoral researcher at UC Davis with Prof. Louise Berben. She started her first industry position as a product developer and formulator for the Clorox company. She then joined Chevron corporation\, initially as a fundamental scientist. She has held various roles in Chevron. Currently\, Atefeh is the Reliability and Maintenance Team Lead for the Western US plants and terminals of the America Fuels and Lubricants business unit of Chevron. In addition\, Atefeh is the 2023 Chair for Cal ACS\, on the leadership team of the Association of Women in Science East Bay chapter\, and one of the leaders of Chevron PRIDE in Richmond (an Employee Resource Group for LGBTQA+ employees and allies).
URL:https://www.siliconvalleyacs.org/event/nonlinear-career-path-a-new-normal-and-a-fun-one/
LOCATION:Virtual
CATEGORIES:Careers,Morning Meeting,Webinar
ATTACH;FMTTYPE=image/jpeg:https://www.siliconvalleyacs.org/wp-content/uploads/2023/02/CAL-ACS-Webinar-Atefeh-Taheri.jpg
END:VEVENT
END:VCALENDAR