BEGIN:VCALENDAR
VERSION:2.0
PRODID:-//SVACS - ECPv6.15.1.1//NONSGML v1.0//EN
CALSCALE:GREGORIAN
METHOD:PUBLISH
X-ORIGINAL-URL:https://www.siliconvalleyacs.org
X-WR-CALDESC:Events for SVACS
REFRESH-INTERVAL;VALUE=DURATION:PT1H
X-Robots-Tag:noindex
X-PUBLISHED-TTL:PT1H
BEGIN:VTIMEZONE
TZID:America/Los_Angeles
BEGIN:DAYLIGHT
TZOFFSETFROM:-0800
TZOFFSETTO:-0700
TZNAME:PDT
DTSTART:20250309T100000
END:DAYLIGHT
BEGIN:STANDARD
TZOFFSETFROM:-0700
TZOFFSETTO:-0800
TZNAME:PST
DTSTART:20251102T090000
END:STANDARD
END:VTIMEZONE
BEGIN:VEVENT
DTSTART;TZID=America/Los_Angeles:20251017T110000
DTEND;TZID=America/Los_Angeles:20251017T120000
DTSTAMP:20260423T155208
CREATED:20251012T112454Z
LAST-MODIFIED:20251012T112454Z
UID:22132-1760698800-1760702400@www.siliconvalleyacs.org
SUMMARY:Understanding\, Developing\, and Implementing Laboratory Safety and Safety Culture in Two-Year Colleges
DESCRIPTION:Sponsored by the 2 Year College Chemistry Consortium (2YC3)\, ACS Committee on Chemical Safety\, and ACS Division of Chemical Health and Safety Two-Year College Lab Safety Community of Practice\, \n11am-Noon Pacific Time\, Online\, Free\, Registration required
URL:https://www.siliconvalleyacs.org/event/understanding-developing-and-implementing-laboratory-safety-and-safety-culture-in-two-year-colleges/
END:VEVENT
BEGIN:VEVENT
DTSTART;TZID=America/Los_Angeles:20251016T150000
DTEND;TZID=America/Los_Angeles:20251016T160000
DTSTAMP:20260423T155208
CREATED:20251012T112400Z
LAST-MODIFIED:20251012T112400Z
UID:22130-1760626800-1760630400@www.siliconvalleyacs.org
SUMMARY:Harnessing Biological Redox Processes for Sensors and Diagnostics
DESCRIPTION:Assoc. Prof. Ariel L. Furst\, Massachusetts Institute of Technology \nSponsored by Southern California ACS Section \n3:00-4:00 pm\, Online\, Free\, Registration required\, Download Flyer
URL:https://www.siliconvalleyacs.org/event/harnessing-biological-redox-processes-for-sensors-and-diagnostics/
LOCATION:Virtual
END:VEVENT
BEGIN:VEVENT
DTSTART;TZID=America/Los_Angeles:20251016T150000
DTEND;TZID=America/Los_Angeles:20251016T160000
DTSTAMP:20260423T155208
CREATED:20251012T112107Z
LAST-MODIFIED:20251012T112107Z
UID:22128-1760626800-1760630400@www.siliconvalleyacs.org
SUMMARY:National Chemistry Week Seminar - “Spice is Nice”
DESCRIPTION:Prof. Richard N. Zare\, Stanford University \n3:00-4:00 pm\, Stanford Univ.\, 376 Lomita Dr\, Stanford\, CA 94305\, Sapp Center Lecture Hall (STLC 114)\, Free\, Learn more
URL:https://www.siliconvalleyacs.org/event/national-chemistry-week-seminar-spice-is-nice/
LOCATION:In-person
END:VEVENT
BEGIN:VEVENT
DTSTART;TZID=America/Los_Angeles:20251016T103000
DTEND;TZID=America/Los_Angeles:20251016T130000
DTSTAMP:20260423T155208
CREATED:20251012T110817Z
LAST-MODIFIED:20251012T110817Z
UID:22126-1760610600-1760619600@www.siliconvalleyacs.org
SUMMARY:ViridisChem: AI-Driven Tools Enabling Green Chemistry Adoption
DESCRIPTION:Neelam Vaidya\, CEO ViridisChem \nSponsored by California ACS Section \n11:30 am-1:00 pm\, Online\, Free\, Registration required
URL:https://www.siliconvalleyacs.org/event/viridischem-ai-driven-tools-enabling-green-chemistry-adoption/
LOCATION:Virtual
END:VEVENT
BEGIN:VEVENT
DTSTART;TZID=America/Los_Angeles:20251015T150000
DTEND;TZID=America/Los_Angeles:20251015T160000
DTSTAMP:20260423T155208
CREATED:20251012T103441Z
LAST-MODIFIED:20251012T110645Z
UID:22121-1760540400-1760544000@www.siliconvalleyacs.org
SUMMARY:Unraveling Flavor Chemistry Sensory Experience and Food Innovation
DESCRIPTION:Prof. Devin G. Peterson\, Ohio State University \nSponsored by Southern California ACS Section \n3:00-4:00 pm\, Online\, Free\, Registration required\, Download flyer
URL:https://www.siliconvalleyacs.org/event/unraveling-flavor-chemistry-sensory-experience-and-food-innovation/
LOCATION:Virtual
END:VEVENT
BEGIN:VEVENT
DTSTART;TZID=America/Los_Angeles:20251015T090000
DTEND;TZID=America/Los_Angeles:20251015T093000
DTSTAMP:20260423T155208
CREATED:20251012T095029Z
LAST-MODIFIED:20251012T110622Z
UID:22119-1760518800-1760520600@www.siliconvalleyacs.org
SUMMARY:Higher Education - Presenting Yourself
DESCRIPTION:Sponsored by ACS Careers \n9:00-10:30 am\, Online\, Free\, Registration required
URL:https://www.siliconvalleyacs.org/event/higher-education-presenting-yourself/
LOCATION:Virtual
CATEGORIES:ACS Careers
END:VEVENT
BEGIN:VEVENT
DTSTART;TZID=America/Los_Angeles:20251011T140000
DTEND;TZID=America/Los_Angeles:20251011T150000
DTSTAMP:20260423T155208
CREATED:20250919T122752Z
LAST-MODIFIED:20250919T122752Z
UID:22073-1760191200-1760194800@www.siliconvalleyacs.org
SUMMARY:Kid Makers: Pop Up Chemistry
DESCRIPTION:Sponsored by Silicon Valley ACS & Redwood City Public Library (RCPL) \n2:00-3:00 pm\, In-person for ages 8-12\, RCPL Downtown Location\, 1044 Middlefield Road\, Redwood City\, Free\, Learn more
URL:https://www.siliconvalleyacs.org/event/kid-makers-pop-up-chemistry-13/
LOCATION:In-person (Redwood City Public Library-Downtown Library)\, 1044 Middlefield Road\, Redwood City\, CA\, 94063\, United States
ATTACH;FMTTYPE=image/jpeg:https://www.siliconvalleyacs.org/wp-content/uploads/2025/04/PopUp-Chemistry-Graphic-April2025.jpg
END:VEVENT
BEGIN:VEVENT
DTSTART;TZID=America/Los_Angeles:20251008T103000
DTEND;TZID=America/Los_Angeles:20251008T123000
DTSTAMP:20260423T155208
CREATED:20251012T121646Z
LAST-MODIFIED:20251012T121646Z
UID:22154-1759919400-1759926600@www.siliconvalleyacs.org
SUMMARY:Mapping Heavy Metal Contamination in Chicago’s Neighborhoods
DESCRIPTION:Assoc. Prof. Shelby Hatch\, Northwestern University \nSponsored by California Section ACS\, Women Chemists Committee \n10:30 am-12:30 pm\, Online\, Free\, Registration required
URL:https://www.siliconvalleyacs.org/event/mapping-heavy-metal-contamination-in-chicagos-neighborhoods/
LOCATION:Virtual
END:VEVENT
BEGIN:VEVENT
DTSTART;TZID=America/Los_Angeles:20251006T190000
DTEND;TZID=America/Los_Angeles:20251006T203000
DTSTAMP:20260423T155208
CREATED:20250919T122533Z
LAST-MODIFIED:20250919T122533Z
UID:22071-1759777200-1759782600@www.siliconvalleyacs.org
SUMMARY:Silicon Valley ACS Executive Committee Meeting
DESCRIPTION:Sponsored by the Silicon Valley ACS local section \n7:00-8:30 pm\, Hybrid Event\, Free\, Guests welcome: contact Chair to attend
URL:https://www.siliconvalleyacs.org/event/silicon-valley-acs-executive-committee-meeting-29/
LOCATION:Hybrid
ATTACH;FMTTYPE=image/jpeg:https://www.siliconvalleyacs.org/wp-content/uploads/2021/09/ExComm-Meeting-event-graphic.jpg
END:VEVENT
BEGIN:VEVENT
DTSTART;TZID=America/Los_Angeles:20251006T190000
DTEND;TZID=America/Los_Angeles:20251006T203000
DTSTAMP:20260423T155208
CREATED:20250529T005228Z
LAST-MODIFIED:20250529T005228Z
UID:21802-1759777200-1759782600@www.siliconvalleyacs.org
SUMMARY:Silicon Valley ACS Executive Committee Meeting
DESCRIPTION:Sponsored by the Silicon Valley ACS local section \n7:00-8:30 pm\, Hybrid Event\, Free\, Guests welcome: contact Chair to attend
URL:https://www.siliconvalleyacs.org/event/silicon-valley-acs-executive-committee-meeting-25/
LOCATION:Hybrid
CATEGORIES:Section Business
ATTACH;FMTTYPE=image/jpeg:https://www.siliconvalleyacs.org/wp-content/uploads/2021/09/ExComm-Meeting-event-graphic.jpg
END:VEVENT
BEGIN:VEVENT
DTSTART;TZID=America/Los_Angeles:20251003T110000
DTEND;TZID=America/Los_Angeles:20251003T120000
DTSTAMP:20260423T155208
CREATED:20250919T122316Z
LAST-MODIFIED:20250919T122316Z
UID:22069-1759489200-1759492800@www.siliconvalleyacs.org
SUMMARY:Understanding\, Developing\, and Implementing Laboratory Safety/Safety Culture in 2 Year Institutions
DESCRIPTION:Sponsored by ACS Division of Chemical Health and Safety Two-Year College Community of Practice\, 2 Year College Chemistry Consortium(2YC3)\, and ACS Chemical Safety Committee \n11am-Noon\, Online\, Free\, Registration required\, learn more \nhttps://dchas.org/2yc-community/?elqE=15161&elqC=9150 \nhttps://2yc3.org/
URL:https://www.siliconvalleyacs.org/event/understanding-developing-and-implementing-laboratory-safety-safety-culture-in-2-year-institutions/
LOCATION:Virtual
ATTACH;FMTTYPE=image/png:https://www.siliconvalleyacs.org/wp-content/uploads/2022/09/Chemical-safety.png
END:VEVENT
BEGIN:VEVENT
DTSTART;TZID=America/Los_Angeles:20251002T150000
DTEND;TZID=America/Los_Angeles:20251002T160000
DTSTAMP:20260423T155208
CREATED:20250919T122045Z
LAST-MODIFIED:20250919T122045Z
UID:22067-1759417200-1759420800@www.siliconvalleyacs.org
SUMMARY:Hybrid Bronzes
DESCRIPTION:Prof. Adam Jaffe\, University of Notre Dame \nSponsored by Stanford Department of Chemistry \n3:00-4:00 pm\, Stanford University\, Sapp Center Lecture Hall 114\, Free\, Learn more
URL:https://www.siliconvalleyacs.org/event/hybrid-bronzes/
LOCATION:In-person
END:VEVENT
BEGIN:VEVENT
DTSTART;TZID=America/Los_Angeles:20250930T150000
DTEND;TZID=America/Los_Angeles:20250930T160000
DTSTAMP:20260423T155208
CREATED:20250919T121334Z
LAST-MODIFIED:20250919T121334Z
UID:22065-1759244400-1759248000@www.siliconvalleyacs.org
SUMMARY:Reimagining Druggability Using Chemoproteomic Platforms
DESCRIPTION:Prof. Dan Nomura\, University of California\, Berkeley \nSponsored by Stanford Department of Chemistry \n3:00-4:00 pm\, Stanford University\, Sapp Center Lecture Hall 114\, Free\, Learn more
URL:https://www.siliconvalleyacs.org/event/reimagining-druggability-using-chemoproteomic-platforms/
LOCATION:In-person
END:VEVENT
BEGIN:VEVENT
DTSTART;TZID=America/Los_Angeles:20250929T150000
DTEND;TZID=America/Los_Angeles:20250929T160000
DTSTAMP:20260423T155208
CREATED:20250919T120339Z
LAST-MODIFIED:20250919T120339Z
UID:22063-1759158000-1759161600@www.siliconvalleyacs.org
SUMMARY:Real Time Exploration of Allosteric Communication: Experiment\, MD and Low-Dimensional Modeling
DESCRIPTION:Prof. Gerhard Stock\, University of Freiburg \nSponsored by Stanford Department of Chemistry \n3:00-4:00 pm\, Stanford University\, Sapp Center Auditorium 111\, Free\, Learn more
URL:https://www.siliconvalleyacs.org/event/real-time-exploration-of-allosteric-communication-experiment-md-and-low-dimensional-modeling/
LOCATION:In-person
END:VEVENT
BEGIN:VEVENT
DTSTART;TZID=America/Los_Angeles:20250925T150000
DTEND;TZID=America/Los_Angeles:20250925T160000
DTSTAMP:20260423T155208
CREATED:20250919T112141Z
LAST-MODIFIED:20250919T112141Z
UID:22060-1758812400-1758816000@www.siliconvalleyacs.org
SUMMARY:Discovering Magnetoelasticity in Soft Matter for Bioelectronics
DESCRIPTION:Jun Chen\, Ph.D.\, UCLA \nSponsored by Southern California Section ACS \n3:00-4:00 pm\, Online\, Free\, Registration required\, Download flyer (PDF)
URL:https://www.siliconvalleyacs.org/event/discovering-magnetoelasticity-in-soft-matter-for-bioelectronics/
LOCATION:Virtual
END:VEVENT
BEGIN:VEVENT
DTSTART;TZID=America/Los_Angeles:20250924T150000
DTEND;TZID=America/Los_Angeles:20250924T160000
DTSTAMP:20260423T155208
CREATED:20250919T112039Z
LAST-MODIFIED:20250919T112039Z
UID:22058-1758726000-1758729600@www.siliconvalleyacs.org
SUMMARY:Synergizing Quantum Chemistry and Machine Learning for Molecular Discoveries in the Condensed Phase
DESCRIPTION:Prof. Fang Liu\, Emory University \nSponsored by Stanford Department of Chemistry \n3:00-4:00 pm\, Stanford University\, Sapp Center Lecture Hall 114\, Free\, Learn more
URL:https://www.siliconvalleyacs.org/event/synergizing-quantum-chemistry-and-machine-learning-for-molecular-discoveries-in-the-condensed-phase/
LOCATION:In-person
END:VEVENT
BEGIN:VEVENT
DTSTART;TZID=America/Los_Angeles:20250924T110000
DTEND;TZID=America/Los_Angeles:20250924T123000
DTSTAMP:20260423T155208
CREATED:20250919T111938Z
LAST-MODIFIED:20250919T111938Z
UID:22056-1758711600-1758717000@www.siliconvalleyacs.org
SUMMARY:Bonding with Caution: Understanding the Hazards of Peptide Couplers
DESCRIPTION:Sponsored by ACS Webinars and ACS Green Chemistry Institute \n11:00 am-12:30 pm\, Online\, Free\, Registration required
URL:https://www.siliconvalleyacs.org/event/bonding-with-caution-understanding-the-hazards-of-peptide-couplers/
LOCATION:Virtual
END:VEVENT
BEGIN:VEVENT
DTSTART;TZID=America/Los_Angeles:20250922T160000
DTEND;TZID=America/Los_Angeles:20250922T170000
DTSTAMP:20260423T155208
CREATED:20250919T111823Z
LAST-MODIFIED:20250919T111823Z
UID:22054-1758556800-1758560400@www.siliconvalleyacs.org
SUMMARY:4D Cell Biology: Drug Discovery using Advanced Microscopy\, Organoids\, Digital Twins\, and AI
DESCRIPTION:Prof. Joh Schoeneberg\, UC San Diego \nSponsored by Stanford Department of Biology \n4:00-5:00 pm\, Stanford University\, Clark Center\, Clark Auditorium\, 318 Campus Drive\, Free\, Learn more
URL:https://www.siliconvalleyacs.org/event/4d-cell-biology-drug-discovery-using-advanced-microscopy-organoids-digital-twins-and-ai/
LOCATION:In-person
END:VEVENT
BEGIN:VEVENT
DTSTART;TZID=America/Los_Angeles:20250920T103000
DTEND;TZID=America/Los_Angeles:20250920T120000
DTSTAMP:20260423T155208
CREATED:20250919T111533Z
LAST-MODIFIED:20250919T111533Z
UID:22052-1758364200-1758369600@www.siliconvalleyacs.org
SUMMARY:Animating Molecular Machines
DESCRIPTION:Sponsored by California ACS local Section\, Women Chemists Committee \n10:30 am-Noon\, Online\, Free\, Registration required\, Download flyer (PDF)
URL:https://www.siliconvalleyacs.org/event/animating-molecular-machines/
LOCATION:Virtual
END:VEVENT
BEGIN:VEVENT
DTSTART;TZID=America/Los_Angeles:20250918T110000
DTEND;TZID=America/Los_Angeles:20250918T123000
DTSTAMP:20260423T155208
CREATED:20250917T090344Z
LAST-MODIFIED:20250917T090344Z
UID:22049-1758193200-1758198600@www.siliconvalleyacs.org
SUMMARY:Fewer Steps\, Greater Strides: Celebrating Breakthroughs in Sustainable Manufacturing
DESCRIPTION:Sponsored by ACS Webinars ACS Green Chemistry Institute\, Pharmaceutical Roundtable \n11:00 am-12:30 pm\, Online\, Free\, Registration required
URL:https://www.siliconvalleyacs.org/event/fewer-steps-greater-strides-celebrating-breakthroughs-in-sustainable-manufacturing/
LOCATION:Virtual
CATEGORIES:ACS Webinars,Webinar
END:VEVENT
BEGIN:VEVENT
DTSTART;TZID=America/Los_Angeles:20250917T180000
DTEND;TZID=America/Los_Angeles:20250917T190000
DTSTAMP:20260423T155208
CREATED:20250917T001647Z
LAST-MODIFIED:20250917T001647Z
UID:22047-1758132000-1758135600@www.siliconvalleyacs.org
SUMMARY:Functional Binder Material for Battery Electrodes: Formation of Hierarchically Ordered Structures in Conductive Polymers to Enhance Ion and Electron Transport in the Electrode
DESCRIPTION:Gao Liu\, PhD\, Lawrence Berkeley National Laboratory \nSponsored by Golden Gate Polymer Forum (GGPF) \n6:00-7:00 pm\, Online\, Free/donation\, Register by September 16th at 1pm
URL:https://www.siliconvalleyacs.org/event/functional-binder-material-for-battery-electrodes-formation-of-hierarchically-ordered-structures-in-conductive-polymers-to-enhance-ion-and-electron-transport-in-the-electrode/
LOCATION:Virtual
END:VEVENT
BEGIN:VEVENT
DTSTART;TZID=America/Los_Angeles:20250917T110000
DTEND;TZID=America/Los_Angeles:20250917T120000
DTSTAMP:20260423T155208
CREATED:20250916T225917Z
LAST-MODIFIED:20250916T225917Z
UID:22043-1758106800-1758110400@www.siliconvalleyacs.org
SUMMARY:ChemDraw: Insider Secrets Every Chemist Should Know
DESCRIPTION:Sponsored by ACS Webinars and ACS Division of Chemical Information \n11:00 am-Noon\, Online\, Free\, Registration required
URL:https://www.siliconvalleyacs.org/event/chemdraw-insider-secrets-every-chemist-should-know/
LOCATION:Virtual
END:VEVENT
BEGIN:VEVENT
DTSTART;TZID=America/Los_Angeles:20250917T090000
DTEND;TZID=America/Los_Angeles:20250917T103000
DTSTAMP:20260423T155208
CREATED:20250916T225758Z
LAST-MODIFIED:20250916T225758Z
UID:22041-1758099600-1758105000@www.siliconvalleyacs.org
SUMMARY:The Higher Education Landscape: An ACS Career Pathways Virtual Workshop
DESCRIPTION:Sponsored by ACS Careers \n9:00-10:30 am\, Online\, Free\, Registration required
URL:https://www.siliconvalleyacs.org/event/the-higher-education-landscape-an-acs-career-pathways-virtual-workshop/
LOCATION:Virtual
END:VEVENT
BEGIN:VEVENT
DTSTART;TZID=America/Los_Angeles:20250908T190000
DTEND;TZID=America/Los_Angeles:20250908T203000
DTSTAMP:20260423T155208
CREATED:20250529T005041Z
LAST-MODIFIED:20250805T032225Z
UID:21800-1757358000-1757363400@www.siliconvalleyacs.org
SUMMARY:Silicon Valley ACS Executive Committee Meeting
DESCRIPTION:Sponsored by the Silicon Valley ACS local section \n7:00-8:30 pm\, Hybrid Event\, Free\, Guests welcome: contact Chair to attend
URL:https://www.siliconvalleyacs.org/event/silicon-valley-acs-executive-committee-meeting-24/
LOCATION:Hybrid
CATEGORIES:Section Business
ATTACH;FMTTYPE=image/jpeg:https://www.siliconvalleyacs.org/wp-content/uploads/2021/09/ExComm-Meeting-event-graphic.jpg
END:VEVENT
BEGIN:VEVENT
DTSTART;TZID=America/Los_Angeles:20250820T090000
DTEND;TZID=America/Los_Angeles:20250820T093000
DTSTAMP:20260423T155208
CREATED:20250816T090334Z
LAST-MODIFIED:20250816T090334Z
UID:21996-1755680400-1755682200@www.siliconvalleyacs.org
SUMMARY:Working for Yourself: Your Sales\, Marketing\, and Financing Plan: A Careers Pathway  Virtual Workshop
DESCRIPTION:Sponsored by ACS Careers\n9:00-10:30 am\, Online\, Free\, Registration required
URL:https://www.siliconvalleyacs.org/event/working-for-yourself-your-sales-marketing-and-financing-plan-a-careers-pathway-virtual-workshop/
LOCATION:Virtual
CATEGORIES:Webinar,ACS Careers
END:VEVENT
BEGIN:VEVENT
DTSTART;VALUE=DATE:20250817
DTEND;VALUE=DATE:20250822
DTSTAMP:20260423T155208
CREATED:20250816T090043Z
LAST-MODIFIED:20250816T090043Z
UID:21993-1755388800-1755820799@www.siliconvalleyacs.org
SUMMARY:ACS Fall 2025 National Meeting
DESCRIPTION:Washington DC and Online\, Learn more
URL:https://www.siliconvalleyacs.org/event/acs-fall-2025-national-meeting-2/
ATTACH;FMTTYPE=image/jpeg:https://www.siliconvalleyacs.org/wp-content/uploads/2022/09/ACS-Fall-2025-National-Meeting.jpg
END:VEVENT
BEGIN:VEVENT
DTSTART;VALUE=DATE:20250816
DTEND;VALUE=DATE:20250822
DTSTAMP:20260423T155208
CREATED:20220909T180349Z
LAST-MODIFIED:20250805T033359Z
UID:19127-1755385200-1755817199@www.siliconvalleyacs.org
SUMMARY:ACS Fall 2025 National Meeting
DESCRIPTION:ACS Fall 2025\nAugust 17 – 21\nWashington\, DC and Online\nKey links:\n\n\n\nRegistration & Pricing | Meeting Badge Pick-Up\nSchedule Overview | Technical Program | \nProgram to Download/Print (PDF)\n\n\nHotels | Hotel Map | Shuttle Bus Map\nFeatured Programming | Keynote Events | \nPresidential Events (Download Flyer)\n\n\nTravel | Ways to Attend | Getting Around Town | \nFirst-Time Attendees | Attendee Resources | \n \nHighlighted Industry Program  | \nPharma Community Programming | \nGreen Chemistry Events\n\n\nFrequently Asked Questions | Policies\nStudent Programming | Poster Sessions & SciMix\n\n\nPresenter Tips | Presider FAQs | SciMeetings\n Social Events & Networking | Career Events\n\n\nExposition | Hours | Floor Plan | Exhibitor Directory |\nVirtual Lobby | Digital Meeting (Division Sessions)\n\n\nRegistration Statistics | Meeting Demographics\n System Compatibility Checker | Mobile App\n\n\nExplore Washington\, D. C.\n ChemLuminary Awards | Governance Activities
URL:https://www.siliconvalleyacs.org/event/acs-fall-2025-national-meeting/
LOCATION:Hybrid
CATEGORIES:ACS National Meeting,Conference
ATTACH;FMTTYPE=image/jpeg:https://www.siliconvalleyacs.org/wp-content/uploads/2022/09/ACS-Fall-2025-National-Meeting.jpg
END:VEVENT
BEGIN:VEVENT
DTSTART;TZID=America/Los_Angeles:20250804T190000
DTEND;TZID=America/Los_Angeles:20250804T203000
DTSTAMP:20260423T155208
CREATED:20250529T004850Z
LAST-MODIFIED:20250529T004850Z
UID:21798-1754334000-1754339400@www.siliconvalleyacs.org
SUMMARY:Silicon Valley ACS Executive Committee Meeting
DESCRIPTION:Sponsored by the Silicon Valley ACS local section \n7:00-8:30 pm\, Hybrid Event\, Free\, Guests welcome: contact Chair to attend
URL:https://www.siliconvalleyacs.org/event/silicon-valley-acs-executive-committee-meeting-23/
LOCATION:Hybrid
CATEGORIES:Section Business
ATTACH;FMTTYPE=image/jpeg:https://www.siliconvalleyacs.org/wp-content/uploads/2021/09/ExComm-Meeting-event-graphic.jpg
END:VEVENT
BEGIN:VEVENT
DTSTART;TZID=America/Los_Angeles:20250731T080000
DTEND;TZID=America/Los_Angeles:20250731T213000
DTSTAMP:20260423T155208
CREATED:20250710T062752Z
LAST-MODIFIED:20250710T062752Z
UID:21929-1753948800-1753997400@www.siliconvalleyacs.org
SUMMARY:Working Worlds Apart: How to be Successful on Global Teams
DESCRIPTION:Sponsored by ACS Webinars and ACS Industry Member Programs \n8:00-9:15 am\, Online\, Free\, Registration required
URL:https://www.siliconvalleyacs.org/event/working-worlds-apart-how-to-be-successful-on-global-teams/
LOCATION:Virtual
CATEGORIES:ACS Webinars
END:VEVENT
BEGIN:VEVENT
DTSTART;VALUE=DATE:20250721
DTEND;VALUE=DATE:20250722
DTSTAMP:20260423T155208
CREATED:20250710T062605Z
LAST-MODIFIED:20250710T062605Z
UID:21927-1753056000-1753142399@www.siliconvalleyacs.org
SUMMARY:ACS Western Regional Meeting Deadline for Submitting Abstracts
DESCRIPTION:Learn more
URL:https://www.siliconvalleyacs.org/event/acs-western-regional-meeting-deadline-for-submitting-abstracts/
END:VEVENT
END:VCALENDAR