BEGIN:VCALENDAR
VERSION:2.0
PRODID:-//SVACS - ECPv6.15.1.1//NONSGML v1.0//EN
CALSCALE:GREGORIAN
METHOD:PUBLISH
X-ORIGINAL-URL:https://www.siliconvalleyacs.org
X-WR-CALDESC:Events for SVACS
REFRESH-INTERVAL;VALUE=DURATION:PT1H
X-Robots-Tag:noindex
X-PUBLISHED-TTL:PT1H
BEGIN:VTIMEZONE
TZID:America/Los_Angeles
BEGIN:DAYLIGHT
TZOFFSETFROM:-0800
TZOFFSETTO:-0700
TZNAME:PDT
DTSTART:20250309T100000
END:DAYLIGHT
BEGIN:STANDARD
TZOFFSETFROM:-0700
TZOFFSETTO:-0800
TZNAME:PST
DTSTART:20251102T090000
END:STANDARD
END:VTIMEZONE
BEGIN:VEVENT
DTSTART;TZID=America/Los_Angeles:20250514T170000
DTEND;TZID=America/Los_Angeles:20250514T190000
DTSTAMP:20260424T022447
CREATED:20250406T212553Z
LAST-MODIFIED:20250510T223623Z
UID:21684-1747242000-1747249200@www.siliconvalleyacs.org
SUMMARY:Polymers for Capacitors\, Transistors\, and Fun
DESCRIPTION:Dr. Yi Liu\, Molecular Foundry\, Lawrence Berkeley Lab\n5:00-7:00 pm\, Free\, Hybrid: In-person at Stanford Chemistry Department or virtual\, Registration required. \nAbstract\nPolymers with engineered functionalities play a crucial role in electronics and energy applications. Advancing materials discovery in this space requires tailored molecular design and innovative polymer architectures. My recent research focuses on designing molecular and macromolecular systems that either inhibit or facilitate charge transport—key factors in defining a polymer’s insulating or semiconducting properties. In this talk\, I will discuss dielectric polymers designed for capacitors operating under extreme electric fields and temperatures\, highlighting strategies to enhance their breakdown strength and capacitive energy storage performance. In contrast\, for applications such as field-effect transistors\, where efficient charge transport is critical\, I will present new classes of low-bandgap conjugated polymers enabled by a versatile quinoidal unit. Beyond their electronic applications\, the unique reactivity of the quinoidal unit allows for the formation of single-crystalline polymers\, opening new avenues in polymer science. Through these examples\, I will showcase how molecular design can be leveraged to expand the functionality and versatility of polymers. \nShort Bio\nYi Liu is a Senior Staff Scientist and director of the Organic Facility at the Molecular Foundry\, Lawrence Berkeley National Laboratory\, USA. He earned his Ph.D. in Chemistry in 2004 from the University of California\, Los Angeles. After his postdoctoral research at the Scripps Research Institute\, he joined the Molecular Foundry in 2006 as a staff scientist\, launching his independent research career. His research interests include design and self-assembly of functional organic and organic-inorganic hybrid framework materials\, materials chemistry for organic electronics\, and fundamental understanding of the associated electronic processes. \n 
URL:https://www.siliconvalleyacs.org/event/polymers-for-capacitors-transistors-and-fun/
LOCATION:In-person at Stanford Chemistry Department & Hybrid
CATEGORIES:Webinar,Lecture
ATTACH;FMTTYPE=application/pdf:https://www.siliconvalleyacs.org/wp-content/uploads/2025/04/FlyerSVACS-GGPF_JointSeminar_Liu-MolecularFoundry_14May2025-1.pdf
END:VEVENT
BEGIN:VEVENT
DTSTART;TZID=America/Los_Angeles:20250602T190000
DTEND;TZID=America/Los_Angeles:20250602T203000
DTSTAMP:20260424T022447
CREATED:20250528T191210Z
LAST-MODIFIED:20250528T191210Z
UID:21794-1748890800-1748896200@www.siliconvalleyacs.org
SUMMARY:Silicon Valley ACS Executive Committee Meeting
DESCRIPTION:Sponsored by the Silicon Valley ACS local section \n7:00-8:30 pm\, Hybrid Event\, Free\, Guests welcome: contact Chair to attend
URL:https://www.siliconvalleyacs.org/event/silicon-valley-acs-executive-committee-meeting-21/
LOCATION:Hybrid
CATEGORIES:Section Business
ATTACH;FMTTYPE=image/jpeg:https://www.siliconvalleyacs.org/wp-content/uploads/2021/09/ExComm-Meeting-event-graphic.jpg
END:VEVENT
BEGIN:VEVENT
DTSTART;TZID=America/Los_Angeles:20250614T140000
DTEND;TZID=America/Los_Angeles:20250614T150000
DTSTAMP:20260424T022447
CREATED:20250529T015247Z
LAST-MODIFIED:20250529T015247Z
UID:21824-1749909600-1749913200@www.siliconvalleyacs.org
SUMMARY:Kid Makers: Pop Up Chemistry
DESCRIPTION:Sponsored by Silicon Valley ACS & Redwood City Public Library (RCPL)\n 2:00-3:00 pm\, In-person for ages 8-12\, RCPL Downtown Location\, 1044 Middlefield\nRoad\, Redwood City\, Free\, Learn more\n\nYoung scientists explore different aspects of chemistry! Once a month\, join members of the ACS and take part in hands on experiments. For ages 8-12. This program will take place in the Makerspace.
URL:https://www.siliconvalleyacs.org/event/kid-makers-pop-up-chemistry-10/
LOCATION:In-person (Redwood City Public Library-Downtown Library)\, 1044 Middlefield Road\, Redwood City\, CA\, 94063\, United States
CATEGORIES:Outreach
ATTACH;FMTTYPE=image/jpeg:https://www.siliconvalleyacs.org/wp-content/uploads/2025/04/PopUp-Chemistry-Graphic-April2025.jpg
ORGANIZER;CN="Redwood City Library":MAILTO:pevans@redwoodcity.org
END:VEVENT
BEGIN:VEVENT
DTSTART;TZID=America/Los_Angeles:20250617T083000
DTEND;TZID=America/Los_Angeles:20250617T180000
DTSTAMP:20260424T022447
CREATED:20250617T060256Z
LAST-MODIFIED:20250617T060256Z
UID:21865-1750149000-1750183200@www.siliconvalleyacs.org
SUMMARY:Silicon Valley Minerals Forum 2025
DESCRIPTION:Sponsored by Stanford Mineral-X \n8:30 am-6:00 pm\, Free\, In-person at Simonyi Conference Center\, CoDa\, 389 Jane Stanford Way\, Stanford\, CA 94305.  Learn more and register \n 
URL:https://www.siliconvalleyacs.org/event/silicon-valley-minerals-forum-2025/
END:VEVENT
BEGIN:VEVENT
DTSTART;TZID=America/Los_Angeles:20250618T090000
DTEND;TZID=America/Los_Angeles:20250618T103000
DTSTAMP:20260424T022447
CREATED:20250617T060823Z
LAST-MODIFIED:20250617T060907Z
UID:21867-1750237200-1750242600@www.siliconvalleyacs.org
SUMMARY:How to Find and Apply for a Position in the Federal Government: ACS Career Pathways Virtual Workshop
DESCRIPTION:Sponsored by ACS Careers \n9:00-10:30 am\, Online\, Free\, Registration required
URL:https://www.siliconvalleyacs.org/event/how-to-find-and-apply-for-a-position-in-the-federal-government-acs-career-pathways-virtual-workshop/
LOCATION:Virtual
CATEGORIES:Careers
ATTACH;FMTTYPE=image/png:https://www.siliconvalleyacs.org/wp-content/uploads/2025/01/ACS-Careers.png
END:VEVENT
BEGIN:VEVENT
DTSTART;TZID=America/Los_Angeles:20250618T110000
DTEND;TZID=America/Los_Angeles:20250618T121500
DTSTAMP:20260424T022447
CREATED:20250617T061456Z
LAST-MODIFIED:20250617T061456Z
UID:21870-1750244400-1750248900@www.siliconvalleyacs.org
SUMMARY:Protecting the Formula: The Role of Trade Secrets in Chemical Research
DESCRIPTION:  \nSponsored by ACS Webinars and ACS Chemistry & the Law Division \n11:00 am-12:15 pm\, Online\, Free\, Registration required
URL:https://www.siliconvalleyacs.org/event/protecting-the-formula-the-role-of-trade-secrets-in-chemical-research/
LOCATION:Virtual
CATEGORIES:ACS Webinars,Webinar
ATTACH;FMTTYPE=image/jpeg:https://www.siliconvalleyacs.org/wp-content/uploads/2023/06/ACS-Webinar-Process-Chemistry.jpg
END:VEVENT
BEGIN:VEVENT
DTSTART;VALUE=DATE:20250625
DTEND;VALUE=DATE:20250627
DTSTAMP:20260424T022447
CREATED:20250617T061951Z
LAST-MODIFIED:20250617T061951Z
UID:21878-1750809600-1750982399@www.siliconvalleyacs.org
SUMMARY:Mastering Materials Durability for Next-Generation Energy Technologies: Workshop
DESCRIPTION:Sponsored by SLAC National Accelerator Laboratory \nFree\, In-person at SLAC\, Kavli Auditorium\, 2575 Sand Hill Road\, Menlo Park\, CA\, Visitor User ID requirements\, Learn more and register by June 19\, 2025
URL:https://www.siliconvalleyacs.org/event/mastering-materials-durability-for-next-generation-energy-technologies-workshop/
LOCATION:In-person
ATTACH;FMTTYPE=image/png:https://www.siliconvalleyacs.org/wp-content/uploads/2024/01/SLAC-National-Accelerator-Laboratory.png
END:VEVENT
BEGIN:VEVENT
DTSTART;TZID=America/Los_Angeles:20250625T110000
DTEND;TZID=America/Los_Angeles:20250625T120000
DTSTAMP:20260424T022447
CREATED:20250617T061719Z
LAST-MODIFIED:20250617T061719Z
UID:21875-1750849200-1750852800@www.siliconvalleyacs.org
SUMMARY:Break Into STEM as a CTP: No Bachelor’s Required
DESCRIPTION:Sponsored by ACS Webinars and ACS Chemical Technical Professionals Committee \n11:00 am-Noon\, Online\, Free\, Registration required
URL:https://www.siliconvalleyacs.org/event/break-into-stem-as-a-ctp-no-bachelors-required/
LOCATION:Virtual
CATEGORIES:Careers,Webinar
END:VEVENT
BEGIN:VEVENT
DTSTART;TZID=America/Los_Angeles:20250706T160000
DTEND;TZID=America/Los_Angeles:20250706T190000
DTSTAMP:20260424T022447
CREATED:20250706T072937Z
LAST-MODIFIED:20250706T072937Z
UID:21911-1751817600-1751828400@www.siliconvalleyacs.org
SUMMARY:2025 Silicon Valley ACS’ Annual Picnic and Awards
DESCRIPTION:Cuesta Park\, Group BBQ Areas #1-2\, Mountain View\, California \n4:00-7:00 pm\, In-person. $10 regular\, children free. Register by July 8\, 2025
URL:https://www.siliconvalleyacs.org/event/2025-silicon-valley-acs-annual-picnic-and-awards/
LOCATION:In-Person in Mountain View at Cuesta Park Group BBQ Areas #1-2\, 615 Cuesta Drive\, Mountain View\, CA\, United States
ATTACH;FMTTYPE=image/png:https://www.siliconvalleyacs.org/wp-content/uploads/2025/05/AnnualPicnic_12July25_outline_HL-scaled.png
END:VEVENT
BEGIN:VEVENT
DTSTART;TZID=America/Los_Angeles:20250707T190000
DTEND;TZID=America/Los_Angeles:20250707T203000
DTSTAMP:20260424T022447
CREATED:20250529T004625Z
LAST-MODIFIED:20250529T004625Z
UID:21796-1751914800-1751920200@www.siliconvalleyacs.org
SUMMARY:Silicon Valley ACS Executive Committee Meeting
DESCRIPTION:Sponsored by the Silicon Valley ACS local section \n7:00-8:30 pm\, Hybrid Event\, Free\, Guests welcome: contact Chair to attend \n 
URL:https://www.siliconvalleyacs.org/event/silicon-valley-acs-executive-committee-meeting-22/
LOCATION:Hybrid
CATEGORIES:Section Business
ATTACH;FMTTYPE=image/jpeg:https://www.siliconvalleyacs.org/wp-content/uploads/2021/09/ExComm-Meeting-event-graphic.jpg
END:VEVENT
BEGIN:VEVENT
DTSTART;TZID=America/Los_Angeles:20250709T110000
DTEND;TZID=America/Los_Angeles:20250709T110000
DTSTAMP:20260424T022447
CREATED:20250706T072428Z
LAST-MODIFIED:20250706T072428Z
UID:21904-1752058800-1752058800@www.siliconvalleyacs.org
SUMMARY:Different Minds\, Shared Goals: Building Supportive Mentoring Relationships for Neurodivergent Students in Grad School
DESCRIPTION:Sponsored by ACS Webinars and ACS Chemists with Disabilities Committee \n11:00 am-Noon\, Online\, Free\, Registration required
URL:https://www.siliconvalleyacs.org/event/different-minds-shared-goals-building-supportive-mentoring-relationships-for-neurodivergent-students-in-grad-school/
CATEGORIES:ACS Webinars
ATTACH;FMTTYPE=image/png:https://www.siliconvalleyacs.org/wp-content/uploads/2023/11/Teaching-Chemistry-to-Students-with-Disabilities.png
END:VEVENT
BEGIN:VEVENT
DTSTART;TZID=America/Los_Angeles:20250710T110000
DTEND;TZID=America/Los_Angeles:20250710T123000
DTSTAMP:20260424T022447
CREATED:20250710T061152Z
LAST-MODIFIED:20250710T061152Z
UID:21916-1752145200-1752150600@www.siliconvalleyacs.org
SUMMARY:Some Polymers Like It Hot: Tuning Thermal Transport in 2D Polymers and COFs
DESCRIPTION:Sponsored by ACS Webinars and ACS Division of Polymer Chemistry \n11:00 am-12:30 pm\, Online\, Free\, Registration required
URL:https://www.siliconvalleyacs.org/event/some-polymers-like-it-hot-tuning-thermal-transport-in-2d-polymers-and-cofs/
LOCATION:Virtual
END:VEVENT
BEGIN:VEVENT
DTSTART;TZID=America/Los_Angeles:20250712T140000
DTEND;TZID=America/Los_Angeles:20250712T150000
DTSTAMP:20260424T022447
CREATED:20250529T015702Z
LAST-MODIFIED:20250603T201220Z
UID:21826-1752328800-1752332400@www.siliconvalleyacs.org
SUMMARY:Kid Makers: Pop Up Chemistry
DESCRIPTION:Sponsored by Silicon Valley ACS & Redwood City Public Library (RCPL)\n2:00-3:00 pm\, In-person for ages 8-12\, RCPL Downtown Location\, 1044 Middlefield\nRoad\, Redwood City\, Free\, Learn more\n\nYoung scientists explore different aspects of chemistry! Once a month\, join members of the ACS and take part in hands on experiments. For ages 8-12. This program will take place in the Makerspace. \n 
URL:https://www.siliconvalleyacs.org/event/21826/
LOCATION:In-person (Redwood City Public Library-Downtown Library)\, 1044 Middlefield Road\, Redwood City\, CA\, 94063\, United States
CATEGORIES:Outreach
ATTACH;FMTTYPE=image/jpeg:https://www.siliconvalleyacs.org/wp-content/uploads/2025/04/PopUp-Chemistry-Graphic-April2025.jpg
ORGANIZER;CN="Redwood City Library":MAILTO:pevans@redwoodcity.org
END:VEVENT
BEGIN:VEVENT
DTSTART;TZID=America/Los_Angeles:20250712T140000
DTEND;TZID=America/Los_Angeles:20250712T150000
DTSTAMP:20260424T022447
CREATED:20250706T072658Z
LAST-MODIFIED:20250706T072658Z
UID:21907-1752328800-1752332400@www.siliconvalleyacs.org
SUMMARY:Kid Makers: Pop Up Chemistry
DESCRIPTION:Sponsored by Silicon Valley ACS & Redwood City Public Library (RCPL) \n2:00-3:00 pm\, In-person for ages 8-12\, RCPL Downtown Location\, 1044 Middlefield \nRoad\, Redwood City\, Free\, Learn more
URL:https://www.siliconvalleyacs.org/event/kid-makers-pop-up-chemistry-11/
LOCATION:In-person (Redwood City Public Library-Downtown Library)\, 1044 Middlefield Road\, Redwood City\, CA\, 94063\, United States
ATTACH;FMTTYPE=image/jpeg:https://www.siliconvalleyacs.org/wp-content/uploads/2025/04/PopUp-Chemistry-Graphic-April2025.jpg
END:VEVENT
BEGIN:VEVENT
DTSTART;TZID=America/Los_Angeles:20250712T160000
DTEND;TZID=America/Los_Angeles:20250712T190000
DTSTAMP:20260424T022447
CREATED:20250524T165317Z
LAST-MODIFIED:20250628T214630Z
UID:21782-1752336000-1752346800@www.siliconvalleyacs.org
SUMMARY:2025 Annual BBQ Picnic and Awards Ceremony
DESCRIPTION:A family-friendly event\, please join us for our annual picnic and awards ceremony!  Download flyer \n\nDate and Time: July 12\, 2025\, 4-7pm\n\n4:00-5:00 pm: Wine-tasting with hors d’oevres\n5:00 pm: Awards and Recognitions – SVACS Ottenberg Award and celebrating 50-\, 60- and 70-year ACS members\nCatered by Armadillo Willy’s\, dinner will immediately follow Awards & Recognitions\n\n\nLocation: Cuesta Park Group BBQ Areas #1-2\, Mountain View\, California (view map\, get directions)\nRegistration required by July 8th\nCost: $10.00/person.  Children: free. Payment by cash or check at the door. If paying by check\, please make it out to “Silicon Valley ACS.”\n\nView the list of Silicon Valley ACS Members with 50+ Years of ACS Membership. \n 
URL:https://www.siliconvalleyacs.org/event/2025-annual-bbq-picnic-and-awards-ceremony/
LOCATION:In-person
CATEGORIES:Awards,Annual Picnic
ATTACH;FMTTYPE=image/png:https://www.siliconvalleyacs.org/wp-content/uploads/2025/05/picnic_12July25_v6_outline_reduced_png_HL.png
END:VEVENT
BEGIN:VEVENT
DTSTART;TZID=America/Los_Angeles:20250716T090000
DTEND;TZID=America/Los_Angeles:20250716T103000
DTSTAMP:20260424T022447
CREATED:20250710T061432Z
LAST-MODIFIED:20250710T061432Z
UID:21919-1752656400-1752661800@www.siliconvalleyacs.org
SUMMARY:Working for Yourself: Your Idea\, Business\, and Marketing Strategy: ACS Careers Pathway Virtual Workshop
DESCRIPTION:Sponsored by ACS Careers \n9:00-10:30 am\, Online\, Free\, Registration required
URL:https://www.siliconvalleyacs.org/event/working-for-yourself-your-idea-business-and-marketing-strategy-acs-careers-pathway-virtual-workshop/
LOCATION:Virtual
CATEGORIES:ACS Careers
END:VEVENT
BEGIN:VEVENT
DTSTART;TZID=America/Los_Angeles:20250717T110000
DTEND;TZID=America/Los_Angeles:20250717T123000
DTSTAMP:20260424T022447
CREATED:20250710T061652Z
LAST-MODIFIED:20250710T061652Z
UID:21921-1752750000-1752755400@www.siliconvalleyacs.org
SUMMARY:How to use AI to Supercharge your Research and Communication
DESCRIPTION:Sponsored by ACS Webinars and ACS Committee on Public Relations and Communications \n11:00 am-12:15 pm\, Online\, Free\, Registration required
URL:https://www.siliconvalleyacs.org/event/how-to-use-ai-to-supercharge-your-research-and-communication/
LOCATION:Virtual
CATEGORIES:ACS Webinars
ATTACH;FMTTYPE=image/jpeg:https://www.siliconvalleyacs.org/wp-content/uploads/2023/09/Adapting-to-AI-in-Peer-Review.jpg
END:VEVENT
BEGIN:VEVENT
DTSTART;TZID=America/Los_Angeles:20250717T170000
DTEND;TZID=America/Los_Angeles:20250717T180000
DTSTAMP:20260424T022447
CREATED:20250710T061932Z
LAST-MODIFIED:20250710T061932Z
UID:21923-1752771600-1752775200@www.siliconvalleyacs.org
SUMMARY:Glassy Gels via Ionic Liquids
DESCRIPTION:Prof. Michael D. Dickey\, North Carolina State University \nWebinar sponsored by the Golden Gate Polymer Forum \n5:00-6:00 pm\, Online\, Free/$5 donation\, Register by July 15 at 1:00 pm
URL:https://www.siliconvalleyacs.org/event/glassy-gels-via-ionic-liquids/
LOCATION:Virtual
END:VEVENT
BEGIN:VEVENT
DTSTART;TZID=America/Los_Angeles:20250719T140000
DTEND;TZID=America/Los_Angeles:20250719T150000
DTSTAMP:20260424T022447
CREATED:20250710T062514Z
LAST-MODIFIED:20250710T062514Z
UID:21925-1752933600-1752937200@www.siliconvalleyacs.org
SUMMARY:Kid Makers: Pop Up Chemistry
DESCRIPTION:Sponsored by Silicon Valley ACS & Redwood City Public Library (RCPL) \n2:00-3:00 pm\, In-person for ages 8-12\, RCPL Downtown Location\, 1044 Middlefield \nRoad\, Redwood City\, Free\, Learn more
URL:https://www.siliconvalleyacs.org/event/kid-makers-pop-up-chemistry-12/
LOCATION:In-person (Redwood City Public Library-Downtown Library)\, 1044 Middlefield Road\, Redwood City\, CA\, 94063\, United States
ATTACH;FMTTYPE=image/png:https://www.siliconvalleyacs.org/wp-content/uploads/2021/06/Popup-chemistry.png
END:VEVENT
BEGIN:VEVENT
DTSTART;VALUE=DATE:20250721
DTEND;VALUE=DATE:20250722
DTSTAMP:20260424T022447
CREATED:20250710T062605Z
LAST-MODIFIED:20250710T062605Z
UID:21927-1753056000-1753142399@www.siliconvalleyacs.org
SUMMARY:ACS Western Regional Meeting Deadline for Submitting Abstracts
DESCRIPTION:Learn more
URL:https://www.siliconvalleyacs.org/event/acs-western-regional-meeting-deadline-for-submitting-abstracts/
END:VEVENT
BEGIN:VEVENT
DTSTART;TZID=America/Los_Angeles:20250731T080000
DTEND;TZID=America/Los_Angeles:20250731T213000
DTSTAMP:20260424T022447
CREATED:20250710T062752Z
LAST-MODIFIED:20250710T062752Z
UID:21929-1753948800-1753997400@www.siliconvalleyacs.org
SUMMARY:Working Worlds Apart: How to be Successful on Global Teams
DESCRIPTION:Sponsored by ACS Webinars and ACS Industry Member Programs \n8:00-9:15 am\, Online\, Free\, Registration required
URL:https://www.siliconvalleyacs.org/event/working-worlds-apart-how-to-be-successful-on-global-teams/
LOCATION:Virtual
CATEGORIES:ACS Webinars
END:VEVENT
BEGIN:VEVENT
DTSTART;TZID=America/Los_Angeles:20250804T190000
DTEND;TZID=America/Los_Angeles:20250804T203000
DTSTAMP:20260424T022447
CREATED:20250529T004850Z
LAST-MODIFIED:20250529T004850Z
UID:21798-1754334000-1754339400@www.siliconvalleyacs.org
SUMMARY:Silicon Valley ACS Executive Committee Meeting
DESCRIPTION:Sponsored by the Silicon Valley ACS local section \n7:00-8:30 pm\, Hybrid Event\, Free\, Guests welcome: contact Chair to attend
URL:https://www.siliconvalleyacs.org/event/silicon-valley-acs-executive-committee-meeting-23/
LOCATION:Hybrid
CATEGORIES:Section Business
ATTACH;FMTTYPE=image/jpeg:https://www.siliconvalleyacs.org/wp-content/uploads/2021/09/ExComm-Meeting-event-graphic.jpg
END:VEVENT
BEGIN:VEVENT
DTSTART;VALUE=DATE:20250816
DTEND;VALUE=DATE:20250822
DTSTAMP:20260424T022447
CREATED:20220909T180349Z
LAST-MODIFIED:20250805T033359Z
UID:19127-1755385200-1755817199@www.siliconvalleyacs.org
SUMMARY:ACS Fall 2025 National Meeting
DESCRIPTION:ACS Fall 2025\nAugust 17 – 21\nWashington\, DC and Online\nKey links:\n\n\n\nRegistration & Pricing | Meeting Badge Pick-Up\nSchedule Overview | Technical Program | \nProgram to Download/Print (PDF)\n\n\nHotels | Hotel Map | Shuttle Bus Map\nFeatured Programming | Keynote Events | \nPresidential Events (Download Flyer)\n\n\nTravel | Ways to Attend | Getting Around Town | \nFirst-Time Attendees | Attendee Resources | \n \nHighlighted Industry Program  | \nPharma Community Programming | \nGreen Chemistry Events\n\n\nFrequently Asked Questions | Policies\nStudent Programming | Poster Sessions & SciMix\n\n\nPresenter Tips | Presider FAQs | SciMeetings\n Social Events & Networking | Career Events\n\n\nExposition | Hours | Floor Plan | Exhibitor Directory |\nVirtual Lobby | Digital Meeting (Division Sessions)\n\n\nRegistration Statistics | Meeting Demographics\n System Compatibility Checker | Mobile App\n\n\nExplore Washington\, D. C.\n ChemLuminary Awards | Governance Activities
URL:https://www.siliconvalleyacs.org/event/acs-fall-2025-national-meeting/
LOCATION:Hybrid
CATEGORIES:ACS National Meeting,Conference
ATTACH;FMTTYPE=image/jpeg:https://www.siliconvalleyacs.org/wp-content/uploads/2022/09/ACS-Fall-2025-National-Meeting.jpg
END:VEVENT
BEGIN:VEVENT
DTSTART;VALUE=DATE:20250817
DTEND;VALUE=DATE:20250822
DTSTAMP:20260424T022447
CREATED:20250816T090043Z
LAST-MODIFIED:20250816T090043Z
UID:21993-1755388800-1755820799@www.siliconvalleyacs.org
SUMMARY:ACS Fall 2025 National Meeting
DESCRIPTION:Washington DC and Online\, Learn more
URL:https://www.siliconvalleyacs.org/event/acs-fall-2025-national-meeting-2/
ATTACH;FMTTYPE=image/jpeg:https://www.siliconvalleyacs.org/wp-content/uploads/2022/09/ACS-Fall-2025-National-Meeting.jpg
END:VEVENT
BEGIN:VEVENT
DTSTART;TZID=America/Los_Angeles:20250820T090000
DTEND;TZID=America/Los_Angeles:20250820T093000
DTSTAMP:20260424T022447
CREATED:20250816T090334Z
LAST-MODIFIED:20250816T090334Z
UID:21996-1755680400-1755682200@www.siliconvalleyacs.org
SUMMARY:Working for Yourself: Your Sales\, Marketing\, and Financing Plan: A Careers Pathway  Virtual Workshop
DESCRIPTION:Sponsored by ACS Careers\n9:00-10:30 am\, Online\, Free\, Registration required
URL:https://www.siliconvalleyacs.org/event/working-for-yourself-your-sales-marketing-and-financing-plan-a-careers-pathway-virtual-workshop/
LOCATION:Virtual
CATEGORIES:Webinar,ACS Careers
END:VEVENT
BEGIN:VEVENT
DTSTART;TZID=America/Los_Angeles:20250908T190000
DTEND;TZID=America/Los_Angeles:20250908T203000
DTSTAMP:20260424T022447
CREATED:20250529T005041Z
LAST-MODIFIED:20250805T032225Z
UID:21800-1757358000-1757363400@www.siliconvalleyacs.org
SUMMARY:Silicon Valley ACS Executive Committee Meeting
DESCRIPTION:Sponsored by the Silicon Valley ACS local section \n7:00-8:30 pm\, Hybrid Event\, Free\, Guests welcome: contact Chair to attend
URL:https://www.siliconvalleyacs.org/event/silicon-valley-acs-executive-committee-meeting-24/
LOCATION:Hybrid
CATEGORIES:Section Business
ATTACH;FMTTYPE=image/jpeg:https://www.siliconvalleyacs.org/wp-content/uploads/2021/09/ExComm-Meeting-event-graphic.jpg
END:VEVENT
BEGIN:VEVENT
DTSTART;TZID=America/Los_Angeles:20250917T090000
DTEND;TZID=America/Los_Angeles:20250917T103000
DTSTAMP:20260424T022447
CREATED:20250916T225758Z
LAST-MODIFIED:20250916T225758Z
UID:22041-1758099600-1758105000@www.siliconvalleyacs.org
SUMMARY:The Higher Education Landscape: An ACS Career Pathways Virtual Workshop
DESCRIPTION:Sponsored by ACS Careers \n9:00-10:30 am\, Online\, Free\, Registration required
URL:https://www.siliconvalleyacs.org/event/the-higher-education-landscape-an-acs-career-pathways-virtual-workshop/
LOCATION:Virtual
END:VEVENT
BEGIN:VEVENT
DTSTART;TZID=America/Los_Angeles:20250917T110000
DTEND;TZID=America/Los_Angeles:20250917T120000
DTSTAMP:20260424T022447
CREATED:20250916T225917Z
LAST-MODIFIED:20250916T225917Z
UID:22043-1758106800-1758110400@www.siliconvalleyacs.org
SUMMARY:ChemDraw: Insider Secrets Every Chemist Should Know
DESCRIPTION:Sponsored by ACS Webinars and ACS Division of Chemical Information \n11:00 am-Noon\, Online\, Free\, Registration required
URL:https://www.siliconvalleyacs.org/event/chemdraw-insider-secrets-every-chemist-should-know/
LOCATION:Virtual
END:VEVENT
BEGIN:VEVENT
DTSTART;TZID=America/Los_Angeles:20250917T180000
DTEND;TZID=America/Los_Angeles:20250917T190000
DTSTAMP:20260424T022447
CREATED:20250917T001647Z
LAST-MODIFIED:20250917T001647Z
UID:22047-1758132000-1758135600@www.siliconvalleyacs.org
SUMMARY:Functional Binder Material for Battery Electrodes: Formation of Hierarchically Ordered Structures in Conductive Polymers to Enhance Ion and Electron Transport in the Electrode
DESCRIPTION:Gao Liu\, PhD\, Lawrence Berkeley National Laboratory \nSponsored by Golden Gate Polymer Forum (GGPF) \n6:00-7:00 pm\, Online\, Free/donation\, Register by September 16th at 1pm
URL:https://www.siliconvalleyacs.org/event/functional-binder-material-for-battery-electrodes-formation-of-hierarchically-ordered-structures-in-conductive-polymers-to-enhance-ion-and-electron-transport-in-the-electrode/
LOCATION:Virtual
END:VEVENT
BEGIN:VEVENT
DTSTART;TZID=America/Los_Angeles:20250918T110000
DTEND;TZID=America/Los_Angeles:20250918T123000
DTSTAMP:20260424T022447
CREATED:20250917T090344Z
LAST-MODIFIED:20250917T090344Z
UID:22049-1758193200-1758198600@www.siliconvalleyacs.org
SUMMARY:Fewer Steps\, Greater Strides: Celebrating Breakthroughs in Sustainable Manufacturing
DESCRIPTION:Sponsored by ACS Webinars ACS Green Chemistry Institute\, Pharmaceutical Roundtable \n11:00 am-12:30 pm\, Online\, Free\, Registration required
URL:https://www.siliconvalleyacs.org/event/fewer-steps-greater-strides-celebrating-breakthroughs-in-sustainable-manufacturing/
LOCATION:Virtual
CATEGORIES:ACS Webinars,Webinar
END:VEVENT
END:VCALENDAR