BEGIN:VCALENDAR
VERSION:2.0
PRODID:-//SVACS - ECPv6.15.1.1//NONSGML v1.0//EN
CALSCALE:GREGORIAN
METHOD:PUBLISH
X-WR-CALNAME:SVACS
X-ORIGINAL-URL:https://www.siliconvalleyacs.org
X-WR-CALDESC:Events for SVACS
REFRESH-INTERVAL;VALUE=DURATION:PT1H
X-Robots-Tag:noindex
X-PUBLISHED-TTL:PT1H
BEGIN:VTIMEZONE
TZID:America/Los_Angeles
BEGIN:DAYLIGHT
TZOFFSETFROM:-0800
TZOFFSETTO:-0700
TZNAME:PDT
DTSTART:20250309T100000
END:DAYLIGHT
BEGIN:STANDARD
TZOFFSETFROM:-0700
TZOFFSETTO:-0800
TZNAME:PST
DTSTART:20251102T090000
END:STANDARD
BEGIN:DAYLIGHT
TZOFFSETFROM:-0800
TZOFFSETTO:-0700
TZNAME:PDT
DTSTART:20260308T100000
END:DAYLIGHT
BEGIN:STANDARD
TZOFFSETFROM:-0700
TZOFFSETTO:-0800
TZNAME:PST
DTSTART:20261101T090000
END:STANDARD
END:VTIMEZONE
BEGIN:VEVENT
DTSTART;TZID=America/Los_Angeles:20260129T110000
DTEND;TZID=America/Los_Angeles:20260129T120000
DTSTAMP:20260423T141601
CREATED:20251228T195207Z
LAST-MODIFIED:20251228T195207Z
UID:22266-1769684400-1769688000@www.siliconvalleyacs.org
SUMMARY:Diagnose\, Adjust\, Advance: Job Search Strategies for Scientists
DESCRIPTION:The current job market can make even the most qualified candidates find their carefully planned career paths disrupted by unexpected variables. For scientists and technical professionals\, the job search can feel less like a linear process and more like an experiment that refuses to behave as expected. \nJoin Patricia Simpson of the School of Chemical Sciences at the University of Illinois as she diagnoses setbacks in the job search the way you would troubleshoot an unexpected reaction by identifying new variables\, adjusting conditions\, and intentionally refining your approach. Register now to discover tips for refining your application materials\, expanding your search into adjacent roles\, leveraging your technical strengths\, and building momentum even when conditions feel unpredictable. Whether you’re early in your career or facing an unexpected detour\, this webinar will equip you with tools to regain momentum and move toward your next opportunity with confidence. \n\n\n\n\nWhat You Will Learn\n\nHow to strengthen your application materials so they communicate your value clearly and stand out to the recruiting team in competitive conditions\nHow to broaden your search into adjacent or related roles while also expanding where and how you look to uncover pathways you may not have considered\nHow to leverage your technical strengths effectively\, translating them into language and stories that resonate with employers
URL:https://www.siliconvalleyacs.org/event/diagnose-adjust-advance-job-search-strategies-for-scientists/
LOCATION:Virtual
CATEGORIES:ACS Webinars
ATTACH;FMTTYPE=image/jpeg:https://www.siliconvalleyacs.org/wp-content/uploads/2025/12/Job-Search-Strategies-Webinar.jpg
END:VEVENT
BEGIN:VEVENT
DTSTART;TZID=America/Los_Angeles:20260122T110000
DTEND;TZID=America/Los_Angeles:20260122T123000
DTSTAMP:20260423T141601
CREATED:20251213T205129Z
LAST-MODIFIED:20251213T205129Z
UID:22253-1769079600-1769085000@www.siliconvalleyacs.org
SUMMARY:Organic Origins: The Chemistry Hidden in an Asteroid
DESCRIPTION:Sponsored by ACS Webinars and ACS PHYS Astrochemistry Subdivision\n11:00 am-12:15 pm\, Online\, Free\, Registration required\n\n“In a stunning feat of precision and chemistry-driven exploration\, NASA’s OSIRIS-REx mission intercepted a speeding asteroid more than 200 million miles from Earth\, collected samples from its surface\, and returned them home\, making history as the first U.S. mission ever to do so. \n\n\n\nJoin Scott Sandford of the NASA Ames Research Center as he tells the fantastic true story of the mission to the Asteroid Bennu and how it brought the oldest chemical record in the Solar System. Register now to learn about the striking discoveries including Asteroid Bennu’s samples which contain a rich and diverse array of organic compounds\, potentially unlocking molecular clues to how planets and life began. \nThis ACS Webinar is moderated by Michel Nuevo of the NASA Ames Research Center and coproduced with the ACS PHYS Astrochemistry Subdivision.” \n\n\n\n\n\n\nWhat You Will Learn\n\nThe OSIRIS-REx mission to Asteroid Bennu: its design\, flight\, sample collection\, and successful return to Earth\nThe discovery and characterization of the complex population of organic materials found\nInsights from the pristine samples that reveal the chemistry of our early Solar System\n\n\n\n\n\n\n\nEvent Details\n\nThursday\, January 22\, 2026 @ 2-3:15pm ET\nFree to attend\nSlides will be available on day of the webinar\n\n\n\n\n\n\n\nCo-Produced With\n\n\n\n\n\n\nACS PHYS Astrochemistry Subdivision
URL:https://www.siliconvalleyacs.org/event/organic-origins-the-chemistry-hidden-in-an-asteroid/
LOCATION:Virtual
CATEGORIES:ACS Webinars
ATTACH;FMTTYPE=image/jpeg:https://www.siliconvalleyacs.org/wp-content/uploads/2025/12/Organic-Origins-Asteroid-Chemistry-Webinar.jpg
END:VEVENT
BEGIN:VEVENT
DTSTART;TZID=America/Los_Angeles:20260121T090000
DTEND;TZID=America/Los_Angeles:20260121T103000
DTSTAMP:20260423T141601
CREATED:20251228T200121Z
LAST-MODIFIED:20251228T200229Z
UID:22272-1768986000-1768991400@www.siliconvalleyacs.org
SUMMARY:Finding Your Path: Evaluating and Introducing Yourself
DESCRIPTION:This virtual live\, 90-minute workshop will answer common questions and provide expert insight about charting your career path\, creating a professional development plan\, and networking yourself to potential employers. \nAfter completing this workshop\, you will be able to: \n• Identify and describe your values and strengths in terms of employability \n• Describe the purpose of networking. \n• Apply questioning strategies to explore career paths and career opportunities. \nThe presentation will be followed by the opportunity for attendees to network in small groups led by ACS Career Consultants and receive personalized career advice.
URL:https://www.siliconvalleyacs.org/event/finding-your-path-evaluating-and-introducing-yourself/
LOCATION:Virtual
CATEGORIES:Workshop,ACS Careers
ATTACH;FMTTYPE=image/png:https://www.siliconvalleyacs.org/wp-content/uploads/2025/12/Finding-your-path-evaluating-and-introducing-yourself-ACS-Careers-Workshop.png
END:VEVENT
BEGIN:VEVENT
DTSTART;TZID=America/Los_Angeles:20260108T090000
DTEND;TZID=America/Los_Angeles:20260108T103000
DTSTAMP:20260423T141601
CREATED:20251228T194549Z
LAST-MODIFIED:20251228T194549Z
UID:22263-1767862800-1767868200@www.siliconvalleyacs.org
SUMMARY:ACS Virtual Office Hours: LinkedIn Profiles for Chemists
DESCRIPTION:During this free virtual career guidance session\, ACS Certified Career Consultant Katie Leach will provide invaluable insights on optimizing your LinkedIn profile. Discover strategies to attract new career opportunities in the chemical sciences and set yourself apart from the competition. \nWhat You Will Learn: \n\nTips and tricks for creating an impactful LinkedIn profile tailored specifically for chemists.\nHow to utilize LinkedIn to expand your professional network and attract the attention of potential employers.\n\nThe first half of the workshop will feature a presentation by an ACS Career Consultant\, while the last half will allow participants the opportunity to ask questions and network in small breakout groups led by ACS Career Consultants.
URL:https://www.siliconvalleyacs.org/event/acs-virtual-office-hours-linkedin-profiles-for-chemists/
LOCATION:Virtual
CATEGORIES:Careers,Webinar
ATTACH;FMTTYPE=image/png:https://www.siliconvalleyacs.org/wp-content/uploads/2025/12/LinkedIn-for-Chemists-ACS_EarlyCareer_VOH26_Jan8_landingpage.png
END:VEVENT
BEGIN:VEVENT
DTSTART;TZID=America/Los_Angeles:20260105T190000
DTEND;TZID=America/Los_Angeles:20260105T203000
DTSTAMP:20260423T141601
CREATED:20251205T200334Z
LAST-MODIFIED:20251205T200334Z
UID:22238-1767639600-1767645000@www.siliconvalleyacs.org
SUMMARY:Silicon Valley ACS Executive Committee Meeting
DESCRIPTION:Sponsored by the Silicon Valley ACS local section \n7:00-8:30 pm\, Hybrid Event\, Free\, Guests welcome: contact Chair to attend
URL:https://www.siliconvalleyacs.org/event/silicon-valley-acs-executive-committee-meeting-31/
LOCATION:Hybrid
CATEGORIES:Section Business
ATTACH;FMTTYPE=image/jpeg:https://www.siliconvalleyacs.org/wp-content/uploads/2021/09/ExComm-Meeting-event-graphic.jpg
END:VEVENT
BEGIN:VEVENT
DTSTART;TZID=America/Los_Angeles:20251217T090000
DTEND;TZID=America/Los_Angeles:20251217T103000
DTSTAMP:20260423T141601
CREATED:20251213T203930Z
LAST-MODIFIED:20251213T203930Z
UID:22246-1765962000-1765967400@www.siliconvalleyacs.org
SUMMARY:Making the Most of Your Interview: Outshine the Competition (ACS Career Pathways Virtual Workshop)
DESCRIPTION:Sponsored by ACS Careers\n9:00-10:30 AM\, Free\, Online\, Registration required\n\nThis virtual live\, 90-minute workshop prepares participants to take on different question types often encountered in interviews. Participants will practice answering these types of questions as well as formulating your own questions for your interviewer. \nAfter completing this workshop\, participants will be able to: \n\nIdentify and answer behavioral-based interview questions\nAnticipate and answer difficult interview questions\nPrepare insightful questions to ask\n\n  \nThe first hour of the workshop will feature a presentation by an ACS Career Consultant\, while the last 30 minutes will be a dedicated Q&A session between participants and the facilitator.
URL:https://www.siliconvalleyacs.org/event/making-the-most-of-your-interview-outshine-the-competition-acs-career-pathways-virtual-workshop/
LOCATION:Virtual
CATEGORIES:Workshop,ACS Careers
ATTACH;FMTTYPE=image/jpeg:https://www.siliconvalleyacs.org/wp-content/uploads/2025/12/Making-the-Most-of-Your-Interview.jpg
END:VEVENT
BEGIN:VEVENT
DTSTART;VALUE=DATE:20251215
DTEND;VALUE=DATE:20251221
DTSTAMP:20260423T141601
CREATED:20251213T204609Z
LAST-MODIFIED:20251213T204609Z
UID:22249-1765756800-1766275199@www.siliconvalleyacs.org
SUMMARY:Pacifichem 2025 - The International Chemical Congress of Pacific Basin Societies
DESCRIPTION:Honolulu\, Hawaii\, In-person\, Learn more \nThe 2025 International Chemical Congress of Pacific Basin Societies will be held  15-20 December 2025. Pacifichem 2025 will be the ninth in the series of successful cosponsored scientific conferences of Pacific Basin Chemical Societies.  Founded in 1984\, these conferences have been held in Honolulu\, Hawaii about every five years.
URL:https://www.siliconvalleyacs.org/event/pacifichem-2025-the-international-chemical-congress-of-pacific-basin-societies/
LOCATION:In-person
CATEGORIES:Conference
ATTACH;FMTTYPE=image/jpeg:https://www.siliconvalleyacs.org/wp-content/uploads/2025/12/Pacifichem2025.jpg
END:VEVENT
BEGIN:VEVENT
DTSTART;TZID=America/Los_Angeles:20251213T140000
DTEND;TZID=America/Los_Angeles:20251213T150000
DTSTAMP:20260423T141601
CREATED:20251213T203328Z
LAST-MODIFIED:20251213T203359Z
UID:22243-1765634400-1765638000@www.siliconvalleyacs.org
SUMMARY:Kid Makers: Pop Up Chemistry
DESCRIPTION:Sponsored by Silicon Valley ACS & Redwood City Public Library (RCPL) \n2:00-3:00 pm\, In-person for ages 8-12\, RCPL Downtown Location\, 1044 Middlefield \nRoad\, Redwood City\, Free\, Learn more \nYoung scientists explore different aspects of chemistry! Once a month\, join members of the ACS and take part in hands on experiments. For ages 8-12. This program will take place in the Makerspace.
URL:https://www.siliconvalleyacs.org/event/kid-makers-pop-up-chemistry-16/
LOCATION:In-person (Redwood City Public Library-Downtown Library)\, 1044 Middlefield Road\, Redwood City\, CA\, 94063\, United States
CATEGORIES:Outreach
ATTACH;FMTTYPE=image/jpeg:https://www.siliconvalleyacs.org/wp-content/uploads/2025/04/PopUp-Chemistry-Graphic-April2025.jpg
ORGANIZER;CN="Redwood City Library":MAILTO:pevans@redwoodcity.org
END:VEVENT
BEGIN:VEVENT
DTSTART;TZID=America/Los_Angeles:20251201T190000
DTEND;TZID=America/Los_Angeles:20251201T203000
DTSTAMP:20260423T141601
CREATED:20250529T005611Z
LAST-MODIFIED:20250529T005611Z
UID:21806-1764615600-1764621000@www.siliconvalleyacs.org
SUMMARY:Silicon Valley ACS Executive Committee Meeting
DESCRIPTION:Sponsored by the Silicon Valley ACS local section \n7:00-8:30 pm\, Hybrid Event\, Free\, Guests welcome: contact Chair to attend
URL:https://www.siliconvalleyacs.org/event/silicon-valley-acs-executive-committee-meeting-27/
LOCATION:Hybrid
CATEGORIES:Section Business
ATTACH;FMTTYPE=image/jpeg:https://www.siliconvalleyacs.org/wp-content/uploads/2021/09/ExComm-Meeting-event-graphic.jpg
END:VEVENT
BEGIN:VEVENT
DTSTART;TZID=America/Los_Angeles:20251201T190000
DTEND;TZID=America/Los_Angeles:20251201T200000
DTSTAMP:20260423T141601
CREATED:20251120T110047Z
LAST-MODIFIED:20251120T110100Z
UID:22200-1764615600-1764619200@www.siliconvalleyacs.org
SUMMARY:Silicon Valley ACS Executive Committee Meeting
DESCRIPTION:Sponsored by the Silicon Valley ACS local section \n7:00-8:30 pm\, Hybrid Event\, Free\, Guests welcome: contact Chair to attend
URL:https://www.siliconvalleyacs.org/event/silicon-valley-acs-executive-committee-meeting-30/
LOCATION:Hybrid
ATTACH;FMTTYPE=image/jpeg:https://www.siliconvalleyacs.org/wp-content/uploads/2021/09/ExComm-Meeting-event-graphic.jpg
END:VEVENT
BEGIN:VEVENT
DTSTART;TZID=America/Los_Angeles:20251201T100000
DTEND;TZID=America/Los_Angeles:20251201T111500
DTSTAMP:20260423T141601
CREATED:20251120T105922Z
LAST-MODIFIED:20251120T105922Z
UID:22198-1764583200-1764587700@www.siliconvalleyacs.org
SUMMARY:New Therapies for a World Without HIV
DESCRIPTION:Sponsored by ACS Webinars\, Science History Institute\, and ACS Publications \n10:00 am-11:15 am\, Online\, Free\, Registration required
URL:https://www.siliconvalleyacs.org/event/new-therapies-for-a-world-without-hiv/
LOCATION:Virtual
END:VEVENT
BEGIN:VEVENT
DTSTART;TZID=America/Los_Angeles:20251120T190000
DTEND;TZID=America/Los_Angeles:20251120T200000
DTSTAMP:20260423T141601
CREATED:20251120T110523Z
LAST-MODIFIED:20251120T110523Z
UID:22208-1763665200-1763668800@www.siliconvalleyacs.org
SUMMARY:Catalytic Adventures in an X-ray Playground
DESCRIPTION:Adam Hoffman\, Staff Scientist\, SSRL \nSponsored by SLAC National Accelerator Laboratory \n7:00-8:00 pm\, In-person\, SLAC National Accelerator Laboratory\, Kavli Auditorium\, 2575 Sand Hill Road\, Menlo Park\, CA 94025\, Free\, Registration required
URL:https://www.siliconvalleyacs.org/event/catalytic-adventures-in-an-x-ray-playground/
LOCATION:In-person
END:VEVENT
BEGIN:VEVENT
DTSTART;TZID=America/Los_Angeles:20251120T130000
DTEND;TZID=America/Los_Angeles:20251120T140000
DTSTAMP:20260423T141601
CREATED:20251120T110413Z
LAST-MODIFIED:20251120T110413Z
UID:22206-1763643600-1763647200@www.siliconvalleyacs.org
SUMMARY:2YC CHAS Chat: You are Now in Charge of Safety\, Now What?
DESCRIPTION:Sponsored by the ACS Chemical Health & Safety Division \n1:00-2:00 pm\, Online\, Free\, Registration required
URL:https://www.siliconvalleyacs.org/event/2yc-chas-chat-you-are-now-in-charge-of-safety-now-what/
LOCATION:Virtual
END:VEVENT
BEGIN:VEVENT
DTSTART;TZID=America/Los_Angeles:20251120T110000
DTEND;TZID=America/Los_Angeles:20251120T121500
DTSTAMP:20260423T141601
CREATED:20251120T110325Z
LAST-MODIFIED:20251120T110325Z
UID:22204-1763636400-1763640900@www.siliconvalleyacs.org
SUMMARY:Citations That Save Lives: The Power of Publishing Safety Research
DESCRIPTION:Sponsored by ACS Webinars and ACS Publications \n11:00 am-12:15 pm\, Online\, Free\, Registration required
URL:https://www.siliconvalleyacs.org/event/citations-that-save-lives-the-power-of-publishing-safety-research/
LOCATION:Virtual
END:VEVENT
BEGIN:VEVENT
DTSTART;TZID=America/Los_Angeles:20251113T140000
DTEND;TZID=America/Los_Angeles:20251113T150000
DTSTAMP:20260423T141601
CREATED:20251120T110225Z
LAST-MODIFIED:20251120T110225Z
UID:22202-1763042400-1763046000@www.siliconvalleyacs.org
SUMMARY:Kid Makers: Pop Up Chemistry
DESCRIPTION:Sponsored by Silicon Valley ACS & Redwood City Public Library (RCPL) \n2:00-3:00 pm\, In-person for ages 8-12\, RCPL Downtown Location\, 1044 Middlefield \nRoad\, Redwood City\, Free\, Learn more
URL:https://www.siliconvalleyacs.org/event/kid-makers-pop-up-chemistry-15/
LOCATION:In-person (Redwood City Public Library-Downtown Library)\, 1044 Middlefield Road\, Redwood City\, CA\, 94063\, United States
ATTACH;FMTTYPE=image/jpeg:https://www.siliconvalleyacs.org/wp-content/uploads/2025/04/PopUp-Chemistry-Graphic-April2025.jpg
END:VEVENT
BEGIN:VEVENT
DTSTART;TZID=America/Los_Angeles:20251113T110000
DTEND;TZID=America/Los_Angeles:20251113T120000
DTSTAMP:20260423T141601
CREATED:20251012T121944Z
LAST-MODIFIED:20251012T121944Z
UID:22158-1763031600-1763035200@www.siliconvalleyacs.org
SUMMARY:Strategies for Visually Accessible Science Communication
DESCRIPTION:Sponsored by ACS Webinars and ACS Office of Inclusion and Belonging \n11:00 am-Noon\, Online\, Free\, Registration required
URL:https://www.siliconvalleyacs.org/event/strategies-for-visually-accessible-science-communication/
LOCATION:Virtual
END:VEVENT
BEGIN:VEVENT
DTSTART;TZID=America/Los_Angeles:20251108T140000
DTEND;TZID=America/Los_Angeles:20251108T150000
DTSTAMP:20260423T141601
CREATED:20251012T121855Z
LAST-MODIFIED:20251012T121855Z
UID:22156-1762610400-1762614000@www.siliconvalleyacs.org
SUMMARY:Kid Makers: Pop Up Chemistry
DESCRIPTION:Sponsored by Silicon Valley ACS & Redwood City Public Library (RCPL) \n2:00-3:00 pm\, In-person for ages 8-12\, RCPL Downtown Location\, 1044 Middlefield \nRoad\, Redwood City\, Free\, Learn more
URL:https://www.siliconvalleyacs.org/event/kid-makers-pop-up-chemistry-14/
LOCATION:In-person (Redwood City Public Library-Downtown Library)\, 1044 Middlefield Road\, Redwood City\, CA\, 94063\, United States
ATTACH;FMTTYPE=image/png:https://www.siliconvalleyacs.org/wp-content/uploads/2021/06/Popup-chemistry.png
END:VEVENT
BEGIN:VEVENT
DTSTART;TZID=America/Los_Angeles:20251108T103000
DTEND;TZID=America/Los_Angeles:20251108T123000
DTSTAMP:20260423T141601
CREATED:20251014T182746Z
LAST-MODIFIED:20251014T183617Z
UID:22160-1762597800-1762605000@www.siliconvalleyacs.org
SUMMARY:Mapping Heavy Metal Contamination in Chicago’s Neighborhoods
DESCRIPTION:Assoc. Prof. Shelby Hatch\, Northwestern University\nSponsored by California Section ACS\, Women Chemists Committee\n10:30 am-12:30 pm\, Online\, Free\, Registration required | Download flyer\n\nPlease register before Thursday\, November 6\, 2025\, 12 noon. Your email address is needed to send the ZOOM link\, which will be shared with attendees on or before the day of the event. \nQuestions?  Please contact Elaine Yamaguchi at eyamaguchi08@gmail.com \nAbstract: \nFor over two decades\, I have partnered with undergraduate students\, environmental justice organizations\, Chicago Public School (CPS) teachers and their students\, and faculty from various Chicago universities to study heavy metal contamination across the city of Chicago. Projects have ranged from examining contamination caused by particular industries – including the now-shuttered Crawford and Fisk coal-fired power plants – to exploring specific neighborhoods with differing demographics\, to zooming in on areas where students live and go to school. Despite this\, when we took a comprehensive view of our data\, we realized that there were areas of the city where we had never collected even one sample. As a result\, we set a goal to collect samples from all 77 community areas in Chicago to aid in answering the broad research question: to what extent is heavy metal contamination in our city correlated with socio-economic\, racial\, and ethnic demographics? \nIn this talk\, I will discuss our research methods (analytical chemistry\, ICP spectroscopy\, and geospatial analysis)\, the collaborative\, participatory\, nature of the work\, and how it is shared publicly\, particularly with those most affected\, through StoryMaps. \nAbout the Speaker: \nShelby Hatch (she/her) is a scientist focused on the intersections of chemistry\, sustainability\, and social justice. Shelby is a Weinberg College Adviser and an Associate Professor of Instruction in the Department of Chemistry at Northwestern University. Her research incorporates environmental justice and Youth Participatory Science (YPS)\, which centers and involves students in the entire research process\, from creation of a hypothesis through disseminating results once data has been collected and analyzed. Shelby’s primary research focus is on the distribution of heavy metal contamination in Chicago in relation to where low socio-economic status and communities of color are located. She enjoys teaching undergraduate chemistry courses that incorporate sustainability and environmental justice into the curriculum. Shelby is also very passionate about teaching in the Northwestern Prison Education Program (NPEP). She developed a course and compiled an open educational resource textbook for her NPEP chemistry courses and has taught several cohorts of incarcerated men and women through NPEP. Shelby developed a “Chemistry of…” series in collaboration with the Illinois Science Council (ISC) and local Chicago businesses to give adults hands-on opportunities in learning the chemistry of coffee\, chocolate\, and more! She received her BA from The College of Wooster and her PhD from the University of Rochester.
URL:https://www.siliconvalleyacs.org/event/mapping-heavy-metal-contamination-in-chicagos-neighborhoods-2/
LOCATION:Virtual
CATEGORIES:Webinar
ATTACH;FMTTYPE=image/jpeg:https://www.siliconvalleyacs.org/wp-content/uploads/2025/10/Shelby-Hatch.jpg
END:VEVENT
BEGIN:VEVENT
DTSTART;TZID=America/Los_Angeles:20251106T090000
DTEND;TZID=America/Los_Angeles:20251106T223000
DTSTAMP:20260423T141601
CREATED:20251012T121539Z
LAST-MODIFIED:20251012T121539Z
UID:22152-1762419600-1762468200@www.siliconvalleyacs.org
SUMMARY:ACS Virtual Office Hours: Finding and Securing an Internship
DESCRIPTION:Sponsored by ACS Careers \n9:00-10:30 am\, Online\, Free\, Registration required
URL:https://www.siliconvalleyacs.org/event/acs-virtual-office-hours-finding-and-securing-an-internship-2/
LOCATION:Virtual
CATEGORIES:ACS Careers
END:VEVENT
BEGIN:VEVENT
DTSTART;TZID=America/Los_Angeles:20251105T110000
DTEND;TZID=America/Los_Angeles:20251105T123000
DTSTAMP:20260423T141601
CREATED:20251102T204324Z
LAST-MODIFIED:20251102T204324Z
UID:22169-1762340400-1762345800@www.siliconvalleyacs.org
SUMMARY:Mini-Chemical MBA: Corporate Structures & Corporate Fundraising
DESCRIPTION:Sponsored by ACS Webinars and ACS Small Chemical Businesses Division \n11:00 am-12:30 pm\, Online\, Free\, Registration required
URL:https://www.siliconvalleyacs.org/event/mini-chemical-mba-corporate-structures-corporate-fundraising/
LOCATION:Virtual
CATEGORIES:ACS Webinars
END:VEVENT
BEGIN:VEVENT
DTSTART;TZID=America/Los_Angeles:20251104T170000
DTEND;TZID=America/Los_Angeles:20251104T190000
DTSTAMP:20260423T141601
CREATED:20251012T121452Z
LAST-MODIFIED:20251012T121452Z
UID:22150-1762275600-1762282800@www.siliconvalleyacs.org
SUMMARY:Applications of New Z-Polymers Filament and Fiber (Tullomer)
DESCRIPTION:Dr. Mike Zimmerman\, CEO-Founder of Z-Polymers\, Founder of iQLP Incubation Lab; \nProfessor of Practice\, Mechanical Engineering\, Tufts University \nSponsored by Golden Gate Polymer Forum (GGPF) \nDetails TBA\, see https://ggpf.org/
URL:https://www.siliconvalleyacs.org/event/applications-of-new-z-polymers-filament-and-fiber-tullomer/
LOCATION:Virtual
CATEGORIES:Webinar
END:VEVENT
BEGIN:VEVENT
DTSTART;TZID=America/Los_Angeles:20251104T080000
DTEND;TZID=America/Los_Angeles:20251104T090000
DTSTAMP:20260423T141601
CREATED:20251012T121141Z
LAST-MODIFIED:20251012T121141Z
UID:22148-1762243200-1762246800@www.siliconvalleyacs.org
SUMMARY:What Next for Open Access? Open Science Essentials
DESCRIPTION:Sponsored by ACS Publications \n8:00-9:00 am\, Online\, Free\, Learn more and register
URL:https://www.siliconvalleyacs.org/event/what-next-for-open-access-open-science-essentials/
LOCATION:Virtual
END:VEVENT
BEGIN:VEVENT
DTSTART;TZID=America/Los_Angeles:20251103T190000
DTEND;TZID=America/Los_Angeles:20251103T203000
DTSTAMP:20260423T141601
CREATED:20250529T005423Z
LAST-MODIFIED:20250529T005423Z
UID:21804-1762196400-1762201800@www.siliconvalleyacs.org
SUMMARY:Silicon Valley ACS Executive Committee Meeting
DESCRIPTION:Sponsored by the Silicon Valley ACS local section \n7:00-8:30 pm\, Hybrid Event\, Free\, Guests welcome: contact Chair to attend
URL:https://www.siliconvalleyacs.org/event/silicon-valley-acs-executive-committee-meeting-26/
LOCATION:Hybrid
CATEGORIES:Section Business
ATTACH;FMTTYPE=image/jpeg:https://www.siliconvalleyacs.org/wp-content/uploads/2021/09/ExComm-Meeting-event-graphic.jpg
END:VEVENT
BEGIN:VEVENT
DTSTART;TZID=America/Los_Angeles:20251025T130000
DTEND;TZID=America/Los_Angeles:20251025T170000
DTSTAMP:20260423T141601
CREATED:20251012T120923Z
LAST-MODIFIED:20251012T120923Z
UID:22144-1761397200-1761411600@www.siliconvalleyacs.org
SUMMARY:STEM Community Day 2025
DESCRIPTION:Sponsored by SLAC National Accelerator Laboratory \n1:00-5:00 pm\, SLAC\, 2575 Sand Hill Road\, Menlo Park\, California\, 94025\, Free\, Registration required by October 17th
URL:https://www.siliconvalleyacs.org/event/stem-community-day-2025/
LOCATION:In-person
END:VEVENT
BEGIN:VEVENT
DTSTART;TZID=America/Los_Angeles:20251025T110000
DTEND;TZID=America/Los_Angeles:20251025T160000
DTSTAMP:20260423T141601
CREATED:20251012T120804Z
LAST-MODIFIED:20251012T120804Z
UID:22142-1761390000-1761408000@www.siliconvalleyacs.org
SUMMARY:Bay Area Science Festival 2025
DESCRIPTION:Sponsored by UCSF and Gordon and Betty Moore Foundation \n11:00 am-4:00 pm\, UCSF Mission Bay campus\, Koret Quad.\, Free\, Learn more
URL:https://www.siliconvalleyacs.org/event/bay-area-science-festival-2025/
LOCATION:UCSF Mission Bay\, 1675 Owens St\, San Francisco\, CA\, 94158\, United States
END:VEVENT
BEGIN:VEVENT
DTSTART;VALUE=DATE:20251025
DTEND;VALUE=DATE:20251029
DTSTAMP:20260423T141601
CREATED:20250919T122947Z
LAST-MODIFIED:20250919T122947Z
UID:22075-1761350400-1761695999@www.siliconvalleyacs.org
SUMMARY:ACS Western Regional Meeting 2026
DESCRIPTION:Sponsored by Silicon Valley ACS and California ACS Sections \nIn-person at Signia by Hilton San Jose\, 170 S Market St\, San Jose. Early Bird Registration ends September 25\, 2025.  Learn more
URL:https://www.siliconvalleyacs.org/event/acs-western-regional-meeting-2026/
LOCATION:In-person
CATEGORIES:Regional Meeting
END:VEVENT
BEGIN:VEVENT
DTSTART;TZID=America/Los_Angeles:20251022T180000
DTEND;TZID=America/Los_Angeles:20251022T190000
DTSTAMP:20260423T141601
CREATED:20251012T120051Z
LAST-MODIFIED:20251012T120051Z
UID:22140-1761156000-1761159600@www.siliconvalleyacs.org
SUMMARY:Multiscale Control of Dynamic Hydrogels for Bioinspired Applications
DESCRIPTION:Prof. Adrianne Rosales\, Chemical Engineering Dept.\, Univ. of Texas\, Austin \nSponsored by Golden Gate Polymer Forum (GGPF) \n6:00-7:30 pm\, Online\, Free/$5 Donation\, Registration required by Oct. 21 at 1pm
URL:https://www.siliconvalleyacs.org/event/multiscale-control-of-dynamic-hydrogels-for-bioinspired-applications-2/
LOCATION:Virtual
END:VEVENT
BEGIN:VEVENT
DTSTART;TZID=America/Los_Angeles:20251022T180000
DTEND;TZID=America/Los_Angeles:20251022T190000
DTSTAMP:20260423T141601
CREATED:20250919T123355Z
LAST-MODIFIED:20250919T123355Z
UID:22077-1761156000-1761159600@www.siliconvalleyacs.org
SUMMARY:Multiscale Control of Dynamic Hydrogels for Bioinspired Applications
DESCRIPTION:Prof. Adrianne Rosales\, Chemical Engineering Dept.\, Univ. of Texas\, Austin \nSponsored by Golden Gate Polymer Forum (GGPF) \nDetails TBA\, see https://ggpf.org/
URL:https://www.siliconvalleyacs.org/event/multiscale-control-of-dynamic-hydrogels-for-bioinspired-applications/
END:VEVENT
BEGIN:VEVENT
DTSTART;TZID=America/Los_Angeles:20251022T120000
DTEND;TZID=America/Los_Angeles:20251022T130000
DTSTAMP:20260423T141601
CREATED:20251012T113521Z
LAST-MODIFIED:20251012T113521Z
UID:22136-1761134400-1761138000@www.siliconvalleyacs.org
SUMMARY:ChemHIST Talks: (1) A Remarkable but Little-Known American Contribution to the Invention of the Periodic Table: The work of Charles F. Chandler and Charles S. Peirce\, and (2) Glue and Adhesives: A Chemical History
DESCRIPTION:Sponsored by the ACS History of Chemistry Division \nNoon-1:00 pm\, Online\, Free\, Registration required
URL:https://www.siliconvalleyacs.org/event/chemhist-talks-1-a-remarkable-but-little-known-american-contribution-to-the-invention-of-the-periodic-table-the-work-of-charles-f-chandler-and-charles-s-peirce-and-2-glue-and-adhesives-a-che/
LOCATION:Virtual
END:VEVENT
BEGIN:VEVENT
DTSTART;TZID=America/Los_Angeles:20251022T040000
DTEND;TZID=America/Los_Angeles:20251022T170000
DTSTAMP:20260423T141601
CREATED:20251012T113613Z
LAST-MODIFIED:20251012T113613Z
UID:22138-1761105600-1761152400@www.siliconvalleyacs.org
SUMMARY:Health Benefits of Spices: From Traditional Use to Modern Science
DESCRIPTION:Prof. Zhaoping Li\, University of California at Los Angeles \nSponsored by Southern California ACS Section \n4:00-5:00 pm\, Online\, Free\, Registration required\, Download flyer
URL:https://www.siliconvalleyacs.org/event/health-benefits-of-spices-from-traditional-use-to-modern-science/
LOCATION:Virtual
END:VEVENT
END:VCALENDAR