BEGIN:VCALENDAR
VERSION:2.0
PRODID:-//SVACS - ECPv6.15.1.1//NONSGML v1.0//EN
CALSCALE:GREGORIAN
METHOD:PUBLISH
X-WR-CALNAME:SVACS
X-ORIGINAL-URL:https://www.siliconvalleyacs.org
X-WR-CALDESC:Events for SVACS
REFRESH-INTERVAL;VALUE=DURATION:PT1H
X-Robots-Tag:noindex
X-PUBLISHED-TTL:PT1H
BEGIN:VTIMEZONE
TZID:America/Los_Angeles
BEGIN:DAYLIGHT
TZOFFSETFROM:-0800
TZOFFSETTO:-0700
TZNAME:PDT
DTSTART:20270314T100000
END:DAYLIGHT
BEGIN:STANDARD
TZOFFSETFROM:-0700
TZOFFSETTO:-0800
TZNAME:PST
DTSTART:20271107T090000
END:STANDARD
BEGIN:DAYLIGHT
TZOFFSETFROM:-0800
TZOFFSETTO:-0700
TZNAME:PDT
DTSTART:20280312T100000
END:DAYLIGHT
BEGIN:STANDARD
TZOFFSETFROM:-0700
TZOFFSETTO:-0800
TZNAME:PST
DTSTART:20281105T090000
END:STANDARD
END:VTIMEZONE
BEGIN:VEVENT
DTSTART;VALUE=DATE:20270321
DTEND;VALUE=DATE:20270326
DTSTAMP:20260423T171454
CREATED:20250529T012607Z
LAST-MODIFIED:20260301T000827Z
UID:21818-1805587200-1806019199@www.siliconvalleyacs.org
SUMMARY:ACS Spring 2027 National Meeting\, March 21-25 - New Orleans\, LA and Digital
DESCRIPTION:March 21 – 25 \nNew Orleans\, LA
URL:https://www.siliconvalleyacs.org/event/acs-spring-2027-national-meeting/
LOCATION:Hybrid
CATEGORIES:Conference
ATTACH;FMTTYPE=image/jpeg:https://www.siliconvalleyacs.org/wp-content/uploads/2025/05/ACS-Spring-2027.jpg
END:VEVENT
BEGIN:VEVENT
DTSTART;VALUE=DATE:20270822
DTEND;VALUE=DATE:20270827
DTSTAMP:20260423T171454
CREATED:20250529T012914Z
LAST-MODIFIED:20260301T001004Z
UID:21821-1818892800-1819324799@www.siliconvalleyacs.org
SUMMARY:ACS Fall 2027 National Meeting\, August 22-26 - San Diego\, CA and Digital
DESCRIPTION:August 22-26 \nSan Diego\, CA
URL:https://www.siliconvalleyacs.org/event/acs-fall-2027-national-meeting/
LOCATION:Hybrid
CATEGORIES:Conference
ATTACH;FMTTYPE=image/jpeg:https://www.siliconvalleyacs.org/wp-content/uploads/2025/05/ACS-Fall-2027.jpg
END:VEVENT
BEGIN:VEVENT
DTSTART;VALUE=DATE:20280820
DTEND;VALUE=DATE:20280825
DTSTAMP:20260423T171454
CREATED:20260301T001613Z
LAST-MODIFIED:20260301T001613Z
UID:22497-1850342400-1850774399@www.siliconvalleyacs.org
SUMMARY:ACS Fall 2028 National Meeting\, August 20-24 - Washington\, DC and Digital
DESCRIPTION:August 20 – 24\nWashington\, DC
URL:https://www.siliconvalleyacs.org/event/acs-fall-2028-national-meeting-august-20-24-washington-dc-and-digital/
LOCATION:Hybrid
CATEGORIES:ACS National Meeting
ATTACH;FMTTYPE=image/jpeg:https://www.siliconvalleyacs.org/wp-content/uploads/2026/02/ACS-Fall-2028-National-Meeting-WashingtonDC.jpg
END:VEVENT
END:VCALENDAR