BEGIN:VCALENDAR
VERSION:2.0
PRODID:-//SVACS - ECPv6.15.1.1//NONSGML v1.0//EN
CALSCALE:GREGORIAN
METHOD:PUBLISH
X-ORIGINAL-URL:https://www.siliconvalleyacs.org
X-WR-CALDESC:Events for SVACS
REFRESH-INTERVAL;VALUE=DURATION:PT1H
X-Robots-Tag:noindex
X-PUBLISHED-TTL:PT1H
BEGIN:VTIMEZONE
TZID:America/Los_Angeles
BEGIN:DAYLIGHT
TZOFFSETFROM:-0800
TZOFFSETTO:-0700
TZNAME:PDT
DTSTART:20230312T100000
END:DAYLIGHT
BEGIN:STANDARD
TZOFFSETFROM:-0700
TZOFFSETTO:-0800
TZNAME:PST
DTSTART:20231105T090000
END:STANDARD
END:VTIMEZONE
BEGIN:VEVENT
DTSTART;TZID=America/Los_Angeles:20230413T120000
DTEND;TZID=America/Los_Angeles:20230413T150000
DTSTAMP:20260425T195907
CREATED:20230304T091109Z
LAST-MODIFIED:20230304T091109Z
UID:19794-1681387200-1681398000@www.siliconvalleyacs.org
SUMMARY:RAMP in the Research Lab Workshop
DESCRIPTION:Sponsored by ACS Division of Chemical Health & Safety\nNoon-3:00pm\, Online via Zoom\, $25\, Registration required\n\nThis 3-hour workshop is primarily directed at frontline researchers in academic institutions: graduate students\, postdoctoral scholars\, and undergraduate students. \nLearn the principles of the RAMP paradigm through a series of case studies and discussion sessions focused on practicing each of the RAMP steps. \nFaculty and safety staff are also encouraged to attend to learn strategies to better prepare the student researchers on their campuses for risk management of their experimental work. \nThis workshop is designed to be highly interactive\, both to encourage networking among our participants and to support participants in developing functional plans to take back to their institutions. We utilize the Zoom platform to support both large group and small group activities. Those who have reported the workshop as useful are also those who heavily engaged. The participants add value to this workshop as much\, if not more than\, the organizers! \nWhile we certainly understand that the unevenness of Internet connectivity and the challenges of work-from-home can serve as barriers\, we strongly advise you to come to this workshop prepared to engage with mics and cameras on! If this is not possible\, we ask that you engage via the chat function. \nWhile this workshop has been designed from a US perspective\, we have had participants from multiple countries report that they found it useful as well! This international audience is just one more reason why the interactivity among participants is so vital to the success of the workshop for all participants! \nThis workshop is brought to you by the ACS Division of Chemical Health and Safety as one of two workshops in the ACS CHAS Peer Led Workshop Series. To learn more about the Division and the ACS CHAS Peer Led Workshop Series\, please visit our main website at dchas.org.
URL:https://www.siliconvalleyacs.org/event/ramp-in-the-research-lab-workshop/
LOCATION:Virtual
CATEGORIES:Workshop
ATTACH;FMTTYPE=image/jpeg:https://www.siliconvalleyacs.org/wp-content/uploads/2023/03/RAMP-in-the-research-lab.jpg
END:VEVENT
END:VCALENDAR