BEGIN:VCALENDAR
VERSION:2.0
PRODID:-//SVACS - ECPv6.15.1.1//NONSGML v1.0//EN
CALSCALE:GREGORIAN
METHOD:PUBLISH
X-ORIGINAL-URL:https://www.siliconvalleyacs.org
X-WR-CALDESC:Events for SVACS
REFRESH-INTERVAL;VALUE=DURATION:PT1H
X-Robots-Tag:noindex
X-PUBLISHED-TTL:PT1H
BEGIN:VTIMEZONE
TZID:America/Los_Angeles
BEGIN:DAYLIGHT
TZOFFSETFROM:-0800
TZOFFSETTO:-0700
TZNAME:PDT
DTSTART:20210314T100000
END:DAYLIGHT
BEGIN:STANDARD
TZOFFSETFROM:-0700
TZOFFSETTO:-0800
TZNAME:PST
DTSTART:20211107T090000
END:STANDARD
BEGIN:DAYLIGHT
TZOFFSETFROM:-0800
TZOFFSETTO:-0700
TZNAME:PDT
DTSTART:20220313T100000
END:DAYLIGHT
BEGIN:STANDARD
TZOFFSETFROM:-0700
TZOFFSETTO:-0800
TZNAME:PST
DTSTART:20221106T090000
END:STANDARD
BEGIN:DAYLIGHT
TZOFFSETFROM:-0800
TZOFFSETTO:-0700
TZNAME:PDT
DTSTART:20230312T100000
END:DAYLIGHT
BEGIN:STANDARD
TZOFFSETFROM:-0700
TZOFFSETTO:-0800
TZNAME:PST
DTSTART:20231105T090000
END:STANDARD
BEGIN:DAYLIGHT
TZOFFSETFROM:-0800
TZOFFSETTO:-0700
TZNAME:PDT
DTSTART:20240310T100000
END:DAYLIGHT
BEGIN:STANDARD
TZOFFSETFROM:-0700
TZOFFSETTO:-0800
TZNAME:PST
DTSTART:20241103T090000
END:STANDARD
BEGIN:DAYLIGHT
TZOFFSETFROM:-0800
TZOFFSETTO:-0700
TZNAME:PDT
DTSTART:20250309T100000
END:DAYLIGHT
BEGIN:STANDARD
TZOFFSETFROM:-0700
TZOFFSETTO:-0800
TZNAME:PST
DTSTART:20251102T090000
END:STANDARD
END:VTIMEZONE
BEGIN:VEVENT
DTSTART;TZID=America/Los_Angeles:20250303T193000
DTEND;TZID=America/Los_Angeles:20250303T210000
DTSTAMP:20260423T150431
CREATED:20250131T222224Z
LAST-MODIFIED:20250131T222308Z
UID:21655-1741030200-1741035600@www.siliconvalleyacs.org
SUMMARY:Silicon Valley ACS Executive Committee Meeting
DESCRIPTION:7:30-9:00 pm\, Online via Zoom\, Free. To attend as a guest\, please contact the Chair.
URL:https://www.siliconvalleyacs.org/event/silicon-valley-acs-executive-committee-meeting-18/
LOCATION:Hybrid
CATEGORIES:Section Business,Tour
ATTACH;FMTTYPE=image/jpeg:https://www.siliconvalleyacs.org/wp-content/uploads/2021/09/ExComm-Meeting-event-graphic.jpg
END:VEVENT
BEGIN:VEVENT
DTSTART;TZID=America/Los_Angeles:20250203T193000
DTEND;TZID=America/Los_Angeles:20250203T210000
DTSTAMP:20260423T150431
CREATED:20250112T181950Z
LAST-MODIFIED:20250112T181950Z
UID:21529-1738611000-1738616400@www.siliconvalleyacs.org
SUMMARY:Silicon Valley ACS Executive Committee Meeting
DESCRIPTION:7:30-9:00 pm\, Online via Zoom\, Free. To attend as a guest\, please contact the Chair.
URL:https://www.siliconvalleyacs.org/event/silicon-valley-acs-executive-committee-meeting-17/
LOCATION:Hybrid
CATEGORIES:Section Business,Tour
ATTACH;FMTTYPE=image/jpeg:https://www.siliconvalleyacs.org/wp-content/uploads/2021/09/ExComm-Meeting-event-graphic.jpg
END:VEVENT
BEGIN:VEVENT
DTSTART;TZID=America/Los_Angeles:20241211T120000
DTEND;TZID=America/Los_Angeles:20241211T143000
DTSTAMP:20260423T150431
CREATED:20241207T211416Z
LAST-MODIFIED:20241207T211416Z
UID:21454-1733918400-1733927400@www.siliconvalleyacs.org
SUMMARY:Sustainability at Exponent: Webinar and In-person Tour
DESCRIPTION:Tiny Fibers\, Big Problems: An Introduction to the Contributors\, Environmental Impact\, & Regulation of Microplastics\n\n\nSponsored by SPE Golden Gate Section\n\n\n12:00 – 2:30PM\, Menlo Park\, Learn more and register\n\n\nErin Kirkpatrick\, Ph.D.\, Brian Jing\, Ph.D.\, Sadella Santos\, Ph.D.\n\n\nMicroplastics have recently gained more attention due to their ever-growing presence in the environment\, however\, their impact is not fully understood. They originate from a variety of sources including the intentional addition of small plastic particles to certain consumer products and the degradation of larger plastic materials from post-consumer use\, such as from synthetic fibers from textiles. Currently\, there is a lack of federal regulation focused on targeting the pathways that microplastics are introduced into the environment. Further\, due to the lack of regulation\, there is a lack of scientific consensus on the appropriate standard methods for identifying and characterizing microplastics. This review will discuss the current definition of microplastic and their sources\, current and developing regulation\, the available standards and quantification methods\, and comment on the dynamic landscape of the textile industry’s contribution to microplastics. \nLunch will be provided for in-person attendees. \nFor the virtual event\, register here. \nEvent Schedule\nNoon – 1pm PST: Webinar and Lunch (for in-person attendees) \n1:15-2:30pm: Exponent Lab Tour (Chromatography/FTIR labs\, Microscopy Spaces\, Inspection Areas)
URL:https://www.siliconvalleyacs.org/event/sustainability-at-exponent-webinar-and-in-person-tour/
LOCATION:Hybrid
CATEGORIES:Tour,Webinar
ATTACH;FMTTYPE=image/png:https://www.siliconvalleyacs.org/wp-content/uploads/2024/12/Exponent.png
END:VEVENT
BEGIN:VEVENT
DTSTART;TZID=America/Los_Angeles:20231113T130000
DTEND;TZID=America/Los_Angeles:20231113T143000
DTSTAMP:20260423T150431
CREATED:20231103T223118Z
LAST-MODIFIED:20231103T223118Z
UID:20373-1699880400-1699885800@www.siliconvalleyacs.org
SUMMARY:Tour of the Shoreway Environmental Center\, the South Bay’s Waste Management Center
DESCRIPTION:Sponsored by the Society of Plastic Engineers\, Golden Gate Section\n1:00-2:30pm\, In-person in San Carlos\, Free\, Registration required\n\nTour of the Shoreway Environmental Center\, which is South Bay’s waste management center. The tour includes the Transfer Station and the Materials Recovery Facility (MRF).  Permission slip must be signed to attend \nLearn more about Rethink Waste
URL:https://www.siliconvalleyacs.org/event/tour-of-the-shoreway-environmental-center-the-south-bays-waste-management-center/
LOCATION:In-person
CATEGORIES:Tour
ATTACH;FMTTYPE=image/png:https://www.siliconvalleyacs.org/wp-content/uploads/2023/11/Rethink-Waste-SPE-GGS-Tour-.png
END:VEVENT
BEGIN:VEVENT
DTSTART;TZID=America/Los_Angeles:20211209T230000
DTEND;TZID=America/Los_Angeles:20211210T000000
DTSTAMP:20260423T150431
CREATED:20211205T040941Z
LAST-MODIFIED:20211205T040941Z
UID:17869-1639090800-1639094400@www.siliconvalleyacs.org
SUMMARY:SLAC Virtual Public Tour
DESCRIPTION:SLAC National Accelerator Laboratory is now offering virtual public tours! Join us on Zoom for an hour-long virtual tour by SLAC tour guides to explore some of our facilities and learn about our exciting research!  Tours are free but registration is required. Register for a tour here. \nOur SLAC tour guides will show you around the 2-mile-long Klystron Gallery\, one of the longest buildings in the world\, and the linac\, the world’s longest linear accelerator. They will also take you to the Linac Coherent Light Source (LCLS)\, the world’s first hard X-ray free-electron laser. They will be available to answer your questions throughout the tour and during the Q&A time at the end of the tour. \nThe tour is designed for those 12 years of age and above. Individuals 17 years old and younger are welcome but a parent or a legal guardian must register for them and join the minor for the entire duration of the tour. \nIf you are an educator who would like to sign up groups of students affiliated with schools and higher education institutions\, please sign up for an Educational Tour instead. \nVisit this website for more information
URL:https://www.siliconvalleyacs.org/event/slac-virtual-public-tour-2/
LOCATION:Virtual
CATEGORIES:Tour
ATTACH;FMTTYPE=image/png:https://www.siliconvalleyacs.org/wp-content/uploads/2021/12/SLAC-public-tour.png
END:VEVENT
BEGIN:VEVENT
DTSTART;TZID=America/Los_Angeles:20211209T200000
DTEND;TZID=America/Los_Angeles:20211209T210000
DTSTAMP:20260423T150431
CREATED:20211205T040702Z
LAST-MODIFIED:20211205T040702Z
UID:17866-1639080000-1639083600@www.siliconvalleyacs.org
SUMMARY:SLAC Virtual Public Tour
DESCRIPTION:SLAC National Accelerator Laboratory is now offering virtual public tours! Join us on Zoom for an hour-long virtual tour by SLAC tour guides to explore some of our facilities and learn about our exciting research!  Tours are free but registration is required. Register for a tour here. \nOur SLAC tour guides will show you around the 2-mile-long Klystron Gallery\, one of the longest buildings in the world\, and the linac\, the world’s longest linear accelerator. They will also take you to the Linac Coherent Light Source (LCLS)\, the world’s first hard X-ray free-electron laser. They will be available to answer your questions throughout the tour and during the Q&A time at the end of the tour. \nThe tour is designed for those 12 years of age and above. Individuals 17 years old and younger are welcome but a parent or a legal guardian must register for them and join the minor for the entire duration of the tour. \nIf you are an educator who would like to sign up groups of students affiliated with schools and higher education institutions\, please sign up for an Educational Tour instead. \nVisit this website for more information
URL:https://www.siliconvalleyacs.org/event/slac-virtual-public-tour/
LOCATION:Virtual
CATEGORIES:Tour
ATTACH;FMTTYPE=image/png:https://www.siliconvalleyacs.org/wp-content/uploads/2021/12/SLAC-public-tour.png
END:VEVENT
END:VCALENDAR