BEGIN:VCALENDAR
VERSION:2.0
PRODID:-//SVACS - ECPv6.15.1.1//NONSGML v1.0//EN
CALSCALE:GREGORIAN
METHOD:PUBLISH
X-WR-CALNAME:SVACS
X-ORIGINAL-URL:https://www.siliconvalleyacs.org
X-WR-CALDESC:Events for SVACS
REFRESH-INTERVAL;VALUE=DURATION:PT1H
X-Robots-Tag:noindex
X-PUBLISHED-TTL:PT1H
BEGIN:VTIMEZONE
TZID:America/Los_Angeles
BEGIN:DAYLIGHT
TZOFFSETFROM:-0800
TZOFFSETTO:-0700
TZNAME:PDT
DTSTART:20200308T100000
END:DAYLIGHT
BEGIN:STANDARD
TZOFFSETFROM:-0700
TZOFFSETTO:-0800
TZNAME:PST
DTSTART:20201101T090000
END:STANDARD
BEGIN:DAYLIGHT
TZOFFSETFROM:-0800
TZOFFSETTO:-0700
TZNAME:PDT
DTSTART:20210314T100000
END:DAYLIGHT
BEGIN:STANDARD
TZOFFSETFROM:-0700
TZOFFSETTO:-0800
TZNAME:PST
DTSTART:20211107T090000
END:STANDARD
BEGIN:DAYLIGHT
TZOFFSETFROM:-0800
TZOFFSETTO:-0700
TZNAME:PDT
DTSTART:20220313T100000
END:DAYLIGHT
BEGIN:STANDARD
TZOFFSETFROM:-0700
TZOFFSETTO:-0800
TZNAME:PST
DTSTART:20221106T090000
END:STANDARD
END:VTIMEZONE
BEGIN:VEVENT
DTSTART;TZID=America/Los_Angeles:20220220T200000
DTEND;TZID=America/Los_Angeles:20220220T200000
DTSTAMP:20260423T171054
CREATED:20220117T080330Z
LAST-MODIFIED:20220216T151408Z
UID:18157-1645387200-1645387200@www.siliconvalleyacs.org
SUMMARY:Newsletter: Submission Deadline for March 2022
DESCRIPTION:Submit articles by Monday (All Authors to Grace): 2/21/2022\nReview & revise manuscripts by Thursday at Noon (Jane & Grace): 2/24/2022\nProofread and finish publication by Saturday (Lillian\, Jane\, Grace): 2/26/2022\nPost & distribute to Members by Tuesday (Sogol\, Grace): 3/1/2022
URL:https://www.siliconvalleyacs.org/event/newsletter-submission-deadline-for-march-2022/
LOCATION:Virtual
CATEGORIES:Section Business
ATTACH;FMTTYPE=image/jpeg:https://www.siliconvalleyacs.org/wp-content/uploads/2021/09/newsletter-deadline-graphic.jpg
END:VEVENT
BEGIN:VEVENT
DTSTART;TZID=America/Los_Angeles:20220210T033000
DTEND;TZID=America/Los_Angeles:20220210T050000
DTSTAMP:20260423T171054
CREATED:20220117T072228Z
LAST-MODIFIED:20220117T075322Z
UID:18134-1644463800-1644469200@www.siliconvalleyacs.org
SUMMARY:Executive Committee Meeting for Silicon Valley Section - February 2022
DESCRIPTION:Please contact Chair to attend as a guest.
URL:https://www.siliconvalleyacs.org/event/executive-committee-meeting-for-silicon-valley-section-february-2022/
LOCATION:Virtual
CATEGORIES:Section Business
ATTACH;FMTTYPE=image/jpeg:https://www.siliconvalleyacs.org/wp-content/uploads/2021/09/ExComm-Meeting-event-graphic.jpg
END:VEVENT
BEGIN:VEVENT
DTSTART;TZID=America/Los_Angeles:20220123T200000
DTEND;TZID=America/Los_Angeles:20220123T200000
DTSTAMP:20260423T171054
CREATED:20220117T075024Z
LAST-MODIFIED:20220125T151429Z
UID:18154-1642968000-1642968000@www.siliconvalleyacs.org
SUMMARY:Newsletter: Submission Deadline for February 2022
DESCRIPTION:Submit articles by Thursday (All Authors to Grace): 1/27/2022\nReview & revise manuscripts by Sunday (Jane\, George\, Grace): 1/30/2022\nProofread and finish publication Monday-Tuesday (Lillian\, Jane\, Grace): 1/31/2022-2/1/2022\nPost & distribute to Members by Wednesday (Sogol\, Grace): 2/2/2022
URL:https://www.siliconvalleyacs.org/event/newsletter-submission-deadline-for-february-2022/
LOCATION:Virtual
CATEGORIES:Section Business
ATTACH;FMTTYPE=image/jpeg:https://www.siliconvalleyacs.org/wp-content/uploads/2021/09/newsletter-deadline-graphic.jpg
END:VEVENT
BEGIN:VEVENT
DTSTART;TZID=America/Los_Angeles:20220113T033000
DTEND;TZID=America/Los_Angeles:20220113T050000
DTSTAMP:20260423T171054
CREATED:20220111T071800Z
LAST-MODIFIED:20220117T075255Z
UID:18132-1642044600-1642050000@www.siliconvalleyacs.org
SUMMARY:Executive Committee Meeting for Silicon Valley Section - January 2022
DESCRIPTION:Please contact Chair to attend as a guest.
URL:https://www.siliconvalleyacs.org/event/executive-committee-meeting-for-silicon-valley-section-january-2022/
LOCATION:Virtual
CATEGORIES:Section Business
ATTACH;FMTTYPE=image/jpeg:https://www.siliconvalleyacs.org/wp-content/uploads/2021/09/ExComm-Meeting-event-graphic.jpg
END:VEVENT
BEGIN:VEVENT
DTSTART;TZID=America/Los_Angeles:20211215T030000
DTEND;TZID=America/Los_Angeles:20211215T050000
DTSTAMP:20260423T171054
CREATED:20210904T150002Z
LAST-MODIFIED:20211203T180233Z
UID:17489-1639537200-1639544400@www.siliconvalleyacs.org
SUMMARY:Executive Committee Meeting for Silicon Valley Section - December 2021
DESCRIPTION:Please contact Chair to attend as a guest.
URL:https://www.siliconvalleyacs.org/event/executive-committee-meeting-for-silicon-valley-section-december-2021/
LOCATION:Virtual
CATEGORIES:Section Business
ATTACH;FMTTYPE=image/jpeg:https://www.siliconvalleyacs.org/wp-content/uploads/2021/09/ExComm-Meeting-event-graphic.jpg
END:VEVENT
BEGIN:VEVENT
DTSTART;TZID=America/Los_Angeles:20211212T200000
DTEND;TZID=America/Los_Angeles:20211212T200000
DTSTAMP:20260423T171054
CREATED:20210909T141514Z
LAST-MODIFIED:20211203T180152Z
UID:17552-1639339200-1639339200@www.siliconvalleyacs.org
SUMMARY:Newsletter: Submission Deadline for January 2022
DESCRIPTION:Submit articles by Monday at Noon (All Authors to Grace): 12/13/2021\nReview & revise manuscripts by Thursday at Noon (Jane\, George\, Grace): 12/16/2021\nProofread and finish publication by Saturday at Noon (Lillian\, Jane\, Grace): 12/18/2021\nPost & distribute to Members by Monday at Noon (Sogol\, Grace): 12/20/2021
URL:https://www.siliconvalleyacs.org/event/newsletter-submission-deadline-for-january-2022/
LOCATION:Virtual
CATEGORIES:Section Business
ATTACH;FMTTYPE=image/jpeg:https://www.siliconvalleyacs.org/wp-content/uploads/2021/09/newsletter-deadline-graphic.jpg
END:VEVENT
BEGIN:VEVENT
DTSTART;TZID=America/Los_Angeles:20211114T200000
DTEND;TZID=America/Los_Angeles:20211114T200000
DTSTAMP:20260423T171054
CREATED:20210909T141241Z
LAST-MODIFIED:20211108T164921Z
UID:17550-1636920000-1636920000@www.siliconvalleyacs.org
SUMMARY:Newsletter: Submission Deadline for December 2021
DESCRIPTION:Submit articles by Monday at Noon (All Authors to Grace): 11/15/2021\nReview & revise manuscripts by Thursday at Noon (Jane\, George\, Grace): 11/18/2021\nProofread and finish publication by Saturday at Noon (Lillian\, Jane\, Grace): 11/20/2021\nPost & distribute to Members by Monday at Noon (Sogol\, Grace): 11/22/2021
URL:https://www.siliconvalleyacs.org/event/newsletter-submission-deadline-for-december-2021/
LOCATION:Virtual
CATEGORIES:Section Business
END:VEVENT
BEGIN:VEVENT
DTSTART;TZID=America/Los_Angeles:20211103T040000
DTEND;TZID=America/Los_Angeles:20211103T060000
DTSTAMP:20260423T171054
CREATED:20210904T145840Z
LAST-MODIFIED:20210920T193130Z
UID:17487-1635912000-1635919200@www.siliconvalleyacs.org
SUMMARY:Executive Committee Meeting for Silicon Valley Section - November 2021
DESCRIPTION:Please contact Chair to attend as a guest.
URL:https://www.siliconvalleyacs.org/event/executive-committee-meeting-for-silicon-valley-section-november-2021/
LOCATION:Virtual
CATEGORIES:Section Business
END:VEVENT
BEGIN:VEVENT
DTSTART;TZID=America/Los_Angeles:20211017T210000
DTEND;TZID=America/Los_Angeles:20211017T210000
DTSTAMP:20260423T171054
CREATED:20210909T140824Z
LAST-MODIFIED:20210909T140824Z
UID:17546-1634504400-1634504400@www.siliconvalleyacs.org
SUMMARY:Newsletter: Submission Deadline for November 2021
DESCRIPTION:Submit articles by Monday at Noon (All Authors to Grace): 10/18/2021\nReview & revise manuscripts by Thursday at Noon (Jane\, George\, Grace): 10/21/2021\nProofread and finish publication by Saturday at Noon (Lillian\, Jane\, Grace): 10/23/2021\nPost & distribute to Members by Monday at Noon (Sogol\, Grace): 10/25/2021
URL:https://www.siliconvalleyacs.org/event/newsletter-submission-deadline-for-november-2021/
LOCATION:Virtual
CATEGORIES:Section Business
END:VEVENT
BEGIN:VEVENT
DTSTART;TZID=America/Los_Angeles:20211006T040000
DTEND;TZID=America/Los_Angeles:20211006T060000
DTSTAMP:20260423T171054
CREATED:20210904T145728Z
LAST-MODIFIED:20211001T121346Z
UID:17485-1633492800-1633500000@www.siliconvalleyacs.org
SUMMARY:Executive Committee Meeting for Silicon Valley Section - October 2021
DESCRIPTION:Please contact Chair  (chair@svacs.org) to attend as a guest.
URL:https://www.siliconvalleyacs.org/event/executive-committee-meeting-for-silicon-valley-section-october-2021/
LOCATION:Virtual
CATEGORIES:Section Business
END:VEVENT
BEGIN:VEVENT
DTSTART;TZID=America/Los_Angeles:20210919T210000
DTEND;TZID=America/Los_Angeles:20210919T210000
DTSTAMP:20260423T171054
CREATED:20210909T140234Z
LAST-MODIFIED:20210909T140914Z
UID:17543-1632085200-1632085200@www.siliconvalleyacs.org
SUMMARY:Newsletter: Submission Deadline for October 2021
DESCRIPTION:Submit articles by Monday at Noon (All Authors to Grace): 9/20/2021\nReview & revise manuscripts by Thursday at Noon (Jane\, George\, Grace): 9/23/2021\nProofread and finish publication by Saturday at Noon (Lillian\, Jane\, Grace): 9/25/2021\nPost & distribute to Members by Monday at Noon (Sogol\, Grace): 9/27/2021
URL:https://www.siliconvalleyacs.org/event/newsletter-submission-deadline-for-october-2021/
LOCATION:Virtual
CATEGORIES:Section Business
END:VEVENT
BEGIN:VEVENT
DTSTART;TZID=America/Los_Angeles:20210908T040000
DTEND;TZID=America/Los_Angeles:20210908T060000
DTSTAMP:20260423T171054
CREATED:20210904T145427Z
LAST-MODIFIED:20210904T150401Z
UID:17483-1631073600-1631080800@www.siliconvalleyacs.org
SUMMARY:Executive Committee Meeting for Silicon Valley Section - September 2021
DESCRIPTION:
URL:https://www.siliconvalleyacs.org/event/executive-committee-meeting-for-silicon-valley-section-september-2021/
LOCATION:Virtual
CATEGORIES:Section Business
END:VEVENT
BEGIN:VEVENT
DTSTART;TZID=America/Los_Angeles:20201209T120000
DTEND;TZID=America/Los_Angeles:20201209T150000
DTSTAMP:20260423T171054
CREATED:20201114T211101Z
LAST-MODIFIED:20210327T014702Z
UID:14285-1607515200-1607526000@www.siliconvalleyacs.org
SUMMARY:ChemLuminary Awards
DESCRIPTION:The 22nd Annual ChemLuminary Awards ceremony will be held virtually and will include a keynote address by Janet L. Bryant\, recipient of the 2020 Award for Volunteer Service to the American Chemical Society\, and the presentations of awards given by 23 committees of the Society will follow. \nThe Silicon Valley Local ACS Section has been selected as a finalist for the following ChemLuminary Awards for activities held in 2019: \n\nOutstanding Local Section Career Program\nOutstanding New Local Section Younger Chemists Committee\nBest Activity or Program Highlighting ACS Change Drivers or Strategic Planning\nOutstanding Local Section Industry Event\nOutstanding Performance by a Local Section (Large Size)\nMembership Affairs Committee Industry Engagement & Outreach\nBest New Senior Chemists Activity within a Local Section\n\nAward-winning Local Sections\, Technical Divisions\, International Chapters\, and Regional Meetings will receive a $500 cash prize and a ChemLuminary award plaque that will be shipped immediately following the ceremony. \nRegistration is complimentary. Attendees will receive an access code to enter the event. \nVirtual ceremony registration
URL:https://www.siliconvalleyacs.org/event/2020-annual-chemluminary-awards-virtual-ceremony-please-join-us/
CATEGORIES:Section Business
END:VEVENT
END:VCALENDAR