BEGIN:VCALENDAR
VERSION:2.0
PRODID:-//SVACS - ECPv6.15.1.1//NONSGML v1.0//EN
CALSCALE:GREGORIAN
METHOD:PUBLISH
X-WR-CALNAME:SVACS
X-ORIGINAL-URL:https://www.siliconvalleyacs.org
X-WR-CALDESC:Events for SVACS
REFRESH-INTERVAL;VALUE=DURATION:PT1H
X-Robots-Tag:noindex
X-PUBLISHED-TTL:PT1H
BEGIN:VTIMEZONE
TZID:America/Los_Angeles
BEGIN:DAYLIGHT
TZOFFSETFROM:-0800
TZOFFSETTO:-0700
TZNAME:PDT
DTSTART:20210314T100000
END:DAYLIGHT
BEGIN:STANDARD
TZOFFSETFROM:-0700
TZOFFSETTO:-0800
TZNAME:PST
DTSTART:20211107T090000
END:STANDARD
BEGIN:DAYLIGHT
TZOFFSETFROM:-0800
TZOFFSETTO:-0700
TZNAME:PDT
DTSTART:20220313T100000
END:DAYLIGHT
BEGIN:STANDARD
TZOFFSETFROM:-0700
TZOFFSETTO:-0800
TZNAME:PST
DTSTART:20221106T090000
END:STANDARD
BEGIN:DAYLIGHT
TZOFFSETFROM:-0800
TZOFFSETTO:-0700
TZNAME:PDT
DTSTART:20230312T100000
END:DAYLIGHT
BEGIN:STANDARD
TZOFFSETFROM:-0700
TZOFFSETTO:-0800
TZNAME:PST
DTSTART:20231105T090000
END:STANDARD
BEGIN:DAYLIGHT
TZOFFSETFROM:-0800
TZOFFSETTO:-0700
TZNAME:PDT
DTSTART:20240310T100000
END:DAYLIGHT
BEGIN:STANDARD
TZOFFSETFROM:-0700
TZOFFSETTO:-0800
TZNAME:PST
DTSTART:20241103T090000
END:STANDARD
END:VTIMEZONE
BEGIN:VEVENT
DTSTART;TZID=America/Los_Angeles:20240307T190000
DTEND;TZID=America/Los_Angeles:20240307T210000
DTSTAMP:20260423T135440
CREATED:20240114T033131Z
LAST-MODIFIED:20240114T033844Z
UID:20684-1709838000-1709845200@www.siliconvalleyacs.org
SUMMARY:Silicon Valley ACS Executive Committee Meeting
DESCRIPTION:7:00-9:00 pm\, Online via Zoom\, Free. To attend as a guest\, please contact the Chair.
URL:https://www.siliconvalleyacs.org/event/silicon-valley-acs-executive-committee-meeting-7/
LOCATION:Hybrid
CATEGORIES:Section Business
ATTACH;FMTTYPE=image/jpeg:https://www.siliconvalleyacs.org/wp-content/uploads/2021/09/ExComm-Meeting-event-graphic.jpg
END:VEVENT
BEGIN:VEVENT
DTSTART;TZID=America/Los_Angeles:20240201T190000
DTEND;TZID=America/Los_Angeles:20240201T210000
DTSTAMP:20260423T135440
CREATED:20240110T065810Z
LAST-MODIFIED:20240114T032822Z
UID:20655-1706814000-1706821200@www.siliconvalleyacs.org
SUMMARY:Silicon Valley ACS Executive Committee Meeting
DESCRIPTION:7:00-9:00 pm\, Online via Zoom\, Free. To attend as a guest\, please contact the Chair
URL:https://www.siliconvalleyacs.org/event/silicon-valley-acs-executive-committee-meeting-6/
LOCATION:Hybrid
CATEGORIES:Section Business
ATTACH;FMTTYPE=image/jpeg:https://www.siliconvalleyacs.org/wp-content/uploads/2021/09/ExComm-Meeting-event-graphic.jpg
END:VEVENT
BEGIN:VEVENT
DTSTART;TZID=America/Los_Angeles:20240111T190000
DTEND;TZID=America/Los_Angeles:20240111T210000
DTSTAMP:20260423T135440
CREATED:20240110T005601Z
LAST-MODIFIED:20240110T005601Z
UID:20616-1704999600-1705006800@www.siliconvalleyacs.org
SUMMARY:Silicon Valley ACS Executive Committee Meeting
DESCRIPTION:To attend as a guest\, please contact the Chair
URL:https://www.siliconvalleyacs.org/event/silicon-valley-acs-executive-committee-meeting-5/
LOCATION:Hybrid
CATEGORIES:Section Business
ATTACH;FMTTYPE=image/jpeg:https://www.siliconvalleyacs.org/wp-content/uploads/2021/09/ExComm-Meeting-event-graphic.jpg
END:VEVENT
BEGIN:VEVENT
DTSTART;TZID=America/Los_Angeles:20231214T190000
DTEND;TZID=America/Los_Angeles:20231214T210000
DTSTAMP:20260423T135440
CREATED:20231103T212923Z
LAST-MODIFIED:20231204T185342Z
UID:20359-1702580400-1702587600@www.siliconvalleyacs.org
SUMMARY:Silicon Valley ACS Executive Committee Meeting
DESCRIPTION:7:00-9:00pm\, Online via Zoom\, Free. To attend as a guest\, please contact the Chair.
URL:https://www.siliconvalleyacs.org/event/silicon-valley-acs-executive-committee-meeting-4/
LOCATION:Hybrid
CATEGORIES:Section Business
ATTACH;FMTTYPE=image/jpeg:https://www.siliconvalleyacs.org/wp-content/uploads/2021/09/ExComm-Meeting-event-graphic.jpg
END:VEVENT
BEGIN:VEVENT
DTSTART;TZID=America/Los_Angeles:20231102T190000
DTEND;TZID=America/Los_Angeles:20231102T210000
DTSTAMP:20260423T135440
CREATED:20231103T212701Z
LAST-MODIFIED:20231103T212701Z
UID:20357-1698951600-1698958800@www.siliconvalleyacs.org
SUMMARY:Silicon Valley ACS Executive Committee Meeting
DESCRIPTION:7:00-9:00pm\, Online via Zoom\, Free. To attend as a guest\, please contact the Chair.
URL:https://www.siliconvalleyacs.org/event/silicon-valley-acs-executive-committee-meeting-3/
LOCATION:Hybrid
CATEGORIES:Section Business
ATTACH;FMTTYPE=image/jpeg:https://www.siliconvalleyacs.org/wp-content/uploads/2021/09/ExComm-Meeting-event-graphic.jpg
END:VEVENT
BEGIN:VEVENT
DTSTART;TZID=America/Los_Angeles:20231005T190000
DTEND;TZID=America/Los_Angeles:20231005T203000
DTSTAMP:20260423T135440
CREATED:20230906T074945Z
LAST-MODIFIED:20230906T074945Z
UID:20239-1696532400-1696537800@www.siliconvalleyacs.org
SUMMARY:Silicon Valley ACS Executive Committee Meeting
DESCRIPTION:7:30-9:00pm\, Online via Zoom\, Free. To attend as a guest\, please contact the Chair.
URL:https://www.siliconvalleyacs.org/event/silicon-valley-acs-executive-committee-meeting-2/
LOCATION:Virtual
CATEGORIES:Section Business
ATTACH;FMTTYPE=image/jpeg:https://www.siliconvalleyacs.org/wp-content/uploads/2021/09/ExComm-Meeting-event-graphic.jpg
END:VEVENT
BEGIN:VEVENT
DTSTART;TZID=America/Los_Angeles:20230907T190000
DTEND;TZID=America/Los_Angeles:20230907T203000
DTSTAMP:20260423T135440
CREATED:20230806T223845Z
LAST-MODIFIED:20230806T223845Z
UID:20147-1694113200-1694118600@www.siliconvalleyacs.org
SUMMARY:Silicon Valley ACS Executive Committee Meeting
DESCRIPTION:7:30-9:00pm\, Online via Zoom\, Free. To attend as a guest\, please contact the Chair.
URL:https://www.siliconvalleyacs.org/event/silicon-valley-acs-executive-committee-meeting/
LOCATION:Virtual
CATEGORIES:Section Business
ATTACH;FMTTYPE=image/jpeg:https://www.siliconvalleyacs.org/wp-content/uploads/2021/09/ExComm-Meeting-event-graphic.jpg
END:VEVENT
BEGIN:VEVENT
DTSTART;TZID=America/Los_Angeles:20230803T190000
DTEND;TZID=America/Los_Angeles:20230803T203000
DTSTAMP:20260423T135440
CREATED:20230708T023621Z
LAST-MODIFIED:20230708T023621Z
UID:19996-1691089200-1691094600@www.siliconvalleyacs.org
SUMMARY:Silicon Valley Executive Committee Meeting
DESCRIPTION:7:00-8:30pm\, Online via Zoom\, Free. To attend as a guest\, please contact the Chair.
URL:https://www.siliconvalleyacs.org/event/silicon-valley-executive-committee-meeting-8/
LOCATION:Virtual
CATEGORIES:Section Business
ATTACH;FMTTYPE=image/jpeg:https://www.siliconvalleyacs.org/wp-content/uploads/2021/09/ExComm-Meeting-event-graphic.jpg
END:VEVENT
BEGIN:VEVENT
DTSTART;TZID=America/Los_Angeles:20230706T190000
DTEND;TZID=America/Los_Angeles:20230706T210000
DTSTAMP:20260423T135440
CREATED:20230121T031924Z
LAST-MODIFIED:20230706T071728Z
UID:19586-1688670000-1688677200@www.siliconvalleyacs.org
SUMMARY:Silicon Valley Executive Committee Meeting
DESCRIPTION:7:30-9:00pm\, Online via Zoom\, Free. To attend as a guest\, please contact the Chair.
URL:https://www.siliconvalleyacs.org/event/silicon-valley-executive-committee-meeting-7/
LOCATION:Virtual
CATEGORIES:Section Business
ATTACH;FMTTYPE=image/jpeg:https://www.siliconvalleyacs.org/wp-content/uploads/2021/09/ExComm-Meeting-event-graphic.jpg
END:VEVENT
BEGIN:VEVENT
DTSTART;TZID=America/Los_Angeles:20230608T190000
DTEND;TZID=America/Los_Angeles:20230608T203000
DTSTAMP:20260423T135440
CREATED:20230121T031652Z
LAST-MODIFIED:20230508T235621Z
UID:19584-1686250800-1686256200@www.siliconvalleyacs.org
SUMMARY:Silicon Valley Executive Committee Meeting
DESCRIPTION:7:00-8:30pm\, Online via Zoom\, Free. To attend as a guest\, please contact the Chair.
URL:https://www.siliconvalleyacs.org/event/silicon-valley-executive-committee-meeting-6/
LOCATION:Virtual
CATEGORIES:Section Business
ATTACH;FMTTYPE=image/jpeg:https://www.siliconvalleyacs.org/wp-content/uploads/2021/09/ExComm-Meeting-event-graphic.jpg
END:VEVENT
BEGIN:VEVENT
DTSTART;TZID=America/Los_Angeles:20230504T193000
DTEND;TZID=America/Los_Angeles:20230504T210000
DTSTAMP:20260423T135440
CREATED:20230121T031313Z
LAST-MODIFIED:20230121T031313Z
UID:19582-1683228600-1683234000@www.siliconvalleyacs.org
SUMMARY:Silicon Valley Executive Committee Meeting
DESCRIPTION:7:30-9:00pm\, Online via Zoom\, Free. To attend as a guest\, please contact the Chair.
URL:https://www.siliconvalleyacs.org/event/silicon-valley-executive-committee-meeting-5/
LOCATION:Virtual
CATEGORIES:Section Business
ATTACH;FMTTYPE=image/jpeg:https://www.siliconvalleyacs.org/wp-content/uploads/2021/09/ExComm-Meeting-event-graphic.jpg
END:VEVENT
BEGIN:VEVENT
DTSTART;TZID=America/Los_Angeles:20230406T193000
DTEND;TZID=America/Los_Angeles:20230406T210000
DTSTAMP:20260423T135440
CREATED:20230121T031013Z
LAST-MODIFIED:20230121T031013Z
UID:19580-1680809400-1680814800@www.siliconvalleyacs.org
SUMMARY:Silicon Valley Executive Committee Meeting
DESCRIPTION:7:30-9:00pm\, Online via Zoom\, Free. To attend as a guest\, please contact the Chair.
URL:https://www.siliconvalleyacs.org/event/silicon-valley-executive-committee-meeting-4/
LOCATION:Virtual
CATEGORIES:Section Business
ATTACH;FMTTYPE=image/jpeg:https://www.siliconvalleyacs.org/wp-content/uploads/2021/09/ExComm-Meeting-event-graphic.jpg
END:VEVENT
BEGIN:VEVENT
DTSTART;TZID=America/Los_Angeles:20230302T183000
DTEND;TZID=America/Los_Angeles:20230302T200000
DTSTAMP:20260423T135440
CREATED:20230121T030624Z
LAST-MODIFIED:20230121T030624Z
UID:19578-1677781800-1677787200@www.siliconvalleyacs.org
SUMMARY:Silicon Valley Executive Committee Meeting
DESCRIPTION:7:30-9:00pm\, Online via Zoom\, Free. To attend as a guest\, please contact the Chair.
URL:https://www.siliconvalleyacs.org/event/silicon-valley-executive-committee-meeting-3/
LOCATION:Virtual
CATEGORIES:Section Business
ATTACH;FMTTYPE=image/jpeg:https://www.siliconvalleyacs.org/wp-content/uploads/2021/09/ExComm-Meeting-event-graphic.jpg
END:VEVENT
BEGIN:VEVENT
DTSTART;TZID=America/Los_Angeles:20230202T183000
DTEND;TZID=America/Los_Angeles:20230202T200000
DTSTAMP:20260423T135440
CREATED:20230121T030318Z
LAST-MODIFIED:20230121T030318Z
UID:19576-1675362600-1675368000@www.siliconvalleyacs.org
SUMMARY:Silicon Valley Executive Committee Meeting
DESCRIPTION:7:30-9:00pm\, Online via Zoom\, Free. To attend as a guest\, please contact the Chair.
URL:https://www.siliconvalleyacs.org/event/silicon-valley-executive-committee-meeting-2/
LOCATION:Virtual
CATEGORIES:Section Business
ATTACH;FMTTYPE=image/jpeg:https://www.siliconvalleyacs.org/wp-content/uploads/2021/09/ExComm-Meeting-event-graphic.jpg
END:VEVENT
BEGIN:VEVENT
DTSTART;TZID=America/Los_Angeles:20230110T183000
DTEND;TZID=America/Los_Angeles:20230110T200000
DTSTAMP:20260423T135440
CREATED:20230108T143421Z
LAST-MODIFIED:20230108T143421Z
UID:19512-1673375400-1673380800@www.siliconvalleyacs.org
SUMMARY:Silicon Valley Executive Committee Meeting
DESCRIPTION:7:30-9:00pm\, Online via Zoom\, Free\, To attend as a guest\, please contact the Chair
URL:https://www.siliconvalleyacs.org/event/silicon-valley-executive-committee-meeting/
LOCATION:Virtual
CATEGORIES:Section Business
ATTACH;FMTTYPE=image/jpeg:https://www.siliconvalleyacs.org/wp-content/uploads/2021/09/ExComm-Meeting-event-graphic.jpg
END:VEVENT
BEGIN:VEVENT
DTSTART;TZID=America/Los_Angeles:20221215T183000
DTEND;TZID=America/Los_Angeles:20221215T200000
DTSTAMP:20260423T135440
CREATED:20220117T073608Z
LAST-MODIFIED:20221209T031250Z
UID:18152-1671129000-1671134400@www.siliconvalleyacs.org
SUMMARY:Executive Committee Meeting for Silicon Valley Section - December 2022
DESCRIPTION:Please contact Chair to attend as a guest.
URL:https://www.siliconvalleyacs.org/event/executive-committee-meeting-for-silicon-valley-section-december-2022/
LOCATION:Virtual
CATEGORIES:Section Business
ATTACH;FMTTYPE=image/jpeg:https://www.siliconvalleyacs.org/wp-content/uploads/2021/09/ExComm-Meeting-event-graphic.jpg
END:VEVENT
BEGIN:VEVENT
DTSTART;TZID=America/Los_Angeles:20221102T193000
DTEND;TZID=America/Los_Angeles:20221102T210000
DTSTAMP:20260423T135440
CREATED:20220117T073447Z
LAST-MODIFIED:20221102T005537Z
UID:18150-1667417400-1667422800@www.siliconvalleyacs.org
SUMMARY:Executive Committee Meeting for Silicon Valley Section - November 2022
DESCRIPTION:Please contact Chair to attend as a guest.
URL:https://www.siliconvalleyacs.org/event/executive-committee-meeting-for-silicon-valley-section-november-2022/
LOCATION:Virtual
CATEGORIES:Section Business
ATTACH;FMTTYPE=image/jpeg:https://www.siliconvalleyacs.org/wp-content/uploads/2021/09/ExComm-Meeting-event-graphic.jpg
END:VEVENT
BEGIN:VEVENT
DTSTART;TZID=America/Los_Angeles:20221013T193000
DTEND;TZID=America/Los_Angeles:20221013T210000
DTSTAMP:20260423T135440
CREATED:20220117T073318Z
LAST-MODIFIED:20220518T164636Z
UID:18148-1665689400-1665694800@www.siliconvalleyacs.org
SUMMARY:Executive Committee Meeting for Silicon Valley Section - October 2022
DESCRIPTION:Please contact Chair to attend as a guest.
URL:https://www.siliconvalleyacs.org/event/executive-committee-meeting-for-silicon-valley-section-october-2022/
LOCATION:Virtual
CATEGORIES:Section Business
ATTACH;FMTTYPE=image/jpeg:https://www.siliconvalleyacs.org/wp-content/uploads/2021/09/ExComm-Meeting-event-graphic.jpg
END:VEVENT
BEGIN:VEVENT
DTSTART;TZID=America/Los_Angeles:20220908T193000
DTEND;TZID=America/Los_Angeles:20220908T210000
DTSTAMP:20260423T135440
CREATED:20220117T073157Z
LAST-MODIFIED:20220518T164607Z
UID:18146-1662665400-1662670800@www.siliconvalleyacs.org
SUMMARY:Executive Committee Meeting for Silicon Valley Section - September 2022
DESCRIPTION:Please contact Chair to attend as a guest.
URL:https://www.siliconvalleyacs.org/event/executive-committee-meeting-for-silicon-valley-section-september-2022/
LOCATION:Virtual
CATEGORIES:Section Business
ATTACH;FMTTYPE=image/jpeg:https://www.siliconvalleyacs.org/wp-content/uploads/2021/09/ExComm-Meeting-event-graphic.jpg
END:VEVENT
BEGIN:VEVENT
DTSTART;TZID=America/Los_Angeles:20220811T193000
DTEND;TZID=America/Los_Angeles:20220811T210000
DTSTAMP:20260423T135440
CREATED:20220117T073032Z
LAST-MODIFIED:20220518T164504Z
UID:18144-1660246200-1660251600@www.siliconvalleyacs.org
SUMMARY:Executive Committee Meeting for Silicon Valley Section - August 2022
DESCRIPTION:Please contact Chair to attend as a guest.
URL:https://www.siliconvalleyacs.org/event/executive-committee-meeting-for-silicon-valley-section-august-2022/
LOCATION:Virtual
CATEGORIES:Section Business
ATTACH;FMTTYPE=image/jpeg:https://www.siliconvalleyacs.org/wp-content/uploads/2021/09/ExComm-Meeting-event-graphic.jpg
END:VEVENT
BEGIN:VEVENT
DTSTART;TZID=America/Los_Angeles:20220615T160000
DTEND;TZID=America/Los_Angeles:20220615T173000
DTSTAMP:20260423T135440
CREATED:20220117T072810Z
LAST-MODIFIED:20220610T232128Z
UID:18142-1655308800-1655314200@www.siliconvalleyacs.org
SUMMARY:Executive Committee Meeting for Silicon Valley Section - June 2022
DESCRIPTION:Please contact Chair to attend as a guest.
URL:https://www.siliconvalleyacs.org/event/executive-committee-meeting-for-silicon-valley-section-june-2022/
LOCATION:Virtual
CATEGORIES:Section Business
ATTACH;FMTTYPE=image/jpeg:https://www.siliconvalleyacs.org/wp-content/uploads/2021/09/ExComm-Meeting-event-graphic.jpg
END:VEVENT
BEGIN:VEVENT
DTSTART;TZID=America/Los_Angeles:20220519T190000
DTEND;TZID=America/Los_Angeles:20220519T203000
DTSTAMP:20260423T135440
CREATED:20220117T072708Z
LAST-MODIFIED:20220518T164041Z
UID:18140-1652986800-1652992200@www.siliconvalleyacs.org
SUMMARY:Executive Committee Meeting for Silicon Valley Section - May 2022
DESCRIPTION:Please contact Chair to attend as a guest.
URL:https://www.siliconvalleyacs.org/event/executive-committee-meeting-for-silicon-valley-section-may-2022/
LOCATION:Virtual
CATEGORIES:Section Business
ATTACH;FMTTYPE=image/jpeg:https://www.siliconvalleyacs.org/wp-content/uploads/2021/09/ExComm-Meeting-event-graphic.jpg
END:VEVENT
BEGIN:VEVENT
DTSTART;TZID=America/Los_Angeles:20220413T043000
DTEND;TZID=America/Los_Angeles:20220413T060000
DTSTAMP:20260423T135440
CREATED:20220117T072456Z
LAST-MODIFIED:20220407T215647Z
UID:18138-1649824200-1649829600@www.siliconvalleyacs.org
SUMMARY:Executive Committee Meeting for Silicon Valley Section - April 2022
DESCRIPTION:Please contact Chair to attend as a guest.
URL:https://www.siliconvalleyacs.org/event/executive-committee-meeting-for-silicon-valley-section-april-2022/
LOCATION:Virtual
CATEGORIES:Section Business
ATTACH;FMTTYPE=image/jpeg:https://www.siliconvalleyacs.org/wp-content/uploads/2021/09/ExComm-Meeting-event-graphic.jpg
END:VEVENT
BEGIN:VEVENT
DTSTART;TZID=America/Los_Angeles:20220310T033000
DTEND;TZID=America/Los_Angeles:20220310T050000
DTSTAMP:20260423T135440
CREATED:20220117T072331Z
LAST-MODIFIED:20220117T075349Z
UID:18136-1646883000-1646888400@www.siliconvalleyacs.org
SUMMARY:Executive Committee Meeting for Silicon Valley Section - March 2022
DESCRIPTION:Please contact Chair to attend as a guest.
URL:https://www.siliconvalleyacs.org/event/executive-committee-meeting-for-silicon-valley-section-march-2022/
LOCATION:Virtual
CATEGORIES:Section Business
ATTACH;FMTTYPE=image/jpeg:https://www.siliconvalleyacs.org/wp-content/uploads/2021/09/ExComm-Meeting-event-graphic.jpg
END:VEVENT
BEGIN:VEVENT
DTSTART;TZID=America/Los_Angeles:20220220T200000
DTEND;TZID=America/Los_Angeles:20220220T200000
DTSTAMP:20260423T135440
CREATED:20220117T080330Z
LAST-MODIFIED:20220216T151408Z
UID:18157-1645387200-1645387200@www.siliconvalleyacs.org
SUMMARY:Newsletter: Submission Deadline for March 2022
DESCRIPTION:Submit articles by Monday (All Authors to Grace): 2/21/2022\nReview & revise manuscripts by Thursday at Noon (Jane & Grace): 2/24/2022\nProofread and finish publication by Saturday (Lillian\, Jane\, Grace): 2/26/2022\nPost & distribute to Members by Tuesday (Sogol\, Grace): 3/1/2022
URL:https://www.siliconvalleyacs.org/event/newsletter-submission-deadline-for-march-2022/
LOCATION:Virtual
CATEGORIES:Section Business
ATTACH;FMTTYPE=image/jpeg:https://www.siliconvalleyacs.org/wp-content/uploads/2021/09/newsletter-deadline-graphic.jpg
END:VEVENT
BEGIN:VEVENT
DTSTART;TZID=America/Los_Angeles:20220210T033000
DTEND;TZID=America/Los_Angeles:20220210T050000
DTSTAMP:20260423T135440
CREATED:20220117T072228Z
LAST-MODIFIED:20220117T075322Z
UID:18134-1644463800-1644469200@www.siliconvalleyacs.org
SUMMARY:Executive Committee Meeting for Silicon Valley Section - February 2022
DESCRIPTION:Please contact Chair to attend as a guest.
URL:https://www.siliconvalleyacs.org/event/executive-committee-meeting-for-silicon-valley-section-february-2022/
LOCATION:Virtual
CATEGORIES:Section Business
ATTACH;FMTTYPE=image/jpeg:https://www.siliconvalleyacs.org/wp-content/uploads/2021/09/ExComm-Meeting-event-graphic.jpg
END:VEVENT
BEGIN:VEVENT
DTSTART;TZID=America/Los_Angeles:20220123T200000
DTEND;TZID=America/Los_Angeles:20220123T200000
DTSTAMP:20260423T135440
CREATED:20220117T075024Z
LAST-MODIFIED:20220125T151429Z
UID:18154-1642968000-1642968000@www.siliconvalleyacs.org
SUMMARY:Newsletter: Submission Deadline for February 2022
DESCRIPTION:Submit articles by Thursday (All Authors to Grace): 1/27/2022\nReview & revise manuscripts by Sunday (Jane\, George\, Grace): 1/30/2022\nProofread and finish publication Monday-Tuesday (Lillian\, Jane\, Grace): 1/31/2022-2/1/2022\nPost & distribute to Members by Wednesday (Sogol\, Grace): 2/2/2022
URL:https://www.siliconvalleyacs.org/event/newsletter-submission-deadline-for-february-2022/
LOCATION:Virtual
CATEGORIES:Section Business
ATTACH;FMTTYPE=image/jpeg:https://www.siliconvalleyacs.org/wp-content/uploads/2021/09/newsletter-deadline-graphic.jpg
END:VEVENT
BEGIN:VEVENT
DTSTART;TZID=America/Los_Angeles:20220113T033000
DTEND;TZID=America/Los_Angeles:20220113T050000
DTSTAMP:20260423T135440
CREATED:20220111T071800Z
LAST-MODIFIED:20220117T075255Z
UID:18132-1642044600-1642050000@www.siliconvalleyacs.org
SUMMARY:Executive Committee Meeting for Silicon Valley Section - January 2022
DESCRIPTION:Please contact Chair to attend as a guest.
URL:https://www.siliconvalleyacs.org/event/executive-committee-meeting-for-silicon-valley-section-january-2022/
LOCATION:Virtual
CATEGORIES:Section Business
ATTACH;FMTTYPE=image/jpeg:https://www.siliconvalleyacs.org/wp-content/uploads/2021/09/ExComm-Meeting-event-graphic.jpg
END:VEVENT
BEGIN:VEVENT
DTSTART;TZID=America/Los_Angeles:20211215T030000
DTEND;TZID=America/Los_Angeles:20211215T050000
DTSTAMP:20260423T135440
CREATED:20210904T150002Z
LAST-MODIFIED:20211203T180233Z
UID:17489-1639537200-1639544400@www.siliconvalleyacs.org
SUMMARY:Executive Committee Meeting for Silicon Valley Section - December 2021
DESCRIPTION:Please contact Chair to attend as a guest.
URL:https://www.siliconvalleyacs.org/event/executive-committee-meeting-for-silicon-valley-section-december-2021/
LOCATION:Virtual
CATEGORIES:Section Business
ATTACH;FMTTYPE=image/jpeg:https://www.siliconvalleyacs.org/wp-content/uploads/2021/09/ExComm-Meeting-event-graphic.jpg
END:VEVENT
BEGIN:VEVENT
DTSTART;TZID=America/Los_Angeles:20211212T200000
DTEND;TZID=America/Los_Angeles:20211212T200000
DTSTAMP:20260423T135440
CREATED:20210909T141514Z
LAST-MODIFIED:20211203T180152Z
UID:17552-1639339200-1639339200@www.siliconvalleyacs.org
SUMMARY:Newsletter: Submission Deadline for January 2022
DESCRIPTION:Submit articles by Monday at Noon (All Authors to Grace): 12/13/2021\nReview & revise manuscripts by Thursday at Noon (Jane\, George\, Grace): 12/16/2021\nProofread and finish publication by Saturday at Noon (Lillian\, Jane\, Grace): 12/18/2021\nPost & distribute to Members by Monday at Noon (Sogol\, Grace): 12/20/2021
URL:https://www.siliconvalleyacs.org/event/newsletter-submission-deadline-for-january-2022/
LOCATION:Virtual
CATEGORIES:Section Business
ATTACH;FMTTYPE=image/jpeg:https://www.siliconvalleyacs.org/wp-content/uploads/2021/09/newsletter-deadline-graphic.jpg
END:VEVENT
END:VCALENDAR