BEGIN:VCALENDAR
VERSION:2.0
PRODID:-//SVACS - ECPv6.15.1.1//NONSGML v1.0//EN
CALSCALE:GREGORIAN
METHOD:PUBLISH
X-WR-CALNAME:SVACS
X-ORIGINAL-URL:https://www.siliconvalleyacs.org
X-WR-CALDESC:Events for SVACS
REFRESH-INTERVAL;VALUE=DURATION:PT1H
X-Robots-Tag:noindex
X-PUBLISHED-TTL:PT1H
BEGIN:VTIMEZONE
TZID:America/Los_Angeles
BEGIN:DAYLIGHT
TZOFFSETFROM:-0800
TZOFFSETTO:-0700
TZNAME:PDT
DTSTART:20240310T100000
END:DAYLIGHT
BEGIN:STANDARD
TZOFFSETFROM:-0700
TZOFFSETTO:-0800
TZNAME:PST
DTSTART:20241103T090000
END:STANDARD
BEGIN:DAYLIGHT
TZOFFSETFROM:-0800
TZOFFSETTO:-0700
TZNAME:PDT
DTSTART:20250309T100000
END:DAYLIGHT
BEGIN:STANDARD
TZOFFSETFROM:-0700
TZOFFSETTO:-0800
TZNAME:PST
DTSTART:20251102T090000
END:STANDARD
BEGIN:DAYLIGHT
TZOFFSETFROM:-0800
TZOFFSETTO:-0700
TZNAME:PDT
DTSTART:20260308T100000
END:DAYLIGHT
BEGIN:STANDARD
TZOFFSETFROM:-0700
TZOFFSETTO:-0800
TZNAME:PST
DTSTART:20261101T090000
END:STANDARD
END:VTIMEZONE
BEGIN:VEVENT
DTSTART;TZID=America/Los_Angeles:20240606T190000
DTEND;TZID=America/Los_Angeles:20240606T210000
DTSTAMP:20260425T200035
CREATED:20240114T033806Z
LAST-MODIFIED:20240114T033806Z
UID:20690-1717700400-1717707600@www.siliconvalleyacs.org
SUMMARY:Silicon Valley ACS Executive Committee Meeting
DESCRIPTION:7:00-9:00 pm\, Online via Zoom\, Free. To attend as a guest\, please contact the Chair.
URL:https://www.siliconvalleyacs.org/event/silicon-valley-acs-executive-committee-meeting-10/
LOCATION:Hybrid
CATEGORIES:Section Business
ATTACH;FMTTYPE=image/jpeg:https://www.siliconvalleyacs.org/wp-content/uploads/2021/09/ExComm-Meeting-event-graphic.jpg
END:VEVENT
BEGIN:VEVENT
DTSTART;TZID=America/Los_Angeles:20240711T190000
DTEND;TZID=America/Los_Angeles:20240711T210000
DTSTAMP:20260425T200035
CREATED:20240114T034159Z
LAST-MODIFIED:20240114T034159Z
UID:20695-1720724400-1720731600@www.siliconvalleyacs.org
SUMMARY:Silicon Valley ACS Executive Committee Meeting
DESCRIPTION:7:00-9:00 pm\, Online via Zoom\, Free. To attend as a guest\, please contact the Chair.
URL:https://www.siliconvalleyacs.org/event/silicon-valley-acs-executive-committee-meeting-11/
LOCATION:Hybrid
CATEGORIES:Section Business
ATTACH;FMTTYPE=image/jpeg:https://www.siliconvalleyacs.org/wp-content/uploads/2021/09/ExComm-Meeting-event-graphic.jpg
END:VEVENT
BEGIN:VEVENT
DTSTART;TZID=America/Los_Angeles:20240801T190000
DTEND;TZID=America/Los_Angeles:20240801T210000
DTSTAMP:20260425T200035
CREATED:20240114T034348Z
LAST-MODIFIED:20240114T034348Z
UID:20697-1722538800-1722546000@www.siliconvalleyacs.org
SUMMARY:Silicon Valley ACS Executive Committee Meeting
DESCRIPTION:7:00-9:00 pm\, Online via Zoom\, Free. To attend as a guest\, please contact the Chair.
URL:https://www.siliconvalleyacs.org/event/silicon-valley-acs-executive-committee-meeting-12/
LOCATION:Hybrid
CATEGORIES:Section Business
ATTACH;FMTTYPE=image/jpeg:https://www.siliconvalleyacs.org/wp-content/uploads/2021/09/ExComm-Meeting-event-graphic.jpg
END:VEVENT
BEGIN:VEVENT
DTSTART;TZID=America/Los_Angeles:20240905T190000
DTEND;TZID=America/Los_Angeles:20240905T210000
DTSTAMP:20260425T200035
CREATED:20240114T034558Z
LAST-MODIFIED:20240114T034713Z
UID:20699-1725562800-1725570000@www.siliconvalleyacs.org
SUMMARY:Silicon Valley ACS Executive Committee Meeting
DESCRIPTION:7:00-9:00 pm\, Online via Zoom\, Free. To attend as a guest\, please contact the Chair.
URL:https://www.siliconvalleyacs.org/event/silicon-valley-acs-executive-committee-meeting-13/
LOCATION:Hybrid
CATEGORIES:Section Business
ATTACH;FMTTYPE=image/jpeg:https://www.siliconvalleyacs.org/wp-content/uploads/2021/09/ExComm-Meeting-event-graphic.jpg
END:VEVENT
BEGIN:VEVENT
DTSTART;TZID=America/Los_Angeles:20241003T190000
DTEND;TZID=America/Los_Angeles:20241003T210000
DTSTAMP:20260425T200035
CREATED:20240114T034859Z
LAST-MODIFIED:20240114T034859Z
UID:20701-1727982000-1727989200@www.siliconvalleyacs.org
SUMMARY:Silicon Valley ACS Executive Committee Meeting
DESCRIPTION:7:00-9:00 pm\, Online via Zoom\, Free. To attend as a guest\, please contact the Chair.
URL:https://www.siliconvalleyacs.org/event/silicon-valley-acs-executive-committee-meeting-14/
LOCATION:Hybrid
CATEGORIES:Section Business
ATTACH;FMTTYPE=image/jpeg:https://www.siliconvalleyacs.org/wp-content/uploads/2021/09/ExComm-Meeting-event-graphic.jpg
END:VEVENT
BEGIN:VEVENT
DTSTART;TZID=America/Los_Angeles:20241106T183000
DTEND;TZID=America/Los_Angeles:20241106T203000
DTSTAMP:20260425T200035
CREATED:20240114T035115Z
LAST-MODIFIED:20241004T205956Z
UID:20703-1730917800-1730925000@www.siliconvalleyacs.org
SUMMARY:Silicon Valley ACS Executive Committee Meeting
DESCRIPTION:6:30-8:30 pm\, Hybrid Meeting (in person and online via Zoom)\, Free. To attend as a guest\, please contact the Chair.
URL:https://www.siliconvalleyacs.org/event/silicon-valley-acs-executive-committee-meeting-15/
LOCATION:Hybrid
CATEGORIES:Section Business
ATTACH;FMTTYPE=image/jpeg:https://www.siliconvalleyacs.org/wp-content/uploads/2021/09/ExComm-Meeting-event-graphic.jpg
END:VEVENT
BEGIN:VEVENT
DTSTART;TZID=America/Los_Angeles:20241204T183000
DTEND;TZID=America/Los_Angeles:20241204T203000
DTSTAMP:20260425T200035
CREATED:20240114T035303Z
LAST-MODIFIED:20241107T034626Z
UID:20705-1733337000-1733344200@www.siliconvalleyacs.org
SUMMARY:Silicon Valley ACS Executive Committee Meeting
DESCRIPTION:6:30-8:30 pm\, Online via Zoom\, Free. To attend as a guest\, please contact the Chair.
URL:https://www.siliconvalleyacs.org/event/silicon-valley-acs-executive-committee-meeting-16/
LOCATION:Hybrid
CATEGORIES:Section Business
ATTACH;FMTTYPE=image/jpeg:https://www.siliconvalleyacs.org/wp-content/uploads/2021/09/ExComm-Meeting-event-graphic.jpg
END:VEVENT
BEGIN:VEVENT
DTSTART;TZID=America/Los_Angeles:20250203T193000
DTEND;TZID=America/Los_Angeles:20250203T210000
DTSTAMP:20260425T200035
CREATED:20250112T181950Z
LAST-MODIFIED:20250112T181950Z
UID:21529-1738611000-1738616400@www.siliconvalleyacs.org
SUMMARY:Silicon Valley ACS Executive Committee Meeting
DESCRIPTION:7:30-9:00 pm\, Online via Zoom\, Free. To attend as a guest\, please contact the Chair.
URL:https://www.siliconvalleyacs.org/event/silicon-valley-acs-executive-committee-meeting-17/
LOCATION:Hybrid
CATEGORIES:Section Business,Tour
ATTACH;FMTTYPE=image/jpeg:https://www.siliconvalleyacs.org/wp-content/uploads/2021/09/ExComm-Meeting-event-graphic.jpg
END:VEVENT
BEGIN:VEVENT
DTSTART;TZID=America/Los_Angeles:20250303T193000
DTEND;TZID=America/Los_Angeles:20250303T210000
DTSTAMP:20260425T200035
CREATED:20250131T222224Z
LAST-MODIFIED:20250131T222308Z
UID:21655-1741030200-1741035600@www.siliconvalleyacs.org
SUMMARY:Silicon Valley ACS Executive Committee Meeting
DESCRIPTION:7:30-9:00 pm\, Online via Zoom\, Free. To attend as a guest\, please contact the Chair.
URL:https://www.siliconvalleyacs.org/event/silicon-valley-acs-executive-committee-meeting-18/
LOCATION:Hybrid
CATEGORIES:Section Business,Tour
ATTACH;FMTTYPE=image/jpeg:https://www.siliconvalleyacs.org/wp-content/uploads/2021/09/ExComm-Meeting-event-graphic.jpg
END:VEVENT
BEGIN:VEVENT
DTSTART;TZID=America/Los_Angeles:20250407T190000
DTEND;TZID=America/Los_Angeles:20250407T203000
DTSTAMP:20260425T200035
CREATED:20250408T005823Z
LAST-MODIFIED:20250408T005823Z
UID:21689-1744052400-1744057800@www.siliconvalleyacs.org
SUMMARY:Silicon Valley ACS Executive Committee Meeting
DESCRIPTION:Sponsored by the Silicon Valley ACS local section \n7:00-8:30 pm\, Hybrid Event\, Free\, Guests welcome: contact Chair to attend
URL:https://www.siliconvalleyacs.org/event/silicon-valley-acs-executive-committee-meeting-19/
LOCATION:Hybrid
CATEGORIES:Section Business
ATTACH;FMTTYPE=image/jpeg:https://www.siliconvalleyacs.org/wp-content/uploads/2021/09/ExComm-Meeting-event-graphic.jpg
END:VEVENT
BEGIN:VEVENT
DTSTART;TZID=America/Los_Angeles:20250505T190000
DTEND;TZID=America/Los_Angeles:20250505T203000
DTSTAMP:20260425T200035
CREATED:20250408T012244Z
LAST-MODIFIED:20250408T012244Z
UID:21702-1746471600-1746477000@www.siliconvalleyacs.org
SUMMARY:Silicon Valley ACS Executive Committee Meeting
DESCRIPTION:Sponsored by the Silicon Valley ACS local section \n7:00-8:30 pm\, Hybrid Event\, Free\, Guests welcome: contact Chair to attend
URL:https://www.siliconvalleyacs.org/event/silicon-valley-acs-executive-committee-meeting-20/
LOCATION:Hybrid
CATEGORIES:Section Business
ATTACH;FMTTYPE=image/jpeg:https://www.siliconvalleyacs.org/wp-content/uploads/2021/09/ExComm-Meeting-event-graphic.jpg
END:VEVENT
BEGIN:VEVENT
DTSTART;TZID=America/Los_Angeles:20250602T190000
DTEND;TZID=America/Los_Angeles:20250602T203000
DTSTAMP:20260425T200035
CREATED:20250528T191210Z
LAST-MODIFIED:20250528T191210Z
UID:21794-1748890800-1748896200@www.siliconvalleyacs.org
SUMMARY:Silicon Valley ACS Executive Committee Meeting
DESCRIPTION:Sponsored by the Silicon Valley ACS local section \n7:00-8:30 pm\, Hybrid Event\, Free\, Guests welcome: contact Chair to attend
URL:https://www.siliconvalleyacs.org/event/silicon-valley-acs-executive-committee-meeting-21/
LOCATION:Hybrid
CATEGORIES:Section Business
ATTACH;FMTTYPE=image/jpeg:https://www.siliconvalleyacs.org/wp-content/uploads/2021/09/ExComm-Meeting-event-graphic.jpg
END:VEVENT
BEGIN:VEVENT
DTSTART;TZID=America/Los_Angeles:20250707T190000
DTEND;TZID=America/Los_Angeles:20250707T203000
DTSTAMP:20260425T200035
CREATED:20250529T004625Z
LAST-MODIFIED:20250529T004625Z
UID:21796-1751914800-1751920200@www.siliconvalleyacs.org
SUMMARY:Silicon Valley ACS Executive Committee Meeting
DESCRIPTION:Sponsored by the Silicon Valley ACS local section \n7:00-8:30 pm\, Hybrid Event\, Free\, Guests welcome: contact Chair to attend \n 
URL:https://www.siliconvalleyacs.org/event/silicon-valley-acs-executive-committee-meeting-22/
LOCATION:Hybrid
CATEGORIES:Section Business
ATTACH;FMTTYPE=image/jpeg:https://www.siliconvalleyacs.org/wp-content/uploads/2021/09/ExComm-Meeting-event-graphic.jpg
END:VEVENT
BEGIN:VEVENT
DTSTART;TZID=America/Los_Angeles:20250804T190000
DTEND;TZID=America/Los_Angeles:20250804T203000
DTSTAMP:20260425T200035
CREATED:20250529T004850Z
LAST-MODIFIED:20250529T004850Z
UID:21798-1754334000-1754339400@www.siliconvalleyacs.org
SUMMARY:Silicon Valley ACS Executive Committee Meeting
DESCRIPTION:Sponsored by the Silicon Valley ACS local section \n7:00-8:30 pm\, Hybrid Event\, Free\, Guests welcome: contact Chair to attend
URL:https://www.siliconvalleyacs.org/event/silicon-valley-acs-executive-committee-meeting-23/
LOCATION:Hybrid
CATEGORIES:Section Business
ATTACH;FMTTYPE=image/jpeg:https://www.siliconvalleyacs.org/wp-content/uploads/2021/09/ExComm-Meeting-event-graphic.jpg
END:VEVENT
BEGIN:VEVENT
DTSTART;TZID=America/Los_Angeles:20250908T190000
DTEND;TZID=America/Los_Angeles:20250908T203000
DTSTAMP:20260425T200035
CREATED:20250529T005041Z
LAST-MODIFIED:20250805T032225Z
UID:21800-1757358000-1757363400@www.siliconvalleyacs.org
SUMMARY:Silicon Valley ACS Executive Committee Meeting
DESCRIPTION:Sponsored by the Silicon Valley ACS local section \n7:00-8:30 pm\, Hybrid Event\, Free\, Guests welcome: contact Chair to attend
URL:https://www.siliconvalleyacs.org/event/silicon-valley-acs-executive-committee-meeting-24/
LOCATION:Hybrid
CATEGORIES:Section Business
ATTACH;FMTTYPE=image/jpeg:https://www.siliconvalleyacs.org/wp-content/uploads/2021/09/ExComm-Meeting-event-graphic.jpg
END:VEVENT
BEGIN:VEVENT
DTSTART;TZID=America/Los_Angeles:20251006T190000
DTEND;TZID=America/Los_Angeles:20251006T203000
DTSTAMP:20260425T200035
CREATED:20250529T005228Z
LAST-MODIFIED:20250529T005228Z
UID:21802-1759777200-1759782600@www.siliconvalleyacs.org
SUMMARY:Silicon Valley ACS Executive Committee Meeting
DESCRIPTION:Sponsored by the Silicon Valley ACS local section \n7:00-8:30 pm\, Hybrid Event\, Free\, Guests welcome: contact Chair to attend
URL:https://www.siliconvalleyacs.org/event/silicon-valley-acs-executive-committee-meeting-25/
LOCATION:Hybrid
CATEGORIES:Section Business
ATTACH;FMTTYPE=image/jpeg:https://www.siliconvalleyacs.org/wp-content/uploads/2021/09/ExComm-Meeting-event-graphic.jpg
END:VEVENT
BEGIN:VEVENT
DTSTART;TZID=America/Los_Angeles:20251103T190000
DTEND;TZID=America/Los_Angeles:20251103T203000
DTSTAMP:20260425T200035
CREATED:20250529T005423Z
LAST-MODIFIED:20250529T005423Z
UID:21804-1762196400-1762201800@www.siliconvalleyacs.org
SUMMARY:Silicon Valley ACS Executive Committee Meeting
DESCRIPTION:Sponsored by the Silicon Valley ACS local section \n7:00-8:30 pm\, Hybrid Event\, Free\, Guests welcome: contact Chair to attend
URL:https://www.siliconvalleyacs.org/event/silicon-valley-acs-executive-committee-meeting-26/
LOCATION:Hybrid
CATEGORIES:Section Business
ATTACH;FMTTYPE=image/jpeg:https://www.siliconvalleyacs.org/wp-content/uploads/2021/09/ExComm-Meeting-event-graphic.jpg
END:VEVENT
BEGIN:VEVENT
DTSTART;TZID=America/Los_Angeles:20251201T190000
DTEND;TZID=America/Los_Angeles:20251201T203000
DTSTAMP:20260425T200035
CREATED:20250529T005611Z
LAST-MODIFIED:20250529T005611Z
UID:21806-1764615600-1764621000@www.siliconvalleyacs.org
SUMMARY:Silicon Valley ACS Executive Committee Meeting
DESCRIPTION:Sponsored by the Silicon Valley ACS local section \n7:00-8:30 pm\, Hybrid Event\, Free\, Guests welcome: contact Chair to attend
URL:https://www.siliconvalleyacs.org/event/silicon-valley-acs-executive-committee-meeting-27/
LOCATION:Hybrid
CATEGORIES:Section Business
ATTACH;FMTTYPE=image/jpeg:https://www.siliconvalleyacs.org/wp-content/uploads/2021/09/ExComm-Meeting-event-graphic.jpg
END:VEVENT
BEGIN:VEVENT
DTSTART;TZID=America/Los_Angeles:20260105T190000
DTEND;TZID=America/Los_Angeles:20260105T203000
DTSTAMP:20260425T200035
CREATED:20251205T200334Z
LAST-MODIFIED:20251205T200334Z
UID:22238-1767639600-1767645000@www.siliconvalleyacs.org
SUMMARY:Silicon Valley ACS Executive Committee Meeting
DESCRIPTION:Sponsored by the Silicon Valley ACS local section \n7:00-8:30 pm\, Hybrid Event\, Free\, Guests welcome: contact Chair to attend
URL:https://www.siliconvalleyacs.org/event/silicon-valley-acs-executive-committee-meeting-31/
LOCATION:Hybrid
CATEGORIES:Section Business
ATTACH;FMTTYPE=image/jpeg:https://www.siliconvalleyacs.org/wp-content/uploads/2021/09/ExComm-Meeting-event-graphic.jpg
END:VEVENT
BEGIN:VEVENT
DTSTART;TZID=America/Los_Angeles:20260202T190000
DTEND;TZID=America/Los_Angeles:20260202T200000
DTSTAMP:20260425T200035
CREATED:20260107T201451Z
LAST-MODIFIED:20260107T201451Z
UID:22311-1770058800-1770062400@www.siliconvalleyacs.org
SUMMARY:Silicon Valley ACS Executive Committee Meeting
DESCRIPTION:Sponsored by the Silicon Valley ACS local section \n7:00-8:30 pm\, Hybrid Event\, Free\, Guests welcome: contact Chair to attend
URL:https://www.siliconvalleyacs.org/event/silicon-valley-acs-executive-committee-meeting-32/
LOCATION:Hybrid
CATEGORIES:Section Business
ATTACH;FMTTYPE=image/jpeg:https://www.siliconvalleyacs.org/wp-content/uploads/2021/09/ExComm-Meeting-event-graphic.jpg
END:VEVENT
BEGIN:VEVENT
DTSTART;TZID=America/Los_Angeles:20260309T190000
DTEND;TZID=America/Los_Angeles:20260309T203000
DTSTAMP:20260425T200035
CREATED:20260107T201645Z
LAST-MODIFIED:20260217T210803Z
UID:22313-1773082800-1773088200@www.siliconvalleyacs.org
SUMMARY:Silicon Valley ACS Executive Committee Meeting
DESCRIPTION:Sponsored by the Silicon Valley ACS local section \n7:00-8:30 pm\, Hybrid Event\, Free\, Guests welcome: contact Chair to attend
URL:https://www.siliconvalleyacs.org/event/silicon-valley-acs-executive-committee-meeting-33/
LOCATION:Hybrid
CATEGORIES:Section Business
ATTACH;FMTTYPE=image/jpeg:https://www.siliconvalleyacs.org/wp-content/uploads/2021/09/ExComm-Meeting-event-graphic.jpg
END:VEVENT
BEGIN:VEVENT
DTSTART;TZID=America/Los_Angeles:20260330T190000
DTEND;TZID=America/Los_Angeles:20260330T203000
DTSTAMP:20260425T200035
CREATED:20260107T202034Z
LAST-MODIFIED:20260320T155037Z
UID:22315-1774897200-1774902600@www.siliconvalleyacs.org
SUMMARY:Silicon Valley ACS Executive Committee Meeting
DESCRIPTION:Sponsored by the Silicon Valley ACS local section \n7:00-8:30 pm\, Online Event\, Free\, Guests welcome: contact Chair to attend
URL:https://www.siliconvalleyacs.org/event/silicon-valley-acs-executive-committee-meeting-34/
LOCATION:Hybrid
CATEGORIES:Section Business
ATTACH;FMTTYPE=image/jpeg:https://www.siliconvalleyacs.org/wp-content/uploads/2021/09/ExComm-Meeting-event-graphic.jpg
END:VEVENT
BEGIN:VEVENT
DTSTART;TZID=America/Los_Angeles:20260427T190000
DTEND;TZID=America/Los_Angeles:20260427T203000
DTSTAMP:20260425T200035
CREATED:20260107T202222Z
LAST-MODIFIED:20260331T031413Z
UID:22317-1777316400-1777321800@www.siliconvalleyacs.org
SUMMARY:Silicon Valley ACS Executive Committee Meeting
DESCRIPTION:Sponsored by the Silicon Valley ACS local section \n7:00-8:30 pm\, Hybrid Event\, Free\, Guests welcome: contact Chair to attend
URL:https://www.siliconvalleyacs.org/event/silicon-valley-acs-executive-committee-meeting-35/
LOCATION:Hybrid
CATEGORIES:Section Business
ATTACH;FMTTYPE=image/jpeg:https://www.siliconvalleyacs.org/wp-content/uploads/2021/09/ExComm-Meeting-event-graphic.jpg
END:VEVENT
BEGIN:VEVENT
DTSTART;TZID=America/Los_Angeles:20260601T190000
DTEND;TZID=America/Los_Angeles:20260601T200000
DTSTAMP:20260425T200035
CREATED:20260107T202410Z
LAST-MODIFIED:20260107T202410Z
UID:22319-1780340400-1780344000@www.siliconvalleyacs.org
SUMMARY:Silicon Valley ACS Executive Committee Meeting
DESCRIPTION:Sponsored by the Silicon Valley ACS local section \n7:00-8:30 pm\, Hybrid Event\, Free\, Guests welcome: contact Chair to attend
URL:https://www.siliconvalleyacs.org/event/silicon-valley-acs-executive-committee-meeting-36/
LOCATION:Hybrid
CATEGORIES:Section Business
ATTACH;FMTTYPE=image/jpeg:https://www.siliconvalleyacs.org/wp-content/uploads/2021/09/ExComm-Meeting-event-graphic.jpg
END:VEVENT
END:VCALENDAR