BEGIN:VCALENDAR
VERSION:2.0
PRODID:-//SVACS - ECPv6.15.1.1//NONSGML v1.0//EN
CALSCALE:GREGORIAN
METHOD:PUBLISH
X-WR-CALNAME:SVACS
X-ORIGINAL-URL:https://www.siliconvalleyacs.org
X-WR-CALDESC:Events for SVACS
REFRESH-INTERVAL;VALUE=DURATION:PT1H
X-Robots-Tag:noindex
X-PUBLISHED-TTL:PT1H
BEGIN:VTIMEZONE
TZID:America/Los_Angeles
BEGIN:DAYLIGHT
TZOFFSETFROM:-0800
TZOFFSETTO:-0700
TZNAME:PDT
DTSTART:20210314T100000
END:DAYLIGHT
BEGIN:STANDARD
TZOFFSETFROM:-0700
TZOFFSETTO:-0800
TZNAME:PST
DTSTART:20211107T090000
END:STANDARD
BEGIN:DAYLIGHT
TZOFFSETFROM:-0800
TZOFFSETTO:-0700
TZNAME:PDT
DTSTART:20220313T100000
END:DAYLIGHT
BEGIN:STANDARD
TZOFFSETFROM:-0700
TZOFFSETTO:-0800
TZNAME:PST
DTSTART:20221106T090000
END:STANDARD
BEGIN:DAYLIGHT
TZOFFSETFROM:-0800
TZOFFSETTO:-0700
TZNAME:PDT
DTSTART:20230312T100000
END:DAYLIGHT
BEGIN:STANDARD
TZOFFSETFROM:-0700
TZOFFSETTO:-0800
TZNAME:PST
DTSTART:20231105T090000
END:STANDARD
BEGIN:DAYLIGHT
TZOFFSETFROM:-0800
TZOFFSETTO:-0700
TZNAME:PDT
DTSTART:20240310T100000
END:DAYLIGHT
BEGIN:STANDARD
TZOFFSETFROM:-0700
TZOFFSETTO:-0800
TZNAME:PST
DTSTART:20241103T090000
END:STANDARD
BEGIN:DAYLIGHT
TZOFFSETFROM:-0800
TZOFFSETTO:-0700
TZNAME:PDT
DTSTART:20250309T100000
END:DAYLIGHT
BEGIN:STANDARD
TZOFFSETFROM:-0700
TZOFFSETTO:-0800
TZNAME:PST
DTSTART:20251102T090000
END:STANDARD
END:VTIMEZONE
BEGIN:VEVENT
DTSTART;VALUE=DATE:20251025
DTEND;VALUE=DATE:20251029
DTSTAMP:20260424T001349
CREATED:20250919T122947Z
LAST-MODIFIED:20250919T122947Z
UID:22075-1761350400-1761695999@www.siliconvalleyacs.org
SUMMARY:ACS Western Regional Meeting 2026
DESCRIPTION:Sponsored by Silicon Valley ACS and California ACS Sections \nIn-person at Signia by Hilton San Jose\, 170 S Market St\, San Jose. Early Bird Registration ends September 25\, 2025.  Learn more
URL:https://www.siliconvalleyacs.org/event/acs-western-regional-meeting-2026/
LOCATION:In-person
CATEGORIES:Regional Meeting
END:VEVENT
BEGIN:VEVENT
DTSTART;VALUE=DATE:20221019
DTEND;VALUE=DATE:20221023
DTSTAMP:20260424T001349
CREATED:20220504T234151Z
LAST-MODIFIED:20220518T164706Z
UID:18776-1666137600-1666483199@www.siliconvalleyacs.org
SUMMARY:ACS Western Regional Meeting 2022: Empower the Chemist for a Better Tomorrow
DESCRIPTION:Sponsored by the ACS Southern Nevada Local Section\nLocation: Flamingo Hotel & Convention Center\, Las Vegas\, Nevada\nLearn more\n\nThe 2022 Western Regional Meeting of the American Chemical Society will be held in Las Vegas\, Nevada\, at the Flamingo Hotel & Casino Convention Center from October 19 through October 22\, 2022. This four-day event hosted by the ACS-Southern Nevada local section (ACS-SNS) will highlight achievements\, peak challenges\, and opportunities in the ACS western region and beyond.
URL:https://www.siliconvalleyacs.org/event/acs-western-regional-meeting-2022-empower-the-chemist-for-a-better-tomorrow/
CATEGORIES:Regional Meeting
ATTACH;FMTTYPE=image/jpeg:https://www.siliconvalleyacs.org/wp-content/uploads/2022/05/Western-Regional-Meeting-2022.jpg
END:VEVENT
BEGIN:VEVENT
DTSTART;VALUE=DATE:20211019
DTEND;VALUE=DATE:20211024
DTSTAMP:20260424T001349
CREATED:20210909T131843Z
LAST-MODIFIED:20210909T131843Z
UID:17529-1634634000-1634979599@www.siliconvalleyacs.org
SUMMARY:Rocky Mountain Regional Meeting (RMRM)
DESCRIPTION:Sponsored by the ACS Southern Arizona Section\nLive\, in-person event in Tuscon\, Arizona\, with virtual attendance and presentation options\, Learn more and register\n\nACS Regional Meetings are organized by ACS Local Sections and reflect the diverse professional interests in their geographic regions. These meetings feature excellent technical programs on a variety of topics\, poster sessions\, expositions\, and social events.
URL:https://www.siliconvalleyacs.org/event/rocky-mountain-regional-meeting-rmrm/
LOCATION:Hybrid event – Michael’s at Shoreline\, 2960 N. Shoreline Blvd.\, Mountain View\, CA\, 94043\, United States
CATEGORIES:Regional Meeting
ATTACH;FMTTYPE=image/jpeg:https://www.siliconvalleyacs.org/wp-content/uploads/2021/09/RMRM-Rocky-Mountain-Regional-Meeting.jpg
END:VEVENT
END:VCALENDAR