BEGIN:VCALENDAR
VERSION:2.0
PRODID:-//SVACS - ECPv6.15.1.1//NONSGML v1.0//EN
CALSCALE:GREGORIAN
METHOD:PUBLISH
X-WR-CALNAME:SVACS
X-ORIGINAL-URL:https://www.siliconvalleyacs.org
X-WR-CALDESC:Events for SVACS
REFRESH-INTERVAL;VALUE=DURATION:PT1H
X-Robots-Tag:noindex
X-PUBLISHED-TTL:PT1H
BEGIN:VTIMEZONE
TZID:America/Los_Angeles
BEGIN:DAYLIGHT
TZOFFSETFROM:-0800
TZOFFSETTO:-0700
TZNAME:PDT
DTSTART:20260308T100000
END:DAYLIGHT
BEGIN:STANDARD
TZOFFSETFROM:-0700
TZOFFSETTO:-0800
TZNAME:PST
DTSTART:20261101T090000
END:STANDARD
END:VTIMEZONE
BEGIN:VEVENT
DTSTART;TZID=America/Los_Angeles:20260425T110000
DTEND;TZID=America/Los_Angeles:20260425T140000
DTSTAMP:20260423T103110
CREATED:20260411T234329Z
LAST-MODIFIED:20260411T234418Z
UID:22635-1777114800-1777125600@www.siliconvalleyacs.org
SUMMARY:Chemists Celebrate Earth Week 2026
DESCRIPTION:Sponsored by Silicon Valley ACS and San Jose Public Library\nApril 25th\, 11:00 am-2:00 pm\, Free\, In-person\, Martin Luther King Jr. Library\, Children’s Room\, 150 E. San Fernando\, San Jose\nLearn more\nDownload Flyer (PDF)\n\nA FREE\, interactive experience for kids of all ages and their families featuring: \n· Hands-on chemistry activities for kids exploring the chemistry of plants\, and spices. You will be able to check the purity of maple syrup\, figure out what chemical makes spices smell\, make a dye out of insects\, and many more experiments.* \n\nFree copy of “Celebrating Chemistry” the ACS publication for kids.\n\n\nPRIZES for every child who participates!\n\n*While supplies last \nNo registration required. \nADA Accommodation Requests
URL:https://www.siliconvalleyacs.org/event/chemists-celebrate-earth-week-2026/
LOCATION:In-person
CATEGORIES:Outreach
ATTACH;FMTTYPE=image/png:https://www.siliconvalleyacs.org/wp-content/uploads/2026/04/ccew-2026-social-facebook-1200x600-1.png
END:VEVENT
END:VCALENDAR