BEGIN:VCALENDAR
VERSION:2.0
PRODID:-//SVACS - ECPv6.15.1.1//NONSGML v1.0//EN
CALSCALE:GREGORIAN
METHOD:PUBLISH
X-ORIGINAL-URL:https://www.siliconvalleyacs.org
X-WR-CALDESC:Events for SVACS
REFRESH-INTERVAL;VALUE=DURATION:PT1H
X-Robots-Tag:noindex
X-PUBLISHED-TTL:PT1H
BEGIN:VTIMEZONE
TZID:America/Los_Angeles
BEGIN:DAYLIGHT
TZOFFSETFROM:-0800
TZOFFSETTO:-0700
TZNAME:PDT
DTSTART:20240310T100000
END:DAYLIGHT
BEGIN:STANDARD
TZOFFSETFROM:-0700
TZOFFSETTO:-0800
TZNAME:PST
DTSTART:20241103T090000
END:STANDARD
END:VTIMEZONE
BEGIN:VEVENT
DTSTART;TZID=America/Los_Angeles:20241214T140000
DTEND;TZID=America/Los_Angeles:20241214T150000
DTSTAMP:20260424T051006
CREATED:20241207T212314Z
LAST-MODIFIED:20241207T212344Z
UID:21461-1734184800-1734188400@www.siliconvalleyacs.org
SUMMARY:Kid Makers: Pop Up Chemistry
DESCRIPTION:Sponsored by Silicon Valley ACS & Redwood City Public Library (RCPL)\n2:00-3:00 pm\, In person for ages 9-12\, RCPL Downtown Location\, 1044 Middlefield\nRoad\, Redwood City\, Free\, Learn more\n\nYoung scientists explore different aspects of chemistry! Once a month\, join members of the Silicon Valley ACS and take part in hands on experiments. For ages 9-12. This program will take place in the Makerspace.
URL:https://www.siliconvalleyacs.org/event/kid-makers-pop-up-chemistry-6/
LOCATION:In-person (Redwood City Public Library-Downtown Library)\, 1044 Middlefield Road\, Redwood City\, CA\, 94063\, United States
CATEGORIES:Outreach
ATTACH;FMTTYPE=image/jpeg:https://www.siliconvalleyacs.org/wp-content/uploads/2022/05/Redwood-City-Public-Library.jpg
ORGANIZER;CN="Redwood City Library":MAILTO:pevans@redwoodcity.org
END:VEVENT
END:VCALENDAR