BEGIN:VCALENDAR
VERSION:2.0
PRODID:-//SVACS - ECPv6.15.1.1//NONSGML v1.0//EN
CALSCALE:GREGORIAN
METHOD:PUBLISH
X-ORIGINAL-URL:https://www.siliconvalleyacs.org
X-WR-CALDESC:Events for SVACS
REFRESH-INTERVAL;VALUE=DURATION:PT1H
X-Robots-Tag:noindex
X-PUBLISHED-TTL:PT1H
BEGIN:VTIMEZONE
TZID:America/Los_Angeles
BEGIN:DAYLIGHT
TZOFFSETFROM:-0800
TZOFFSETTO:-0700
TZNAME:PDT
DTSTART:20230312T100000
END:DAYLIGHT
BEGIN:STANDARD
TZOFFSETFROM:-0700
TZOFFSETTO:-0800
TZNAME:PST
DTSTART:20231105T090000
END:STANDARD
END:VTIMEZONE
BEGIN:VEVENT
DTSTART;VALUE=DATE:20230307
DTEND;VALUE=DATE:20230309
DTSTAMP:20260425T050919
CREATED:20230304T080332Z
LAST-MODIFIED:20230304T080601Z
UID:19772-1678230000-1678316399@www.siliconvalleyacs.org
SUMMARY:International Women's Day
DESCRIPTION:Imagine a gender equal world. A world free of bias\, stereotypes\, and discrimination. A world that’s diverse\, equitable\, and inclusive. A world where difference is valued and celebrated. Together we can forge women’s equality. Collectively we can all #EmbraceEquity. \nCelebrate women’s achievement. Raise awareness about discrimination. Take action to drive gender parity.  IWD belongs to everyone\, everywhere. Inclusion means all IWD action is valid.
URL:https://www.siliconvalleyacs.org/event/international-womens-day/
LOCATION:Virtual
CATEGORIES:Outreach
ATTACH;FMTTYPE=image/jpeg:https://www.siliconvalleyacs.org/wp-content/uploads/2023/03/International-Womens-Day.jpg
END:VEVENT
BEGIN:VEVENT
DTSTART;TZID=America/Los_Angeles:20230311T130000
DTEND;TZID=America/Los_Angeles:20230311T140000
DTSTAMP:20260425T050919
CREATED:20230304T081355Z
LAST-MODIFIED:20230304T081355Z
UID:19775-1678539600-1678543200@www.siliconvalleyacs.org
SUMMARY:Kid Makers: Pop Up Chemistry
DESCRIPTION:Sponsored by Redwood City Public Library and ACS Silicon Valley Section\n2-3pm\, Redwood City Public Library\, Free\, Learn more\n\nMiddle school scientists explore different aspects of chemistry! Once a month\, join members of the ACS and take part in hands on experiments. This program will take place in the Makerspace. \nLocation:\n\nDowntown Library\, 1044 Middlefield Road\, Redwood City\, California 94063\n\nMore Information:\nContact: Pam Evans\nEmail: pevans@redwoodcity.org\nPhone: (650)780-7028
URL:https://www.siliconvalleyacs.org/event/kid-makers-pop-up-chemistry-3/
LOCATION:In-person (Redwood City Public Library-Downtown Library)\, 1044 Middlefield Road\, Redwood City\, CA\, 94063\, United States
CATEGORIES:Outreach
ATTACH;FMTTYPE=image/jpeg:https://www.siliconvalleyacs.org/wp-content/uploads/2022/11/PopUpChemistrySVACS-RWCLibrary_19Nov2022-small-400-1.jpg
END:VEVENT
END:VCALENDAR