BEGIN:VCALENDAR
VERSION:2.0
PRODID:-//SVACS - ECPv6.15.1.1//NONSGML v1.0//EN
CALSCALE:GREGORIAN
METHOD:PUBLISH
X-ORIGINAL-URL:https://www.siliconvalleyacs.org
X-WR-CALDESC:Events for SVACS
REFRESH-INTERVAL;VALUE=DURATION:PT1H
X-Robots-Tag:noindex
X-PUBLISHED-TTL:PT1H
BEGIN:VTIMEZONE
TZID:America/Los_Angeles
BEGIN:DAYLIGHT
TZOFFSETFROM:-0800
TZOFFSETTO:-0700
TZNAME:PDT
DTSTART:20220313T100000
END:DAYLIGHT
BEGIN:STANDARD
TZOFFSETFROM:-0700
TZOFFSETTO:-0800
TZNAME:PST
DTSTART:20221106T090000
END:STANDARD
END:VTIMEZONE
BEGIN:VEVENT
DTSTART;VALUE=DATE:20221016
DTEND;VALUE=DATE:20221022
DTSTAMP:20260425T114644
CREATED:20220909T182509Z
LAST-MODIFIED:20220909T182935Z
UID:19133-1665878400-1666396799@www.siliconvalleyacs.org
SUMMARY:National Chemistry Week
DESCRIPTION:National Chemistry Week (NCW) is a public awareness campaign that promotes the value of chemistry in everyday life. ACS members and chemistry enthusiasts celebrate NCW by coordinating events and communicating the importance of chemistry. Read more about NCW. \nCelebrate 2022 the week of October 16–22\, 2022 with the theme\, “Fabulous Fibers: The Chemistry of Fabrics.” \n\nEducational resources\nGeneral interest resources\nIllustrated poem contest\n\n 
URL:https://www.siliconvalleyacs.org/event/national-chemistry-week/
LOCATION:Virtual
CATEGORIES:Outreach,National Chemistry Week
ATTACH;FMTTYPE=image/jpeg:https://www.siliconvalleyacs.org/wp-content/uploads/2022/09/NCW2024.jpg
END:VEVENT
END:VCALENDAR