BEGIN:VCALENDAR
VERSION:2.0
PRODID:-//SVACS - ECPv6.15.1.1//NONSGML v1.0//EN
CALSCALE:GREGORIAN
METHOD:PUBLISH
X-WR-CALNAME:SVACS
X-ORIGINAL-URL:https://www.siliconvalleyacs.org
X-WR-CALDESC:Events for SVACS
REFRESH-INTERVAL;VALUE=DURATION:PT1H
X-Robots-Tag:noindex
X-PUBLISHED-TTL:PT1H
BEGIN:VTIMEZONE
TZID:America/Los_Angeles
BEGIN:DAYLIGHT
TZOFFSETFROM:-0800
TZOFFSETTO:-0700
TZNAME:PDT
DTSTART:20250309T100000
END:DAYLIGHT
BEGIN:STANDARD
TZOFFSETFROM:-0700
TZOFFSETTO:-0800
TZNAME:PST
DTSTART:20251102T090000
END:STANDARD
END:VTIMEZONE
BEGIN:VEVENT
DTSTART;TZID=America/Los_Angeles:20250211T170000
DTEND;TZID=America/Los_Angeles:20250211T200000
DTSTAMP:20260424T035652
CREATED:20250112T234411Z
LAST-MODIFIED:20250112T234411Z
UID:21587-1739293200-1739304000@www.siliconvalleyacs.org
SUMMARY:Accelerating Equity in Science: Networking Event of the Cal Local ACS Section & Partners
DESCRIPTION:Sponsored by California ACS Section and IUPAC\n5:00-8:00 pm\, Hybrid Event\, Free\, Learn more and register\n\n\nOfficial IUPAC welcome!\n“Followed by the in-person event at the Emeryville Public Market\, 6:30 to 8:00 pm.\nRegister HERE for the in-person event. \nThe goal of the Global Women’s Breakfast series is to establish an active network of people of all genders to overcome the barriers to gender equality in science. Over the last five years\, more than 1500 GWB events have been held in 100 countries. \n\n\nThe California Local Section of ACS (Cal ACS) invites all students and professionals to join our annual “Cal ACS Partners Networking Event” as part of the global IUPAC GWB 2025 on February 11\, 2025. Feedback from prior years indicates that this is a wonderful event to promote personal and professional networking. \nPlease circle the date on your calendar because February 11 also celebrates the “International Day of Women and Girls in Science”. The theme this year for GWB2025 is “Accelerating Equity in Science.” \nThis is a global event organized by IUPAC that was initiated during the International Year of Chemistry (IYC) when chemistry was celebrated in 2011. That year\, roughly 100 breakfasts were organized involving almost 5\,000 scientists (both men and women) from academia\, industry\, and government around the world. \nPlease email Marinda Wu with any questions. We hope you will join us for GWB 2025. If you are local\, we would love to meet you in person as well as on Zoom.”
URL:https://www.siliconvalleyacs.org/event/accelerating-equity-in-science-networking-event-of-the-cal-local-acs-section-partners/
LOCATION:Hybrid
CATEGORIES:Networking
ATTACH;FMTTYPE=image/png:https://www.siliconvalleyacs.org/wp-content/uploads/2025/01/Global-Womens-Breakfast-2025.png
END:VEVENT
END:VCALENDAR