BEGIN:VCALENDAR
VERSION:2.0
PRODID:-//SVACS - ECPv6.15.1.1//NONSGML v1.0//EN
CALSCALE:GREGORIAN
METHOD:PUBLISH
X-WR-CALNAME:SVACS
X-ORIGINAL-URL:https://www.siliconvalleyacs.org
X-WR-CALDESC:Events for SVACS
REFRESH-INTERVAL;VALUE=DURATION:PT1H
X-Robots-Tag:noindex
X-PUBLISHED-TTL:PT1H
BEGIN:VTIMEZONE
TZID:America/Los_Angeles
BEGIN:DAYLIGHT
TZOFFSETFROM:-0800
TZOFFSETTO:-0700
TZNAME:PDT
DTSTART:20260308T100000
END:DAYLIGHT
BEGIN:STANDARD
TZOFFSETFROM:-0700
TZOFFSETTO:-0800
TZNAME:PST
DTSTART:20261101T090000
END:STANDARD
END:VTIMEZONE
BEGIN:VEVENT
DTSTART;TZID=America/Los_Angeles:20260228T110000
DTEND;TZID=America/Los_Angeles:20260228T150000
DTSTAMP:20260423T171105
CREATED:20260217T205424Z
LAST-MODIFIED:20260217T205554Z
UID:22420-1772276400-1772290800@www.siliconvalleyacs.org
SUMMARY:Lunar New Year Lunch
DESCRIPTION:Join us for a joyful celebration of the Year of the Horse with delicious food\, networking opportunities\, and a variety of fun activities. All CACS families and friends are welcome. Download flyer  \n\n11am-3pm\, Saturday\, Feb 28\, 2026\nOlive Hyde Art Center (123 Washington Blvd\, Fremont\, CA 94539)\nRegistration required
URL:https://www.siliconvalleyacs.org/event/lunar-new-year-lunch/
LOCATION:In-person
CATEGORIES:Networking,Celebration of Life,Lunch
ATTACH;FMTTYPE=image/png:https://www.siliconvalleyacs.org/wp-content/uploads/2026/02/CACS-Year-of-the-Horse-768x196-1.png
END:VEVENT
END:VCALENDAR