BEGIN:VCALENDAR
VERSION:2.0
PRODID:-//SVACS - ECPv6.15.1.1//NONSGML v1.0//EN
CALSCALE:GREGORIAN
METHOD:PUBLISH
X-ORIGINAL-URL:https://www.siliconvalleyacs.org
X-WR-CALDESC:Events for SVACS
REFRESH-INTERVAL;VALUE=DURATION:PT1H
X-Robots-Tag:noindex
X-PUBLISHED-TTL:PT1H
BEGIN:VTIMEZONE
TZID:America/Los_Angeles
BEGIN:DAYLIGHT
TZOFFSETFROM:-0800
TZOFFSETTO:-0700
TZNAME:PDT
DTSTART:20220313T100000
END:DAYLIGHT
BEGIN:STANDARD
TZOFFSETFROM:-0700
TZOFFSETTO:-0800
TZNAME:PST
DTSTART:20221106T090000
END:STANDARD
END:VTIMEZONE
BEGIN:VEVENT
DTSTART;TZID=America/Los_Angeles:20220113T010000
DTEND;TZID=America/Los_Angeles:20220113T020000
DTSTAMP:20260423T185023
CREATED:20220107T222012Z
LAST-MODIFIED:20220107T223800Z
UID:18034-1642035600-1642039200@www.siliconvalleyacs.org
SUMMARY:A Happy Hour Lecture on Cheese Chemistry
DESCRIPTION:Jeanne Berk of Cedar Crest College\, Lehigh Valley ACS\nSponsored by the ACS Puget Sound Section Senior Chemists Committee\n5-6pm\, Online via Zoom\, Free\, No registration required\, Learn more\nDownload flyer.\n\nJoin Jeanne Berk of Cedar Crest College\, Lehigh Valley ACS\, as we learn about cheese making chemistry\, the steps involved and the texture and the flavors of cheese\, and the important chemical compounds which give one of our favorite foods its unique taste! \nPick up your cheese for tasting. Recommend 5 types: a cheddar\, a blue cheese\, a soft cheese like Brie\, a Gouda and\, a Spanish sheep’s milk variety called Manchego (Queso Manchego).
URL:https://www.siliconvalleyacs.org/event/a-happy-hour-lecture-on-cheese-chemistry-virtual/
LOCATION:Virtual
CATEGORIES:Happy Hour
ATTACH;FMTTYPE=image/jpeg:https://www.siliconvalleyacs.org/wp-content/uploads/2022/01/Jeanne-Berk.jpg
END:VEVENT
END:VCALENDAR