BEGIN:VCALENDAR
VERSION:2.0
PRODID:-//SVACS - ECPv6.15.1.1//NONSGML v1.0//EN
CALSCALE:GREGORIAN
METHOD:PUBLISH
X-ORIGINAL-URL:https://www.siliconvalleyacs.org
X-WR-CALDESC:Events for SVACS
REFRESH-INTERVAL;VALUE=DURATION:PT1H
X-Robots-Tag:noindex
X-PUBLISHED-TTL:PT1H
BEGIN:VTIMEZONE
TZID:America/Los_Angeles
BEGIN:DAYLIGHT
TZOFFSETFROM:-0800
TZOFFSETTO:-0700
TZNAME:PDT
DTSTART:20260308T100000
END:DAYLIGHT
BEGIN:STANDARD
TZOFFSETFROM:-0700
TZOFFSETTO:-0800
TZNAME:PST
DTSTART:20261101T090000
END:STANDARD
END:VTIMEZONE
BEGIN:VEVENT
DTSTART;TZID=America/Los_Angeles:20260210T170000
DTEND;TZID=America/Los_Angeles:20260210T180000
DTSTAMP:20260423T141535
CREATED:20260107T205740Z
LAST-MODIFIED:20260107T205930Z
UID:22324-1770742800-1770746400@www.siliconvalleyacs.org
SUMMARY:Global Women's Breakfast 2026: Many Voices\, One Science
DESCRIPTION:On 11 February 2025\, the IUPAC GWB2025 connected 449 events in 78 countries. Held in conjunction with the International Day of Women and Girls in Science\, the goal of “The Breakfast” is to establish an active network of people to overcome the barriers to gender equality in science. Over the last seven years\, nearly 2500 GWB have been held in 100 countries.  GWB2026 is coming on February 10\, 2026.  Learn more \nCal ACS will host an online networking event at 5 PM on Tuesday evening\, February 10th\, followed by an in-person networking event at the Emeryville Public Market starting at 6:30 PM.   Stay tuned for registration details.
URL:https://www.siliconvalleyacs.org/event/global-womens-breakfast-2026-many-voices-one-science/
LOCATION:Virtual
CATEGORIES:Global Women's Breakfast
ATTACH;FMTTYPE=image/jpeg:https://www.siliconvalleyacs.org/wp-content/uploads/2026/01/Global-Womens-Breakfast-2026.jpg
END:VEVENT
END:VCALENDAR