BEGIN:VCALENDAR
VERSION:2.0
PRODID:-//SVACS - ECPv6.15.1.1//NONSGML v1.0//EN
CALSCALE:GREGORIAN
METHOD:PUBLISH
X-ORIGINAL-URL:https://www.siliconvalleyacs.org
X-WR-CALDESC:Events for SVACS
REFRESH-INTERVAL;VALUE=DURATION:PT1H
X-Robots-Tag:noindex
X-PUBLISHED-TTL:PT1H
BEGIN:VTIMEZONE
TZID:America/Los_Angeles
BEGIN:DAYLIGHT
TZOFFSETFROM:-0800
TZOFFSETTO:-0700
TZNAME:PDT
DTSTART:20210314T100000
END:DAYLIGHT
BEGIN:STANDARD
TZOFFSETFROM:-0700
TZOFFSETTO:-0800
TZNAME:PST
DTSTART:20211107T090000
END:STANDARD
BEGIN:DAYLIGHT
TZOFFSETFROM:-0800
TZOFFSETTO:-0700
TZNAME:PDT
DTSTART:20220313T100000
END:DAYLIGHT
BEGIN:STANDARD
TZOFFSETFROM:-0700
TZOFFSETTO:-0800
TZNAME:PST
DTSTART:20221106T090000
END:STANDARD
BEGIN:DAYLIGHT
TZOFFSETFROM:-0800
TZOFFSETTO:-0700
TZNAME:PDT
DTSTART:20230312T100000
END:DAYLIGHT
BEGIN:STANDARD
TZOFFSETFROM:-0700
TZOFFSETTO:-0800
TZNAME:PST
DTSTART:20231105T090000
END:STANDARD
BEGIN:DAYLIGHT
TZOFFSETFROM:-0800
TZOFFSETTO:-0700
TZNAME:PDT
DTSTART:20240310T100000
END:DAYLIGHT
BEGIN:STANDARD
TZOFFSETFROM:-0700
TZOFFSETTO:-0800
TZNAME:PST
DTSTART:20241103T090000
END:STANDARD
BEGIN:DAYLIGHT
TZOFFSETFROM:-0800
TZOFFSETTO:-0700
TZNAME:PDT
DTSTART:20250309T100000
END:DAYLIGHT
BEGIN:STANDARD
TZOFFSETFROM:-0700
TZOFFSETTO:-0800
TZNAME:PST
DTSTART:20251102T090000
END:STANDARD
BEGIN:DAYLIGHT
TZOFFSETFROM:-0800
TZOFFSETTO:-0700
TZNAME:PDT
DTSTART:20260308T100000
END:DAYLIGHT
BEGIN:STANDARD
TZOFFSETFROM:-0700
TZOFFSETTO:-0800
TZNAME:PST
DTSTART:20261101T090000
END:STANDARD
END:VTIMEZONE
BEGIN:VEVENT
DTSTART;TZID=America/Los_Angeles:20260316T163000
DTEND;TZID=America/Los_Angeles:20260316T183000
DTSTAMP:20260423T111147
CREATED:20260225T203312Z
LAST-MODIFIED:20260310T231233Z
UID:22466-1773678600-1773685800@www.siliconvalleyacs.org
SUMMARY:Paving the Path: Virtual Career Panel & Pizza-fueled Watch Parties
DESCRIPTION:March 16th from 4:30-6:30 pm.  Register by March 15 and choose a watch party location so we order enough food.  Download flyer (PDF) \nCalling all community college and transfer students interested in chemistry-related fields! \nSilicon Valley American Chemical Society (SVACS) invites you to interact with a career panel of 4 chemistry professionals\, all of whom began their educational journeys at community colleges.  They will highlight their unique professional journeys and tell us their stories of resilience and determination.  This year’s panelists are \nMAGI YASSA\, Materials Chemist\, National Lab\nRICKI MENARD\, Chemical Technician\, Industry\nDAVID SANTIAGO\, Graduate Student\, Academia\nLISA OLSHANSKY\, Associate Professor\, Academia \nThis virtual career panel can be accessed by Zoom on your own or at an in-person watch party at: \n\nCabrillo College\nCal State U Monterey Bay (CSUMB)\nEvergreen Valley College\nFoothill College\nGavilan College\nHartnell College\nMission College\nWest Valley College\n\nThe in-person watch parties will also include refreshments (read: pizza)\, networking\, and ACS swag. Register by March 15 and choose a watch party location so we order enough food. All registrants will be contacted by email with the Zoom link and the location of the watch party on their choice of campus (if applicable). \nCan’t make it to the watch party? Register & get the link to join us on your own by Zoom. Looking forward to an animated evening of inspirational stories and pizza-fueled conversation!
URL:https://www.siliconvalleyacs.org/event/paving-the-path-virtual-career-panel-watch-parties/
LOCATION:Hybrid
CATEGORIES:Networking,Education,Career Panel
ATTACH;FMTTYPE=image/png:https://www.siliconvalleyacs.org/wp-content/uploads/2021/03/image.png
END:VEVENT
BEGIN:VEVENT
DTSTART;TZID=America/Los_Angeles:20210922T200000
DTEND;TZID=America/Los_Angeles:20210922T213000
DTSTAMP:20260423T111147
CREATED:20210904T152041Z
LAST-MODIFIED:20210904T152422Z
UID:17497-1632340800-1632346200@www.siliconvalleyacs.org
SUMMARY:ACS Webinar: Molecules to Manufacturing to Marketplace
DESCRIPTION:Date: Thursday\, September 23\, 2021 @ 2-3:15pm ET\nSpeakers: Timothy Long\, Arizona State University and Michael Bortner\, Virginia Tech\nModerator: Bryan Tweedy\, American Chemical Society \n\n\n\nWhat You Will Learn: \n\nWhat is the impact of polyester ionomers and macromolecular architecture on processability and performance of 3D printed structures\nHow to leverage rheology for predictive additive manufacturing system design and materials screening\nA snapshot of the topics and concepts captured in the ACS Polymer Chemistry: Principles and Practice short course held at Virginia Tech\n\n\n\n\n\n\n\nCo-produced with: ACS Professional Education
URL:https://www.siliconvalleyacs.org/event/acs-webinar-molecules-to-manufacturing-to-marketplace/
LOCATION:Virtual
CATEGORIES:ACS Webinars,Education
ATTACH;FMTTYPE=image/png:https://www.siliconvalleyacs.org/wp-content/uploads/2021/09/ACS-Webinar-Molecules-to-Manufacturing-to-Marketplace.png
END:VEVENT
BEGIN:VEVENT
DTSTART;TZID=America/Los_Angeles:20210908T170000
DTEND;TZID=America/Los_Angeles:20210908T180000
DTSTAMP:20260423T111147
CREATED:20210901T225518Z
LAST-MODIFIED:20210904T150558Z
UID:17471-1631120400-1631124000@www.siliconvalleyacs.org
SUMMARY:ACS Webinar: The Green Evolution: Sustainable Chemistry in Global Scholarly Education
DESCRIPTION:Date: Thursday\, September 9\, 2021 @ 11am-12pm ET\nSpeakers: H.N. Cheng\, 2021 ACS President / Frank Roschangar\, Boehringer-Ingelheim and ACS Pharmaceutical Roundtable / Klaus Kümmerer\, Leuphana University\nModerator: Mary Kirchhoff\, ACS Scientific Advancement\nRegistration required: https://www.acs.org/content/acs/en/acs-webinars.html\n\n\n\n\nWhat You Will Learn: \n\nHow the current economic\, socio-political\, and safety/environmental trends all favor green chemistry innovations\nWhy learning green chemistry at the university is an advantage to recent graduates to find great employment because it’s a promising and emerging area\, involving multidisciplinary teams\, and encompassing new applications of chemical skills\nHow green chemistry education plays a role in reshaping chemistry’s image\, contributing to a better world tomorrow\n\n\n\n\n\n\n\nCo-produced with: ACS on Campus\, ACS Green Chemistry Institute\, CAS\, and German Chemical Society
URL:https://www.siliconvalleyacs.org/event/the-green-evolution-sustainable-chemistry-in-global-scholarly-education/
LOCATION:Virtual
CATEGORIES:Careers,Education
ATTACH;FMTTYPE=image/png:https://www.siliconvalleyacs.org/wp-content/uploads/2021/09/Green-Revolution.png
END:VEVENT
END:VCALENDAR