BEGIN:VCALENDAR
VERSION:2.0
PRODID:-//SVACS - ECPv6.15.1.1//NONSGML v1.0//EN
CALSCALE:GREGORIAN
METHOD:PUBLISH
X-WR-CALNAME:SVACS
X-ORIGINAL-URL:https://www.siliconvalleyacs.org
X-WR-CALDESC:Events for SVACS
REFRESH-INTERVAL;VALUE=DURATION:PT1H
X-Robots-Tag:noindex
X-PUBLISHED-TTL:PT1H
BEGIN:VTIMEZONE
TZID:America/Los_Angeles
BEGIN:DAYLIGHT
TZOFFSETFROM:-0800
TZOFFSETTO:-0700
TZNAME:PDT
DTSTART:20230312T100000
END:DAYLIGHT
BEGIN:STANDARD
TZOFFSETFROM:-0700
TZOFFSETTO:-0800
TZNAME:PST
DTSTART:20231105T090000
END:STANDARD
END:VTIMEZONE
BEGIN:VEVENT
DTSTART;TZID=America/Los_Angeles:20231217T133000
DTEND;TZID=America/Los_Angeles:20231217T150000
DTSTAMP:20260423T184926
CREATED:20231209T033249Z
LAST-MODIFIED:20231209T033249Z
UID:20561-1702819800-1702825200@www.siliconvalleyacs.org
SUMMARY:Dr. Robert Huw Morgan: Holiday Organ Concert
DESCRIPTION:Sponsored by Stanford Department of Music and Stanford Office for Religious & Spiritual Life\n1:30-3:00pm\, Stanford Memorial Church\, 450 Jane Stanford Way\, Building. 500\, Stanford\, CA 94305\, Free\, Open to the Public\, Learn more \n\nUniversity Organist Dr. Robert Huw Morgan presents a program of festive organ works celebrating the season. This event is free and open to the public. \nDonations will be accepted in support of music at Memorial Church. \nParking and Accessibility information for Memorial Church can be found here.
URL:https://www.siliconvalleyacs.org/event/dr-robert-huw-morgan-holiday-organ-concert/
LOCATION:In-person
CATEGORIES:Concert
ATTACH;FMTTYPE=image/png:https://www.siliconvalleyacs.org/wp-content/uploads/2023/12/Pipe-Organ-Stanford-Memorial-Church.png
END:VEVENT
END:VCALENDAR