BEGIN:VCALENDAR
VERSION:2.0
PRODID:-//SVACS - ECPv6.15.1.1//NONSGML v1.0//EN
CALSCALE:GREGORIAN
METHOD:PUBLISH
X-ORIGINAL-URL:https://www.siliconvalleyacs.org
X-WR-CALDESC:Events for SVACS
REFRESH-INTERVAL;VALUE=DURATION:PT1H
X-Robots-Tag:noindex
X-PUBLISHED-TTL:PT1H
BEGIN:VTIMEZONE
TZID:America/Los_Angeles
BEGIN:DAYLIGHT
TZOFFSETFROM:-0800
TZOFFSETTO:-0700
TZNAME:PDT
DTSTART:20260308T100000
END:DAYLIGHT
BEGIN:STANDARD
TZOFFSETFROM:-0700
TZOFFSETTO:-0800
TZNAME:PST
DTSTART:20261101T090000
END:STANDARD
END:VTIMEZONE
BEGIN:VEVENT
DTSTART;TZID=America/Los_Angeles:20260318T090000
DTEND;TZID=America/Los_Angeles:20260318T103000
DTSTAMP:20260423T164704
CREATED:20251228T200851Z
LAST-MODIFIED:20251228T200851Z
UID:22278-1773824400-1773829800@www.siliconvalleyacs.org
SUMMARY:Careers in Industrial Chemistry: Identifying Your Role in the Value Chain
DESCRIPTION:This free\, 90-minute virtual live event will provide an overview of the job market and job types for industrial chemistry. You will also learn about the latest employment trends and discuss what skills and values align with each sector\, helping you identify the area best suited for your personal background and interests. \nWhat You Will Learn: \n\nHow the industrial value chain can be used as a tool to help refine your job search in alignment with your strengths and values\nKey components of job descriptions and how to break down job descriptions to best match job opportunities with your experience\, strengths\, and values.\n\nThe first hour of the workshop will feature a presentation by an ACS Career Consultant\, while the last 30 minutes will be a dedicated Q&A session between participants and the facilitator.
URL:https://www.siliconvalleyacs.org/event/careers-in-industrial-chemistry-identifying-your-role-in-the-value-chain/
LOCATION:Virtual
CATEGORIES:Careers,Workshop,ACS Careers
ATTACH;FMTTYPE=image/png:https://www.siliconvalleyacs.org/wp-content/uploads/2025/12/Careers-in-Industrial-Chemistry-Identifying-your-role-in-the-value-chain.png
END:VEVENT
END:VCALENDAR