BEGIN:VCALENDAR
VERSION:2.0
PRODID:-//SVACS - ECPv6.15.1.1//NONSGML v1.0//EN
CALSCALE:GREGORIAN
METHOD:PUBLISH
X-WR-CALNAME:SVACS
X-ORIGINAL-URL:https://www.siliconvalleyacs.org
X-WR-CALDESC:Events for SVACS
REFRESH-INTERVAL;VALUE=DURATION:PT1H
X-Robots-Tag:noindex
X-PUBLISHED-TTL:PT1H
BEGIN:VTIMEZONE
TZID:America/Los_Angeles
BEGIN:DAYLIGHT
TZOFFSETFROM:-0800
TZOFFSETTO:-0700
TZNAME:PDT
DTSTART:20260308T100000
END:DAYLIGHT
BEGIN:STANDARD
TZOFFSETFROM:-0700
TZOFFSETTO:-0800
TZNAME:PST
DTSTART:20261101T090000
END:STANDARD
END:VTIMEZONE
BEGIN:VEVENT
DTSTART;TZID=America/Los_Angeles:20260108T090000
DTEND;TZID=America/Los_Angeles:20260108T103000
DTSTAMP:20260423T192247
CREATED:20251228T194549Z
LAST-MODIFIED:20251228T194549Z
UID:22263-1767862800-1767868200@www.siliconvalleyacs.org
SUMMARY:ACS Virtual Office Hours: LinkedIn Profiles for Chemists
DESCRIPTION:During this free virtual career guidance session\, ACS Certified Career Consultant Katie Leach will provide invaluable insights on optimizing your LinkedIn profile. Discover strategies to attract new career opportunities in the chemical sciences and set yourself apart from the competition. \nWhat You Will Learn: \n\nTips and tricks for creating an impactful LinkedIn profile tailored specifically for chemists.\nHow to utilize LinkedIn to expand your professional network and attract the attention of potential employers.\n\nThe first half of the workshop will feature a presentation by an ACS Career Consultant\, while the last half will allow participants the opportunity to ask questions and network in small breakout groups led by ACS Career Consultants.
URL:https://www.siliconvalleyacs.org/event/acs-virtual-office-hours-linkedin-profiles-for-chemists/
LOCATION:Virtual
CATEGORIES:Careers,Webinar
ATTACH;FMTTYPE=image/png:https://www.siliconvalleyacs.org/wp-content/uploads/2025/12/LinkedIn-for-Chemists-ACS_EarlyCareer_VOH26_Jan8_landingpage.png
END:VEVENT
END:VCALENDAR