BEGIN:VCALENDAR
VERSION:2.0
PRODID:-//SVACS - ECPv6.15.1.1//NONSGML v1.0//EN
CALSCALE:GREGORIAN
METHOD:PUBLISH
X-ORIGINAL-URL:https://www.siliconvalleyacs.org
X-WR-CALDESC:Events for SVACS
REFRESH-INTERVAL;VALUE=DURATION:PT1H
X-Robots-Tag:noindex
X-PUBLISHED-TTL:PT1H
BEGIN:VTIMEZONE
TZID:America/Los_Angeles
BEGIN:DAYLIGHT
TZOFFSETFROM:-0800
TZOFFSETTO:-0700
TZNAME:PDT
DTSTART:20230312T100000
END:DAYLIGHT
BEGIN:STANDARD
TZOFFSETFROM:-0700
TZOFFSETTO:-0800
TZNAME:PST
DTSTART:20231105T090000
END:STANDARD
END:VTIMEZONE
BEGIN:VEVENT
DTSTART;VALUE=DATE:20230728
DTEND;VALUE=DATE:20230731
DTSTAMP:20260425T051408
CREATED:20230215T001038Z
LAST-MODIFIED:20230215T001038Z
UID:19690-1690502400-1690761599@www.siliconvalleyacs.org
SUMMARY:Postdoc to Faculty Workshop: A Workshop for Prospective Chemical Sciences Faculty
DESCRIPTION:Sponsored by ACS\nHeld in Chicago\, Illinois (Learn more and register)\nSee also: Graduate Students and Postdoctoral Scholars (resources on the ACS website)\n\n\n\n\n\n\nIf you are a postdoctoral fellow interested in a faculty position in the chemical sciences at a college or university\, this workshop can help you prepare for a rewarding career. \n\n\n\n\n\n\nThe Postdoc to Faculty (P2F) Workshop: \n\n\n\n\n\n\n\ncompares positions and respective expectations in undergraduate and graduate chemistry departments\nprovides assistance with and feedback on faculty application materials\npresents strategies for balancing scholarship\, teaching\, and service expectations with life outside academia\ncreates a network of early-career faculty along with mentors\, who can help guide newly-appointed professors\nintroduces interactive teaching models and provides resources to facilitate their incorporation\n\n\n\n\n\n\nWhen and Where\n\n\n\n\n\nThe 2023 Postdoc to Faculty Workshop will be held on July 28 – July 30\, 2023 in Chicago\, IL. \nSafety is a core value of the American Chemical Society\, and as such the health and well-being of our members\, community\, and staff are paramount. Currently\, the 2023 Postdoc to Faculty Workshop is currently scheduled to be held in person. However\, we will continue to monitor the latest updates regarding the current pandemic and will update workshop participants and facilitators if a virtual space is necessary. \n\n\n\n\n\nHow to Apply\n\n\n\n\n\nThe 2023 Postdoc to Faculty Workshop application will open January 10\, 2023 at 8:00 AM ET. \nTips for Securing a Faculty Position\nThis booklet is based on advice from a group of faculty members who facilitated two ACS “Postdoc to Faculty” workshops\, 2018 P2F in Boston\, MA and 2019 P2F in Atlanta\, GA. \n\n\nContact Us\n\n\n\n\n\nIf you have any questions\, please email us at Postdoc@acs.org
URL:https://www.siliconvalleyacs.org/event/postdoc-to-faculty-workshop-a-workshop-for-prospective-chemical-sciences-faculty/
LOCATION:In-Person in Mountain View at Cuesta Park Group BBQ Areas #1-2\, 615 Cuesta Drive\, Mountain View\, CA\, United States
CATEGORIES:Careers,Workshop
ATTACH;FMTTYPE=image/jpeg:https://www.siliconvalleyacs.org/wp-content/uploads/2023/02/Tips-for-Securing-a-Faculty-Position.jpg
END:VEVENT
END:VCALENDAR