BEGIN:VCALENDAR
VERSION:2.0
PRODID:-//SVACS - ECPv6.15.1.1//NONSGML v1.0//EN
CALSCALE:GREGORIAN
METHOD:PUBLISH
X-ORIGINAL-URL:https://www.siliconvalleyacs.org
X-WR-CALDESC:Events for SVACS
REFRESH-INTERVAL;VALUE=DURATION:PT1H
X-Robots-Tag:noindex
X-PUBLISHED-TTL:PT1H
BEGIN:VTIMEZONE
TZID:America/Los_Angeles
BEGIN:DAYLIGHT
TZOFFSETFROM:-0800
TZOFFSETTO:-0700
TZNAME:PDT
DTSTART:20260308T100000
END:DAYLIGHT
BEGIN:STANDARD
TZOFFSETFROM:-0700
TZOFFSETTO:-0800
TZNAME:PST
DTSTART:20261101T090000
END:STANDARD
END:VTIMEZONE
BEGIN:VEVENT
DTSTART;TZID=America/Los_Angeles:20260416T110000
DTEND;TZID=America/Los_Angeles:20260416T120000
DTSTAMP:20260424T081017
CREATED:20260411T225728Z
LAST-MODIFIED:20260411T225728Z
UID:22612-1776337200-1776340800@www.siliconvalleyacs.org
SUMMARY:Science on the Mic: How to Shine as a Podcast Guest
DESCRIPTION:Sponsored by ACS Webinars\nApril 16th\, 11:00 am-Noon\, Online\, Free\, Registration required\n\n\n\nHave you ever been invited to appear on a podcast\, or hoped you might be someday? Podcasts have become one of the most effective ways for scientists to translate research\, build visibility\, and reach audiences far beyond the lab. \nJoin Margot Wohl\, lead producer of the Chain Reaction podcast from the American Chemical Society\, for a practical guide to becoming a memorable podcast guest. Discover how to prepare for interviews\, communicate complex science with clarity\, and deliver insights that resonate with listeners long after the episode ends. \nThis ACS Webinar is moderated by Sam Jones of the American Chemical Society and co-produced with the ACS Communications Division. \n\n\n\n\nWhat You Will Learn\n\nWhy podcasts are powerful platforms for communicating science\nHow to prepare for a podcast interview like a pro\nAudio tips and techniques to sound natural\, clear\, and engaging\n\n\n\n\n\nEvent Details\n\nThursday\, April 16\, 2026 @ 2-3pm ET\nFree to attend\nSlides will be available on day of the webinar\n\n\n\n\n\nAdditional Resources\n\nChain Reaction – ACS’ new podcast explores how chemistry shapes the world around us\, from the materials we use every day to the environment that we depend on. Each episode brings fresh perspectives and personal stories from chemists\, engineers\, and other scientists\, as well as historians who guide us through pivotal moments in chemistry’s history.\nTiny Matters – An award-winning podcast about tiny things — from molecules to microbes — that have a big and often surprising impact on society. From deadly diseases to forensic toxicology to the search for extraterrestrial life\, hosts and former scientists Sam Jones and Deboki Chakravarti embrace the awe and messiness of science and its place in history and today\, and how it could impact our world’s future. New episodes every Wednesday.\n\n\n\n\n\nACS Communications Division
URL:https://www.siliconvalleyacs.org/event/science-on-the-mic-how-to-shine-as-a-podcast-guest/
LOCATION:Virtual
CATEGORIES:ACS Webinars
ATTACH;FMTTYPE=image/jpeg:https://www.siliconvalleyacs.org/wp-content/uploads/2026/04/Science-on-the-Mic.jpg
END:VEVENT
BEGIN:VEVENT
DTSTART;TZID=America/Los_Angeles:20260423T110000
DTEND;TZID=America/Los_Angeles:20260423T120000
DTSTAMP:20260424T081017
CREATED:20260411T232406Z
LAST-MODIFIED:20260411T232406Z
UID:22629-1776942000-1776945600@www.siliconvalleyacs.org
SUMMARY:Guided Reactions: Mentorship Essentials for Meaningful Growth
DESCRIPTION:Sponsored by ACS Webinars\nApril 23rd\, 11:00 am-Noon\, Online\, Free\, Registration required\n\n\n\nCareers in chemistry are often defined not just by discovery\, but by direction. At critical moments you may find yourself choosing a path\, navigating transitions\, or expanding into new areas. At times like this\, having a powerful mentorship relationship built with intention can make all the difference. When both mentor and mentee actively engage\, growth becomes a shared outcome. \nIn this practical\, insight-driven webinar\, Kelly Diggs of Kelly A. Diggs Consulting\, LLC breaks down what effective mentorship really is and just as important\, what it is not. You’ll discover how to identify the right mentors for your goals\, structure relationships that create mutual value\, and avoid the common pitfalls that make mentorship fall flat. You’ll also get an exclusive first look at the new ACS Mentorship Program designed to connect scientists across disciplines and career stages with purpose and clarity. Whether you’re seeking guidance or ready to give it\, this webinar offers a framework to make mentorship actionable and impactful. \nThis ACS Webinar is co-produced with the ACS Mentorship Program and is moderated by Yvonne Pearson of the American Chemical Society. \n\n\n\n\nWhat You Will Learn\n\nWhat effective mentorship is and the misconceptions that hold people back\nHow to identify and approach the right mentor for your specific goals\nHow to build structured\, high-impact mentoring relationships that deliver real outcomes\n\n\n\n\n\nEvent Details\n\nThursday\, April 23\, 2026 @ 2-3pm ET\nFree to attend\nSlides will be available on day of the webinar\n\n\n\n\n\nACS Mentorship Program
URL:https://www.siliconvalleyacs.org/event/guided-reactions-mentorship-essentials-for-meaningful-growth/
LOCATION:Virtual
CATEGORIES:ACS Webinars
ATTACH;FMTTYPE=image/jpeg:https://www.siliconvalleyacs.org/wp-content/uploads/2026/04/Guided-Reactions-Mentorship-Essentials.jpg
END:VEVENT
BEGIN:VEVENT
DTSTART;TZID=America/Los_Angeles:20260429T110000
DTEND;TZID=America/Los_Angeles:20260429T120000
DTSTAMP:20260424T081017
CREATED:20260228T203348Z
LAST-MODIFIED:20260228T203348Z
UID:22489-1777460400-1777464000@www.siliconvalleyacs.org
SUMMARY:SciComm 101: How to Clearly Communicate Your Science
DESCRIPTION:How do you make science not just understandable\, but unforgettable? Research can fall flat if it isn’t communicated clearly\, strategically\, and with intention. \nUnpack the fundamentals of science communication\, from defining what “SciComm” actually is to exploring the core elements that make it effective: understanding your audience\, shaping a strong message\, choosing the right medium\, and telling a story that resonates. Join Shane M. Hanlon and Jordan Nutting of BrandLab at the American Chemical Society as they teach you how to the build skills that will make your communication clearer\, more compelling\, and more impactful. \nThis ACS Webinar is co-produced with C&EN BrandLab and is moderated by Heather Lockhart-Neff of C&EN BrandLab at the American Chemical Society. \n “What You Will Learn” \n– What science communication is and why it matters\n– How to identify your audience\, clarify your message\, choose the right medium\, and shape a story that resonates\n– Why authenticity is essential in science communication and how it strengthens trust\, engagement\, and impact
URL:https://www.siliconvalleyacs.org/event/scicomm-101-how-to-clearly-communicate-your-science/
LOCATION:Virtual
CATEGORIES:ACS Webinars
ATTACH;FMTTYPE=image/jpeg:https://www.siliconvalleyacs.org/wp-content/uploads/2026/02/Communicating-your-science-clearly.jpg
END:VEVENT
BEGIN:VEVENT
DTSTART;TZID=America/Los_Angeles:20260430T110000
DTEND;TZID=America/Los_Angeles:20260430T123000
DTSTAMP:20260424T081017
CREATED:20260411T235626Z
LAST-MODIFIED:20260411T235626Z
UID:22641-1777546800-1777552200@www.siliconvalleyacs.org
SUMMARY:Coding Chemistry: How AI is Rewriting Polymer Design
DESCRIPTION:Sponsored by ACS Webinars and Division of Polymeric Materials: Science and Engineering\nApril 30th\, 11:00 am-12:30 pm\, Online\, Free\, Registration required\n\n\n\nWhat if polymer discovery could be accelerated with experiments\, simulations\, and AI continuously informing one another in a closed loop? Join Adam Gormley of Rutgers University and Plexymer\, Inc. and Arthi Jayaraman of the University of Delaware to learn how self-driving laboratories and hybrid modeling approaches are converging to transform the way we design\, understand\, and deploy polymer materials. \nFirst\, Adam Gormley will present on the development of a self-driving biomaterials laboratory\, a closed-loop platform that integrates synthesis\, characterization\, and AI-guided decision-making to rapidly explore vast design spaces. By coupling molecular modeling\, simulation\, and machine learning with automated experimentation\, this approach accelerates the identification of polymer systems that function in harmony with biological complexity. \nThen\, Arthi Jayaraman will demonstrate how physics-based modeling and data-driven methods can be combined to elucidate structure–property relationships in polymeric materials. Using case studies from industry and academic labs\, she will show how integrating chemical intuition with machine learning enables faster design\, synthesis\, and optimization of high-performance polymer systems. \nThis ACS Webinar is moderated by Dominik Konkolewicz of the Miami University and co-produced with the Polymeric Materials: Science and Engineering (PMSE) Division at the American Chemical Society. \n\n\n\n\nWhat You Will Learn\n\nHow AI/ML and automation are transforming polymer biomaterials design\nHow self-driving labs work\nHow you can build your own self-driving lab\nWhen to apply machine learning vs. molecular modeling and simulation\nKey challenges in polymer characterization data and how to address them\nStrategies for effective collaboration across chemistry\, materials science\, and data science\n\n\n\n\n\nEvent Details\n\nThursday\, April 30\, 2026 @ 2-3:30pm ET\nFree to attend\nSlides will be available on day of the webinar\n\n\n\n\n\nCo-Produced With\n\n\n\n\nDivision of Polymeric Materials: Science and Engineering
URL:https://www.siliconvalleyacs.org/event/coding-chemistry-how-ai-is-rewriting-polymer-design/
LOCATION:Virtual
CATEGORIES:ACS Webinars
ATTACH;FMTTYPE=image/jpeg:https://www.siliconvalleyacs.org/wp-content/uploads/2026/04/Coding-Chemistry-e1775951382410.jpg
END:VEVENT
END:VCALENDAR