BEGIN:VCALENDAR
VERSION:2.0
PRODID:-//SVACS - ECPv6.15.1.1//NONSGML v1.0//EN
CALSCALE:GREGORIAN
METHOD:PUBLISH
X-ORIGINAL-URL:https://www.siliconvalleyacs.org
X-WR-CALDESC:Events for SVACS
REFRESH-INTERVAL;VALUE=DURATION:PT1H
X-Robots-Tag:noindex
X-PUBLISHED-TTL:PT1H
BEGIN:VTIMEZONE
TZID:America/Los_Angeles
BEGIN:DAYLIGHT
TZOFFSETFROM:-0800
TZOFFSETTO:-0700
TZNAME:PDT
DTSTART:20210314T100000
END:DAYLIGHT
BEGIN:STANDARD
TZOFFSETFROM:-0700
TZOFFSETTO:-0800
TZNAME:PST
DTSTART:20211107T090000
END:STANDARD
END:VTIMEZONE
BEGIN:VEVENT
DTSTART;TZID=America/Los_Angeles:20210929T200000
DTEND;TZID=America/Los_Angeles:20210929T210000
DTSTAMP:20260423T211602
CREATED:20210920T184100Z
LAST-MODIFIED:20210920T185147Z
UID:17562-1632945600-1632949200@www.siliconvalleyacs.org
SUMMARY:ACS Webinar: Who Will Win the #ChemNobel?  Predicting the 2021 Nobel Laureate(s) in Chemistry
DESCRIPTION:Date: Thursday\, September 30\, 2021 @ 11am-12pm PT\nSpeakers: Angela Zhou\, CAS / Andrés Cisneros\, University of North Texas / Rigoberto Hernandez\, Johns Hopkins University / Frank Leibfarth\, University of North Carolina\nModerator: Laura Howes\, Chemical & Engineering News \nWhat You Will Learn: \n\nWho are our front-runners for this year’s Nobel Prize in Chemistry and why\nBig ideas in chemistry that we think should someday win the prize\nNobel trivia\, different divination techniques\, and much more\n\nNobel Collections Website: Every October\, the Nobel Committee for Chemistry awards the field’s biggest prize. C&EN asks experts for predictions on who will win\, covers the annual prize announcement\, and examines Nobel trends over the years. \nCo-produced with: Chemical & Engineering News
URL:https://www.siliconvalleyacs.org/event/acs-webinar-who-will-win-the-chemnobel-predicting-the-2021-nobel-laureates-in-chemistry/
LOCATION:Virtual
CATEGORIES:ACS Webinars
ATTACH;FMTTYPE=image/jpeg:https://www.siliconvalleyacs.org/wp-content/uploads/2021/09/Who-will-win-the-ChemNobel.jpg
END:VEVENT
BEGIN:VEVENT
DTSTART;TZID=America/Los_Angeles:20210922T200000
DTEND;TZID=America/Los_Angeles:20210922T213000
DTSTAMP:20260423T211602
CREATED:20210904T152041Z
LAST-MODIFIED:20210904T152422Z
UID:17497-1632340800-1632346200@www.siliconvalleyacs.org
SUMMARY:ACS Webinar: Molecules to Manufacturing to Marketplace
DESCRIPTION:Date: Thursday\, September 23\, 2021 @ 2-3:15pm ET\nSpeakers: Timothy Long\, Arizona State University and Michael Bortner\, Virginia Tech\nModerator: Bryan Tweedy\, American Chemical Society \n\n\n\nWhat You Will Learn: \n\nWhat is the impact of polyester ionomers and macromolecular architecture on processability and performance of 3D printed structures\nHow to leverage rheology for predictive additive manufacturing system design and materials screening\nA snapshot of the topics and concepts captured in the ACS Polymer Chemistry: Principles and Practice short course held at Virginia Tech\n\n\n\n\n\n\n\nCo-produced with: ACS Professional Education
URL:https://www.siliconvalleyacs.org/event/acs-webinar-molecules-to-manufacturing-to-marketplace/
LOCATION:Virtual
CATEGORIES:ACS Webinars,Education
ATTACH;FMTTYPE=image/png:https://www.siliconvalleyacs.org/wp-content/uploads/2021/09/ACS-Webinar-Molecules-to-Manufacturing-to-Marketplace.png
END:VEVENT
BEGIN:VEVENT
DTSTART;TZID=America/Los_Angeles:20210921T200000
DTEND;TZID=America/Los_Angeles:20210921T210000
DTSTAMP:20260423T211602
CREATED:20210904T151534Z
LAST-MODIFIED:20210904T151534Z
UID:17494-1632254400-1632258000@www.siliconvalleyacs.org
SUMMARY:ACS Webinar: Service Dogs in Your Chemistry Lab
DESCRIPTION:Date: Wednesday\, September 22\, 2021 @ 2-3pm ET\nSpeakers: Patricia Redden\, Saint Peter’s University / Joey Ramp\, Empower Ability Consulting\, LLC / Ashley Neybert\, Independence Science\nModerator: Partha Basu\, Indiana University-Purdue University Indianapolis \n\n\n\nWhat You Will Learn: \n\nWhat does the Americans with Disabilities Act cover regarding access rights for service dogs\nHow is a service dog selected for certain jobs or disabilities\, and what type of training is required\nWhat types of service dogs exist and what is the process to obtain one\n\n\n\n\n\n\n\nCo-produced with: Chemists with Disabilities (CWD) Committee\, ACS Department of Diversity Programs\, and ACS Diversity\, Inclusion & Respect Advisory Board
URL:https://www.siliconvalleyacs.org/event/acs-webinar-service-dogs-in-your-chemistry-lab/
LOCATION:Virtual
CATEGORIES:ACS Webinars
ATTACH;FMTTYPE=image/png:https://www.siliconvalleyacs.org/wp-content/uploads/2021/09/ACS-Webinar-Service-Dogs.png
END:VEVENT
BEGIN:VEVENT
DTSTART;TZID=America/Los_Angeles:20210916T200000
DTEND;TZID=America/Los_Angeles:20210916T213000
DTSTAMP:20260423T211602
CREATED:20210904T153126Z
LAST-MODIFIED:20210904T153511Z
UID:17503-1631822400-1631827800@www.siliconvalleyacs.org
SUMMARY:ACS Webinar: Designing Around Structural Alerts in Drug Discovery
DESCRIPTION:Date: Friday\, September 17\, 2021 @ 2-3:15pm ET\nSpeaker: Nick Meanwell\, Bristol-Myers Squibb\nModerator: Deepak Dalvie\, Crinetics Pharmaceuticals \n\n\n\nWhat You Will Learn: \n\nThe identity of structural alerts that have been associated with problems in drug discovery and development\nThe fundamental mechanistic organic chemistry subtending structural alerts that are subject to bioactivation\nStrategies and tactics to design around structural alerts\n\n\n\n\n\n\n\nCo-produced with: ACS Division of Medicinal Chemistry\, American Association of Pharmaceutical Scientists\, and ACS Publications
URL:https://www.siliconvalleyacs.org/event/acs-webinar-designing-around-structural-alerts-in-drug-discovery/
LOCATION:Virtual
CATEGORIES:ACS Webinars
ATTACH;FMTTYPE=image/png:https://www.siliconvalleyacs.org/wp-content/uploads/2021/09/ACS-Webinars-Designing-Around-Structural-Alerts-in-Drug-Discovery.png
END:VEVENT
BEGIN:VEVENT
DTSTART;TZID=America/Los_Angeles:20210914T200000
DTEND;TZID=America/Los_Angeles:20210914T213000
DTSTAMP:20260423T211602
CREATED:20210904T152744Z
LAST-MODIFIED:20210904T152744Z
UID:17500-1631649600-1631655000@www.siliconvalleyacs.org
SUMMARY:ACS Webinar: Advancing Polymer Science with Organic Catalysts
DESCRIPTION:Date: Wednesday\, September 15\, 2021 @ 2-3:30pm ET\nSpeakers: Andrew Dove\, University of Birmingham\, UK and Robert Waymouth\, Stanford University\nModerator: Rachel Letteri\, University of Virginia \n\n\n\nWhat You Will Learn: \n\nApplication of organic catalysts for stereocontrolled step growth polymerization\nDevelopment of high temperature organic catalysts for polymerization and depolymerization\nUsing organic catalysts to selectively depolymerize plastic mixtures\nNew designs for ultrafast organocatalytic polymerization reactions\nSynergies between continuous flow chemistry and rapid organocatalytic polymerization reactions\nNew catalysts enabling the design of emerging functional materials for gene delivery\n\n\n\n\n\n\n\nCo-produced with: ACS Division of Polymer Chemistry
URL:https://www.siliconvalleyacs.org/event/acs-webinar-advancing-polymer-science-with-organic-catalysts/
LOCATION:Virtual
CATEGORIES:ACS Webinars
ATTACH;FMTTYPE=image/png:https://www.siliconvalleyacs.org/wp-content/uploads/2021/09/ACS-Webinar-Advancing-Polymer-Science-with-Organic-Catalysts.png
END:VEVENT
END:VCALENDAR