BEGIN:VCALENDAR
VERSION:2.0
PRODID:-//SVACS - ECPv6.15.1.1//NONSGML v1.0//EN
CALSCALE:GREGORIAN
METHOD:PUBLISH
X-WR-CALNAME:SVACS
X-ORIGINAL-URL:https://www.siliconvalleyacs.org
X-WR-CALDESC:Events for SVACS
REFRESH-INTERVAL;VALUE=DURATION:PT1H
X-Robots-Tag:noindex
X-PUBLISHED-TTL:PT1H
BEGIN:VTIMEZONE
TZID:America/Los_Angeles
BEGIN:DAYLIGHT
TZOFFSETFROM:-0800
TZOFFSETTO:-0700
TZNAME:PDT
DTSTART:20250309T100000
END:DAYLIGHT
BEGIN:STANDARD
TZOFFSETFROM:-0700
TZOFFSETTO:-0800
TZNAME:PST
DTSTART:20251102T090000
END:STANDARD
END:VTIMEZONE
BEGIN:VEVENT
DTSTART;TZID=America/Los_Angeles:20250709T110000
DTEND;TZID=America/Los_Angeles:20250709T110000
DTSTAMP:20260423T211546
CREATED:20250706T072428Z
LAST-MODIFIED:20250706T072428Z
UID:21904-1752058800-1752058800@www.siliconvalleyacs.org
SUMMARY:Different Minds\, Shared Goals: Building Supportive Mentoring Relationships for Neurodivergent Students in Grad School
DESCRIPTION:Sponsored by ACS Webinars and ACS Chemists with Disabilities Committee \n11:00 am-Noon\, Online\, Free\, Registration required
URL:https://www.siliconvalleyacs.org/event/different-minds-shared-goals-building-supportive-mentoring-relationships-for-neurodivergent-students-in-grad-school/
CATEGORIES:ACS Webinars
ATTACH;FMTTYPE=image/png:https://www.siliconvalleyacs.org/wp-content/uploads/2023/11/Teaching-Chemistry-to-Students-with-Disabilities.png
END:VEVENT
BEGIN:VEVENT
DTSTART;TZID=America/Los_Angeles:20250717T110000
DTEND;TZID=America/Los_Angeles:20250717T123000
DTSTAMP:20260423T211546
CREATED:20250710T061652Z
LAST-MODIFIED:20250710T061652Z
UID:21921-1752750000-1752755400@www.siliconvalleyacs.org
SUMMARY:How to use AI to Supercharge your Research and Communication
DESCRIPTION:Sponsored by ACS Webinars and ACS Committee on Public Relations and Communications \n11:00 am-12:15 pm\, Online\, Free\, Registration required
URL:https://www.siliconvalleyacs.org/event/how-to-use-ai-to-supercharge-your-research-and-communication/
LOCATION:Virtual
CATEGORIES:ACS Webinars
ATTACH;FMTTYPE=image/jpeg:https://www.siliconvalleyacs.org/wp-content/uploads/2023/09/Adapting-to-AI-in-Peer-Review.jpg
END:VEVENT
BEGIN:VEVENT
DTSTART;TZID=America/Los_Angeles:20250731T080000
DTEND;TZID=America/Los_Angeles:20250731T213000
DTSTAMP:20260423T211546
CREATED:20250710T062752Z
LAST-MODIFIED:20250710T062752Z
UID:21929-1753948800-1753997400@www.siliconvalleyacs.org
SUMMARY:Working Worlds Apart: How to be Successful on Global Teams
DESCRIPTION:Sponsored by ACS Webinars and ACS Industry Member Programs \n8:00-9:15 am\, Online\, Free\, Registration required
URL:https://www.siliconvalleyacs.org/event/working-worlds-apart-how-to-be-successful-on-global-teams/
LOCATION:Virtual
CATEGORIES:ACS Webinars
END:VEVENT
END:VCALENDAR