BEGIN:VCALENDAR
VERSION:2.0
PRODID:-//SVACS - ECPv6.15.1.1//NONSGML v1.0//EN
CALSCALE:GREGORIAN
METHOD:PUBLISH
X-WR-CALNAME:SVACS
X-ORIGINAL-URL:https://www.siliconvalleyacs.org
X-WR-CALDESC:Events for SVACS
REFRESH-INTERVAL;VALUE=DURATION:PT1H
X-Robots-Tag:noindex
X-PUBLISHED-TTL:PT1H
BEGIN:VTIMEZONE
TZID:America/Los_Angeles
BEGIN:DAYLIGHT
TZOFFSETFROM:-0800
TZOFFSETTO:-0700
TZNAME:PDT
DTSTART:20240310T100000
END:DAYLIGHT
BEGIN:STANDARD
TZOFFSETFROM:-0700
TZOFFSETTO:-0800
TZNAME:PST
DTSTART:20241103T090000
END:STANDARD
END:VTIMEZONE
BEGIN:VEVENT
DTSTART;TZID=America/Los_Angeles:20240208T110000
DTEND;TZID=America/Los_Angeles:20240208T120000
DTSTAMP:20260424T145445
CREATED:20240110T064653Z
LAST-MODIFIED:20240110T064653Z
UID:20646-1707390000-1707393600@www.siliconvalleyacs.org
SUMMARY:Better Ion Transport Through Polymer Chemistry: Polymer Electrolytes and Ion-conducting Membranes
DESCRIPTION:Sponsored by ACS Webinars and ACS Polymer Chemistry Division\n11 am-Noon\, Online via Zoom\, Free\, Registration required\n\nElectrochemical processes in devices like solar cells\, fuel cells\, lithium batteries\, and water desalination systems rely on the safe\, efficient\, and robust transport of anions and cations between electrodes — all made possible by polymer chemistry! \n\n\n\nJoin two experts working on advances in polymer technology for use in the next generation of ion transport systems. First\, Alexei Sokolov\, ORNL/UT Governor’s Chair and Professor of Chemistry and Physics at the University of Tennessee\, will introduce you to this exciting time of progress in the field of polymer electrolytes. Prof. Sokolov will provide an overview of the microscopic mechanisms controlling ion transport in polymer electrolytes\, present recent achievements in the design of polymer electrolytes with high conductivity at ambient temperatures and share several examples of polymer-based solid-state batteries. Previous generations of batteries rely on liquid electrolytes to carry ionic charges\, but new polymer electrolytes are reaching a level of conductivity that will enable solid state batteries with significant gains in energy density\, robustness\, and safety. \nThen\, Michael A. Hickner\, the Craig A. Rogerson Endowed Professor in the Department of Chemical Engineering and Materials Science at Michigan State University\, will zoom out to describe how mechanically tough polymer membranes with high ionic conductivity control the flow of electrolytes in the ion transport system. Prof. Hickner will cover key aspects of the synthesis of acid- and base-containing polymers that are used as proton and hydroxide exchange membranes in electrochemical devices\, including the relationship between the membrane’s polymer backbone\, ion content\, and water uptake. Prof. Hickner will also describe the role of water in conducting protons and hydroxide anions and provide examples of other key applications for ion-containing polymers. \nThis ACS Webinar is moderated by X. Chelsea Chen\, R&D Staff Polymer Scientist\, Oak Ridge National Laboratory\, and co-produced with the ACS Division of Polymer Chemistry. \n\n\n\n\n\n\nWhat You Will Learn\n\nFundamentals of ion transport in polymers\nRecent achievements in design of polymer electrolytes with high ionic conductivity\nAdvantages of polymer-based solid-state batteries\nSynthesis of acidic and basic polymers for use in ion-conducting membranes\nThe role of water in conduction of protons and hydroxide anions\nKey applications for ion-containing polymers
URL:https://www.siliconvalleyacs.org/event/better-ion-transport-through-polymer-chemistry-polymer-electrolytes-and-ion-conducting-membranes/
LOCATION:Virtual
CATEGORIES:ACS Webinars
ATTACH;FMTTYPE=image/png:https://www.siliconvalleyacs.org/wp-content/uploads/2024/01/Better-Ion-Transport.png
END:VEVENT
BEGIN:VEVENT
DTSTART;TZID=America/Los_Angeles:20240215T110000
DTEND;TZID=America/Los_Angeles:20240215T120000
DTSTAMP:20260424T145445
CREATED:20240110T065311Z
LAST-MODIFIED:20240110T065311Z
UID:20649-1707994800-1707998400@www.siliconvalleyacs.org
SUMMARY:Eating Dangerously: How a Chemist’s “Poison Squad” Won the Battle for Food Safety in the US
DESCRIPTION:Sponsored by ACS Webinars and ACS History of Chemistry Division\n11 am-Noon\, Online via Zoom\, Free\, Registration required\n\nIn the late 19th century\, simply eating food could be a genuine hazard. To increase the shelf life of their products\, food manufacturers intentionally added dangerous chemicals like formaldehyde and salicylic acid to everything from milk to meat without any of the regulatory oversight that we take for granted today. \n\n\n\nJoin Pulitzer Prize winner and New York Times-bestselling author Deborah Blum as she reveals the dramatic true story of how food was made safer in the United States during a 30-year food safety battle for consumer protection by chemist Dr. Harvey Washington Wiley and his heroic Poison Squad. \nRegister now to discover the surprisingly thrilling history of food safety standards in America – a story of politics\, poison and a federal chemist turned crusader who took us from a century deemed the “great American stomachache” to the landmark 1906 Food and Drug Act. \nThis ACS Webinar is moderated by Carmen J. Giunta\, Professor Emeritus of Le Moyne College and is co-produced with the ACS Division of the History of Chemistry. \n\n\n\n\n\n\nWhat You Will Learn\n\nWhat the US food supply was like before regulation\nHow 19th century food chemists investigated the problem\nThe science and the politics of the first consumer safety laws – and their continuing influence
URL:https://www.siliconvalleyacs.org/event/eating-dangerously-how-a-chemists-poison-squad-won-the-battle-for-food-safety-in-the-us/
LOCATION:Virtual
CATEGORIES:ACS Webinars
ATTACH;FMTTYPE=image/png:https://www.siliconvalleyacs.org/wp-content/uploads/2024/01/Eating-Dangerously-webinar.png
END:VEVENT
END:VCALENDAR