BEGIN:VCALENDAR
VERSION:2.0
PRODID:-//SVACS - ECPv6.15.1.1//NONSGML v1.0//EN
CALSCALE:GREGORIAN
METHOD:PUBLISH
X-WR-CALNAME:SVACS
X-ORIGINAL-URL:https://www.siliconvalleyacs.org
X-WR-CALDESC:Events for SVACS
REFRESH-INTERVAL;VALUE=DURATION:PT1H
X-Robots-Tag:noindex
X-PUBLISHED-TTL:PT1H
BEGIN:VTIMEZONE
TZID:America/Los_Angeles
BEGIN:DAYLIGHT
TZOFFSETFROM:-0800
TZOFFSETTO:-0700
TZNAME:PDT
DTSTART:20240310T100000
END:DAYLIGHT
BEGIN:STANDARD
TZOFFSETFROM:-0700
TZOFFSETTO:-0800
TZNAME:PST
DTSTART:20241103T090000
END:STANDARD
END:VTIMEZONE
BEGIN:VEVENT
DTSTART;TZID=America/Los_Angeles:20240119T100000
DTEND;TZID=America/Los_Angeles:20240119T110000
DTSTAMP:20260424T161256
CREATED:20240110T010205Z
LAST-MODIFIED:20240110T010205Z
UID:20618-1705658400-1705662000@www.siliconvalleyacs.org
SUMMARY:Frontier Fridays: Sorbent-based Direct Air Capture of CO₂ at Scale
DESCRIPTION:Sponsored by ACS Webinars and ACS Committee on Science\n10-11 am\, Online via Zoom\, Free\, Registration required\n\nAccording to the International Energy Agency (IEA)\, direct air capture (DAC) is currently operating at just 18 plants worldwide and only collecting 0.01 million metric tons of CO2 combined per year. To stay on track to meet IEA 2050 net zero goals and limit global warming to 1.5˚C\, DAC will need to scale up to capture 60 million metric tons per year worldwide by 2030 alone. So\, limiting factors\, including cost\, materials\, thermal and fluid management\, process engineering and advanced manufacturing need to be addressed quickly! \n\n\n\nDavid Moore\, the Carbon Capture Technology Leader for GE Vernova Advanced Research\, and his group are preparing to scale up their promising sorbent-based DAC system by more than 20-fold for a new round of testing in 2024. This project grew out of previous efforts to capture water from arid desert air for the Defense Advanced Research Projects Agency (DARPA)\, and is a prime example of how novel solutions like DAC can arise through partnerships between US Government agencies\, academia\, and industry. By seamlessly coupling experimentation and computation\, including the use of advanced machine learning methods\, sorbent materials and sorbent-binder formulations were discovered to create a coating that\, when covering a large surface area of a heat exchanger\, will act like a sponge to pull CO2 out of the air and transfer it to other parts of the DAC system for processing into a storable or usable form. \nRegister now to learn about this promising contribution to the growing landscape of carbon capture science\, how this system addresses limiting factors to scaling up DAC\, and the strategic ways that General Electric’s team collaborated with external partners in government and academia to advance their work. This ACS Webinar is moderated by Young-Shin Jun (Chair of Science & Technology Subcommittee of the ACS Committee on Science) of the Washington University in St. Louis and is co-produced with the ACS Committee on Science. \n\n\n\n\n\n\nWhat You Will Learn\n\nWhat is sorbent-based direct air CO2 capture and how experimentally-derived structure-property-performance relationships coupled with machine learning play a role in the iterative advancement of sorbent materials\nHow scaling up direct air carbon capture will depend on intersecting innovations across materials\, thermal and fluid management\, process engineering and advanced manufacturing\nHow partnerships across government\, academia\, and industry are critical to large-scale scientific advancement
URL:https://www.siliconvalleyacs.org/event/frontier-fridays-sorbent-based-direct-air-capture-of-co%e2%82%82-at-scale/
LOCATION:Virtual
CATEGORIES:ACS Webinars
ATTACH;FMTTYPE=image/png:https://www.siliconvalleyacs.org/wp-content/uploads/2024/01/Frontier-Fridays-Sorbent-based-co2-capture.png
END:VEVENT
BEGIN:VEVENT
DTSTART;TZID=America/Los_Angeles:20240125T110000
DTEND;TZID=America/Los_Angeles:20240125T120000
DTSTAMP:20260424T161256
CREATED:20240110T012406Z
LAST-MODIFIED:20240110T012406Z
UID:20626-1706180400-1706184000@www.siliconvalleyacs.org
SUMMARY:The Formula for Successful Interviews
DESCRIPTION:Sponsored by ACS Webinars\, ACS Business Development & Management Division\, ACS Professional Relations Division\n11 am-Noon\, Online via Zoom\, Free\, Registration required\n\nWhile your experience and publication count might earn you the opportunity to interview for a position\, more often than not\, the candidate who performs best during the interview gets the job. \n\n\n\nJoin Patricia Simpson\, Director of Chemical Sciences Academic Advising and Career Services at the University of Illinois at Urbana-Champaign as she describes what employers look for when interviewing candidates\, how you can best demonstrate your skills and abilities\, and how you can seamlessly incorporate what you’ve learned about an employer into any type of interview. Register now to discover how to successfully demonstrate why you are the best fit for your next job opportunity even if you might not have everything an employer is seeking on paper. \nThis ACS Webinar is moderated by Matt Grandbois\, Strategic Partnership Manager of DuPont Electronics & Industrial and is co-produced by ACS Division of Business Development and Management and the ACS Division of Professional Relations. \n\n\n\n\n\n\nWhat You Will Learn\n\nHow to start networking in order to build leads and gain knowledge about potential employers\nTechniques for presenting your best self during interviews\, including the STAR method and personalized preparation\, in a way the interviewer wants to hear\nHow to navigate various types of interview settings (phone\, virtual\, on-site\, etc.) with confidence and leave a lasting impression\n\n\n\n\n\n\n\nWebinar Details\n\nThursday\, January 25\, 2024 @ 2-3pm ET\nFree to register with ACS ID\nSlides will be available on the day of the Live event
URL:https://www.siliconvalleyacs.org/event/the-formula-for-successful-interviews/
LOCATION:Virtual
CATEGORIES:ACS Webinars
ATTACH;FMTTYPE=image/png:https://www.siliconvalleyacs.org/wp-content/uploads/2024/01/Formula-for-successful-interviews.png
END:VEVENT
BEGIN:VEVENT
DTSTART;TZID=America/Los_Angeles:20240131T110000
DTEND;TZID=America/Los_Angeles:20240131T120000
DTSTAMP:20260424T161256
CREATED:20240110T014300Z
LAST-MODIFIED:20240110T014300Z
UID:20634-1706698800-1706702400@www.siliconvalleyacs.org
SUMMARY:How to Make Your Communication Accessible: The Newly Expanded ACS Inclusivity Style Guide
DESCRIPTION:Sponsored by ACS Webinars and EIE\n11 am-Noon\, Online via Zoom\, Free\, Registration required\n\nInclusive communication considers word choice\, formatting\, image selection\, and the accessibility of your content to all audiences. The term “accessibility” is commonly misunderstood or defined so broadly that it can be difficult for some people to make improvements. \n\n\n\nJoin Associate Director Racquel Jemison of the Office of DEIR at ACS as she defines accessibility in three contexts: the use of plain language\, compatibility with assistive technologies\, and design and formatting. Register now to discover how to incorporate accessibility in your writing or communication projects as well as a range of easy-to-apply activities for many forms of communication ranging from peer-reviewed technical papers to social media posts. \nThis ACS Webinar is moderated by Victoria Fuentes of the American Chemical Society and is co-produced with the ACS Office of Diversity\, Equity\, Inclusion and Respect (DEIR). \n\n\n\n\n\n\nWhat You Will Learn\n\nThe importance of accessibility as a form of equity\nHow to plan and design a communication project with accessibility in mind\nSimple methods to make your content more accessible for all\n\n\n\n\nWebinar Details\n\nWednesday\, January 31\, 2024 @ 2-3pm ET\nFree to register with ACS ID\nSlides will be available on the day of the Live event\n\n\n\n\n\n\n\nAdditional Resource\n\nACS Inclusivity Style Guide – This guide aims to help American Chemical Society staff and members communicate in ways that recognize and respect diversity in all its forms.
URL:https://www.siliconvalleyacs.org/event/how-to-make-your-communication-accessible-the-newly-expanded-acs-inclusivity-style-guide/
LOCATION:Virtual
CATEGORIES:ACS Webinars
ATTACH;FMTTYPE=image/png:https://www.siliconvalleyacs.org/wp-content/uploads/2024/01/Accessible-communication.png
END:VEVENT
END:VCALENDAR